BEGIN:VCALENDAR
VERSION:2.0
PRODID:-//Europebookings - ECPv6.15.20//NONSGML v1.0//EN
CALSCALE:GREGORIAN
METHOD:PUBLISH
X-WR-CALNAME:Europebookings
X-ORIGINAL-URL:https://europebookings.com
X-WR-CALDESC:Events for Europebookings
REFRESH-INTERVAL;VALUE=DURATION:PT1H
X-Robots-Tag:noindex
X-PUBLISHED-TTL:PT1H
BEGIN:VTIMEZONE
TZID:Asia/Nicosia
BEGIN:DAYLIGHT
TZOFFSETFROM:+0200
TZOFFSETTO:+0300
TZNAME:EEST
DTSTART:20220327T010000
END:DAYLIGHT
BEGIN:STANDARD
TZOFFSETFROM:+0300
TZOFFSETTO:+0200
TZNAME:EET
DTSTART:20221030T010000
END:STANDARD
BEGIN:DAYLIGHT
TZOFFSETFROM:+0200
TZOFFSETTO:+0300
TZNAME:EEST
DTSTART:20230326T010000
END:DAYLIGHT
BEGIN:STANDARD
TZOFFSETFROM:+0300
TZOFFSETTO:+0200
TZNAME:EET
DTSTART:20231029T010000
END:STANDARD
BEGIN:DAYLIGHT
TZOFFSETFROM:+0200
TZOFFSETTO:+0300
TZNAME:EEST
DTSTART:20240331T010000
END:DAYLIGHT
BEGIN:STANDARD
TZOFFSETFROM:+0300
TZOFFSETTO:+0200
TZNAME:EET
DTSTART:20241027T010000
END:STANDARD
BEGIN:DAYLIGHT
TZOFFSETFROM:+0200
TZOFFSETTO:+0300
TZNAME:EEST
DTSTART:20250330T010000
END:DAYLIGHT
BEGIN:STANDARD
TZOFFSETFROM:+0300
TZOFFSETTO:+0200
TZNAME:EET
DTSTART:20251026T010000
END:STANDARD
END:VTIMEZONE
BEGIN:VEVENT
DTSTART;VALUE=DATE:20231014
DTEND;VALUE=DATE:20231206
DTSTAMP:20260425T181722
CREATED:20230120T115747Z
LAST-MODIFIED:20231121T162858Z
UID:67220-1697241600-1701820799@europebookings.com
SUMMARY:Madonna Concert Tickets
DESCRIPTION:Get TicketsAccommodation\nMadonna announced Madonna: The Celebration Tour\, in an iconic viral video with a wink to her groundbreaking film Truth or Dare. The video (click here for trailer version) features notable names such as Diplo\, Judd Apatow\, Jack Black\, Lil Wayne\, Bob The Drag Queen\, Kate Berlant\, Larry Owens\, Meg Stalter\, Eric Andre and culminates with Amy Schumer daring the global superstar to go on tour and perform her four decades of mega hits. Madonna\, the best-selling female solo touring artist of all time\, rises to the challenge announcing The Celebration Tour which will be highlighting her unmatched catalog of music from the past 40 plus years. \nProduced by Live Nation\, the 35-city global tour will kick off in North America on Saturday\, July 15th at Rogers Arena in Vancouver\, BC with stops in Detroit\, Chicago\, New York\, Miami\, Los Angeles\, and more before making its way to Europe where she will hit 11 cities throughout the fall\, including London\, Barcelona\, Paris\, and Stockholm\, among others. The Celebration Tour will wrap in Amsterdam\, NL on Friday\, December 1st at Ziggo Dome. \nThe Celebration Tour will take us on Madonna’s artistic journey through four decades and pays respect to the city of New York where her career in music began. “I am excited to explore as many songs as possible in hopes to give my fans the show they have been waiting for\,” states Madonna. \nThe Celebration Tour will offer a one-of-a-kind experience with special guest Bob the Drag Queen a.k.a. Caldwell Tidicue across all dates on the global tour. \n\nMadonna Concert Tickets & Tour 2023\n23 & 25 Nov – Mediolanum Forum\, Milan\, ItalyBuy Tickets28 & 29 Nov – Mercedes-Benz Arena\, Berlin\, GermanyBuy Tickets1 & 2 Dec – Ziggo Dome\, Amsterdam\, NetherlandsBuy Tickets5 & 6 Dec – The O2\, London\, UKBuy TicketsAccommodation\nBook your accommodation in any city (type destination & add dates) using the interactive map below or visit booking.com \nBooking.comBook Hotels & Airbnbs near the Venue at the Lowest Price online!\n\nBook FlightsAirport TransfersCar RentalsTrain/Bus Tickets\nRelated Concerts\nSting Concert Tickets\n12 Sep – 13 Dec | North Ameria\, Europe\nThe 1975 Concert Tickets\n9 Feb 2024 – 22 Mar 2024 | Europe\n		\n			\n\n				\n				\n					Search for:
URL:https://europebookings.com/festival/madonna-concert-tickets/
LOCATION:Various Venues
CATEGORIES:Concerts,Pop
ATTACH;FMTTYPE=image/jpeg:https://europebookings.com/wp-content/uploads/madonna-concert-tickets-celebration-tour.jpg
END:VEVENT
BEGIN:VEVENT
DTSTART;VALUE=DATE:20231031
DTEND;VALUE=DATE:20231101
DTSTAMP:20260425T181722
CREATED:20230911T134220Z
LAST-MODIFIED:20231028T170036Z
UID:73406-1698710400-1698796799@europebookings.com
SUMMARY:Neopop presents Halloween
DESCRIPTION:Get TicketsAccommodationTravel Info\nNeopop Presents Halloween on 31 October at the Super Bock Arena\, Pavilhão Rosa Mota\, with a truly haunting lineup. \nStarting with Paul Kalkbrenner\, an electronic music talent who over two decades has emerged from the underground to the top of the sales charts\, act in and soundtrack a movie\, and continues to headline festivals and amass millions of fans\, all while refusing to compromise his grand techno sound. \nAlongside the Berliner\, we have the Madrilenian Indira Paganotto\, a figure who has been gaining increasing prominence in the international scene for her distinctive and energetic approach to DJ sets: an explosive blend of psy-trance and techno that is equally effective at large outdoor festivals as well as in the most intimate underground clubs. \nMathame is the project born on the slopes of Mount Etna in Sicily and shared by brothers Matteo and Amedeo Giovanelli\, whose melodic techno\, filled with emotive and cinematic soundscapes\, has been winning fans on all the major world stages they have graced. \nTo close out this luxury lineup\, we also have the national talent represented by Gusta-vo b2b Frank Maurel\, and Luisa\, in an event starting at 10:00 PM and ending at 8:00 AM. \n\nNeopop presents Halloween 2023 Lineup\nAll ArtistsPaul Kalkbrenner / Indira Paganotto / Mathame / Gusta-Vo / Frank Maurel / LuisaNeopop presents Halloween 2023 Tickets\nGeneral Admission Tickets from €44.00 are on sale:\nTicketsNeopop presents Halloween\nvia Official SiteBookNeopop Festival\n8 Aug – 10 Aug | Viana do Castelo\, Portugal\nTICKETS ON SALE \nAccommodation\nThe city of Porto offers a wide range of accommodation options. Book your stay for Neopop presents Halloween using the map below or visit booking.com \nBooking.comBook Hotels & Airbnbs near the Venue at the Lowest Price online!\n\nTravel Info\nBY CAR\nGet DirectionsBY Train\nPorto is well connected by rail in Portugal and main European cities. \nBY PLANE\nFrom Porto Airport (OPO)take the Bus to Palácio (31 min journey)\, 500 meters away from the venue. You can also take the subway to Carolina Michaelis Station (24 min journey) and then a short 5 min taxi ride (2 km) to the venue. Alternatively you can take a short 12 min taxi ride to the venue. \nBook FlightsAirport TransfersCar RentalsTrain/Bus Tickets\nGallery\nRelated Festivals\nDGTL Amsterdam\n3 Apr – 5 Apr | Amsterdam\, Netherlands\nFree Your Mind Festival\n6 Jun – 7 Jun | Utrecht\, Netherlands\n		\n			\n\n				\n				\n					Search for:
URL:https://europebookings.com/festival/neopop-presents-halloween/
LOCATION:Super Bock Arena\, Jardins do Palácio de Cristal\, R. de Dom Manuel II\, Porto\, 4050-346\, Portugal
CATEGORIES:Electronic,Techno
ATTACH;FMTTYPE=image/jpeg:https://europebookings.com/wp-content/uploads/neopop-presents-halloween-2023.jpg
END:VEVENT
BEGIN:VEVENT
DTSTART;VALUE=DATE:20241114
DTEND;VALUE=DATE:20241118
DTSTAMP:20260425T181722
CREATED:20210714T165742Z
LAST-MODIFIED:20240730T191104Z
UID:45360-1731542400-1731887999@europebookings.com
SUMMARY:Positive Education Festival
DESCRIPTION:Get TicketsAccommodationTravel Info\nPositive Education Festival 2024 is an unparalleled experience held from November 14th to 17th in Saint-Étienne\, France. This vibrant festival\, renowned for its innovative approach to electronic music\, transforms the Parc Expo into an electrifying playground for both artists and attendees. \nBy day\, immerse yourself in concerts\, conferences\, and workshops at the iconic Le Clapier\, a converted train station that now pulses with creative energy. By night\, the festival shifts to Parc Expo\, offering a spectrum of performances from techno legends to emerging talents\, including Anetha\, HiTech\, Crystallmess\, and Goldie. \nPositive Education Festival is not just about music; it’s a holistic cultural experience. The festival embraces diversity\, inclusivity\, and discovery\, creating a safe space where music and art merge seamlessly. The 2024 edition promises an expanded scale and enriched artistic programme\, ensuring every moment is immersive and unforgettable ￼. \nJoin us in celebrating the avant-garde spirit of electronic music\, where every beat and note are not just heard but deeply felt and lived. Don’t miss out on this extraordinary journey into sound and community. \n\nPositive Education Festival 2024 Lineup\nAll Artists & Program\nThu 14 Nov 2024\n@ Parc Expo\nAïsha Devi Live / Eva / Fanny / Lisa More & TTristana / Oklou Live / Raphael \nFri 15 Nov 2024\nDay @ Clapier\nAaron J / Bitter Babe / Brahim Lumière / Gi Live / Le Motel & Magugu / OJOO & Ossia / Solma / Volodymyr Gnatenko Live \nNight @ Parc Expo\nAnetha / Crystallmess / Different Shades / E L A / Fadi Mohem Live / Formant Value Live / Funk Assault (Chlär Vs. Alarico) / Goldie / HiTech Live / Katatonic Silentio Live / Mia Koden / Nastia / Objekt & Konduku / Planetary Assault Systems Live / PTT.SNT / Salma Rosa & Erevan DJ / The Bug & Flowdan Live / Trois-Quarts Taxi System Live \nSat 16 Nov 2024\nDay @ Clapier\nDJ Sweet6teen / Eris Drew & Octo Octa / Farkoner / Klahrk Live / Mi-El / Ophélie / Orokaiva \nNight @ Parc Expo\nAerae / Andy Garvey / Bae Blade / Brum / Carrier Live / Dax J / I Hate Models / Lala &ce Live / LB Aka LABAT & DJ Gigola / Mama Snake / Marco Maldarella / Mooki6 / Overmono / Raär Live / Vert Boucan Soundsystem \nSun 17 Nov 2024\nAfter @ Clapier\nA Strange Wedding / ABS8LUTE / CCL & Simo Cell / Christian Coiffure Live / EMA / Joanna OJ / Quelza / UnspentPositive Education Festival 2024 Tickets\n1-Day\, 2-Day & 3-Day Tickets from €18.99 are on sale:\nTicketsPositive Education\nvia Official SiteBookAccommodation\nThe city of Saint-Étienne offers a wide range of accommodation options. Book your stay for Positiv Education Festival using the map below or visit booking.com \nBooking.comBook Hotels & Airbnbs near the Venue at the Lowest Price online!\n\nTravel Info\nBY CAR\nGet DirectionsBY TRAIN\nSaint-Étienne is well connected by rail in France and major European cities. From Saint-Étienne Châteaucreux take the train to Saint-Étienne Carnot (2 min journey)\, just a short 6 min walk to the venue. \nBY PLANE\nFrom Saint-Étienne–Loire Airport (EBU) take the train to Saint-Étienne La Terrasse (9 min journey) and from there take the tram to to Cite Du Design (7 min journey)\, just 150 meters away from the venue. \nBook FlightsAirport TransfersCar RentalsTrain/Bus Tickets\nGallery\nRelated Festivals\nKappa Futur Festival\n4 Jul – 6 Jul | Turin\, Italy\nUltra Europe Festival\n11 Jul – 13 Jul | Split\, Croatia\n		\n			\n\n				\n				\n					Search for:
URL:https://europebookings.com/festival/positive-education/
LOCATION:La Cité du design\, La Cité du design\, 3 Rue Javelin Pagnon\, Saint-Étienne\, 42000 S\, France
CATEGORIES:Electronic
ATTACH;FMTTYPE=image/jpeg:https://europebookings.com/wp-content/uploads/positive-education-festival-2024.jpg
END:VEVENT
END:VCALENDAR