BEGIN:VCALENDAR
VERSION:2.0
PRODID:-//Europebookings - ECPv6.15.20//NONSGML v1.0//EN
CALSCALE:GREGORIAN
METHOD:PUBLISH
X-WR-CALNAME:Europebookings
X-ORIGINAL-URL:https://europebookings.com
X-WR-CALDESC:Events for Europebookings
REFRESH-INTERVAL;VALUE=DURATION:PT1H
X-Robots-Tag:noindex
X-PUBLISHED-TTL:PT1H
BEGIN:VTIMEZONE
TZID:Asia/Nicosia
BEGIN:DAYLIGHT
TZOFFSETFROM:+0200
TZOFFSETTO:+0300
TZNAME:EEST
DTSTART:20230326T010000
END:DAYLIGHT
BEGIN:STANDARD
TZOFFSETFROM:+0300
TZOFFSETTO:+0200
TZNAME:EET
DTSTART:20231029T010000
END:STANDARD
BEGIN:DAYLIGHT
TZOFFSETFROM:+0200
TZOFFSETTO:+0300
TZNAME:EEST
DTSTART:20240331T010000
END:DAYLIGHT
BEGIN:STANDARD
TZOFFSETFROM:+0300
TZOFFSETTO:+0200
TZNAME:EET
DTSTART:20241027T010000
END:STANDARD
BEGIN:DAYLIGHT
TZOFFSETFROM:+0200
TZOFFSETTO:+0300
TZNAME:EEST
DTSTART:20250330T010000
END:DAYLIGHT
BEGIN:STANDARD
TZOFFSETFROM:+0300
TZOFFSETTO:+0200
TZNAME:EET
DTSTART:20251026T010000
END:STANDARD
END:VTIMEZONE
BEGIN:VEVENT
DTSTART;VALUE=DATE:20240207
DTEND;VALUE=DATE:20241124
DTSTAMP:20260422T111918
CREATED:20231016T122847Z
LAST-MODIFIED:20240615T105547Z
UID:74695-1707264000-1732406399@europebookings.com
SUMMARY:Taylor Swift Concert Tickets
DESCRIPTION:Get TicketsAccommodation\nTaylor Swift’s The Eras Tour effortlessly reignites the awe-inspiring magic synonymous with her name\, weaving an enthralling tapestry of music\, emotion\, and spectacle that transcends the traditional concert experience. Seventeen years deep into her illustrious career\, Swift continues to ascend\, magnificently topping her monumental efforts with a show that Rolling Stone lauds as live music at its “highest spectacle and greatest excess.” The tour blends nostalgia and extravaganza in a three-hour journey\, offering a victory lap for an artist still in her prime. \nSwift\, hailed as “the most dominant artist in popular music” by Billboard\, meticulously unravels the myriad iterations of her storied career throughout the show\, delivering staggering achievements with her signature costume changes\, set-piece upheavals\, and moments of startling vulnerability amidst a sea of adoring fans. The sing-alongs\, potent and ubiquitous\, are set to rival any tour\, validating The Times’ proclamation of this period as “the Taylor Swift Era.” The Independent highlights Swift’s showcased range and versatility\, attributes that have steadfastly cemented her as the most successful singer-songwriter in a hip-hop-defined age. \nIn a spectacle described by Uproxx as “the most impressive stadium show ever conceived\,” Swift’s unwavering devotion to her craft and intimate connection to her lyrics shine luminously\, as evidenced from “Miss Americana” through to “Mastermind.” The Guardian appreciates the inimitable artist’s spectacular kickoff to the ‘Eras’ era\, an epic and indubitably pivotal moment in her ever-evolving career. Even after a five-year hiatus\, The Telegraph celebrates Swift’s return as encapsulating the most “ambitious\, spectacular\, and charming” elements of stadium pop shows ever witnessed. The Eras Tour\, thus\, is not merely a concert but a brilliant beacon of Swift’s undying luminance in the pop music cosmos. \n\nTaylor Swift Concert Tickets\nEurope18 Jun @ Principality Stadium\, Cardiff\, UKBuy Tickets21 - 23 Jun @ Wembley Stadium\, London\, UKBuy Tickets28 - 30 Jun @ Aviva Stadium\, Dublin\, IrelandBuy Tickets04 - 06 Jul @ Amsterdam ArenA\, Amsterdam\, NetherlandsBuy Tickets09 - 10 Jul @ Stadion Letzigrund\, Zurich\, SwitzerlandBuy Tickets13 - 14 Jul @ San Siro Stadium\, Milan\, ItalyBuy Tickets17 - 19 Jul @ Veltins-Arena\, Gelsenkirchen\, GermanyBuy Tickets23 - 24 Jul @ Volksparkstadion\, Hamburg\, GermanyBuy Tickets27 - 28 Jul @ Olympiastadion\, Munich\, GermanyBuy Tickets01 - 03 Aug @ PGE Narodowy\, Warsaw\, PolandBuy Tickets08 - 10 Aug @ Ernst-Happel Stadion\, Vienna\, AustriaBuy Tickets15 - 17 Aug @ Wembley Stadium\, London\, UKBuy Tickets19 Aug @ Wembley Stadium\, London\, UKBuy TicketsUS & Canada18 - 20 Oct @ Hard Rock Stadium\, Miami\, FLBuy Tickets25 - 27 Oct @ Ceasars Superdome\, New Orleans\, LABuy Tickets01 - 03 Nov @ Lucas Oil Stadium\, Indianapolis\, INBook Tickets14 - 16 Nov @ Rogers Centre\, Toronto\, CanadaBook Tickets21 - 23 Nov @ Rogers Centre\, Toronto\, CanadaBook TicketsAccommodation\nBook your accommodation in any city (type destination & add dates) using the interactive map below or visit booking.com \nBooking.comBook Hotels & Airbnbs near the Venue at the Lowest Price online!\n\nBook FlightsAirport TransfersCar RentalsTrain/Bus Tickets\nRelated Concerts\nPink Concert London\n15 Sep 2023 – 23 Mar 2024\nMadonna Concert Tickets\n14 Oct – 5 Dec\n		\n			\n\n				\n				\n					Search for:
URL:https://europebookings.com/festival/taylor-swift-concert-tickets/
LOCATION:Various Venues
CATEGORIES:Concerts,Indie,Pop,Rock
ATTACH;FMTTYPE=image/jpeg:https://europebookings.com/wp-content/uploads/taylor-swift-eras-tours.jpg
END:VEVENT
BEGIN:VEVENT
DTSTART;VALUE=DATE:20240906
DTEND;VALUE=DATE:20240909
DTSTAMP:20260422T111918
CREATED:20190715T201406Z
LAST-MODIFIED:20240730T195617Z
UID:21046-1725580800-1725839999@europebookings.com
SUMMARY:Oasis Festival
DESCRIPTION:Get TicketsAccommodationTravel Info\nGet ready for an extraordinary musical journey at the Oasis Festival 2024\, happening from September 6th to 8th at The Source\, a luxurious resort in Marrakesh. This premier electronic music festival returns to its roots\, offering a unique blend of world-class performances and a stunning setting that encapsulates the essence of North African culture. \nNestled amidst lush gardens and azure pools\, The Source provides an idyllic backdrop just moments from the bustling medina and Marrakech Airport. The festival promises an immersive experience with an eclectic lineup featuring renowned artists like Laurent Garnier\, Joy Orbison\, Sama’ Abdulhadi\, and Jungle. This year’s edition also highlights local Moroccan talents\, ensuring a diverse and inclusive musical showcase. \nWhat sets Oasis Festival apart is its commitment to high-quality production\, exceptional music curation\, and a vibrant community atmosphere. Attendees can expect sun-soaked days and starry nights filled with techno\, house\, and more\, all within a venue designed for both relaxation and revelry. Don’t miss your chance to be part of this iconic event that continues to elevate Morocco’s festival scene. \n\nOasis Festival 2024 Lineup\nAll ArtistsAmine K / Anïa / Anz / Blck Mamba / Capra / Driss Bennis Aka Ocb / Gj Leith / Greg / Guedra Guedra / HAAi / Hi Jane / Joy Orbison / Jungle (DJ Set) / Jyoty / Kosh (Live) / Laurent Garnier / Moon.Wav / NooriYah / Paurro / Polyswitch / Retro Cassetta / Sama’ Abdulhadi / Sodfa / Sound Sisters / Tsha / Yaya / Yu SuOasis Festival 2024 Tickets\nGA & VIP Weekend Pass Tickets from €174.17 are on sale:\nTicketsOasis Festival\nvia Official SiteBookAccommodation\nThe city of Marrakesh offers a wide range of accommodation options. Book your stay using the map below or visit booking.com \nBooking.comBook Hotels & Airbnbs near the Venue at the Lowest Price online!\n\nTravel Info\nBY CAR\nGet DirectionsIf you’re coming from within Morocco\, you can take the train\, bus\, or drive. \nBY PLANE\nIf you’re coming from abroad (or certain parts of Morocco)\, the best option is to fly into Marrakech (RAK)\, Morocco’s second busiest airport and is served by over 30 airlines. \nBook FlightsAirport TransfersCar RentalsTrain/Bus Tickets\nGallery\nRelated Festivals\nDGTL Amsterdam\n3 Apr – 5 Apr | Amsterdam\, Netherlands\nFree Your Mind Festival\n6 Jun – 7 Jun | Utrecht\, Netherlands\n		\n			\n\n				\n				\n					Search for:
URL:https://europebookings.com/festival/oasis-festival/
LOCATION:The Source Marrakech\, The Source\, Hotel\, Music & Spa\, Marrakesh\, G3Q6+WP\, Morocco
CATEGORIES:Electronic,House,Techno
ATTACH;FMTTYPE=image/jpeg:https://europebookings.com/wp-content/uploads/oasis-festival-dance-stage.jpg
END:VEVENT
BEGIN:VEVENT
DTSTART;VALUE=DATE:20240907
DTEND;VALUE=DATE:20240908
DTSTAMP:20260422T111919
CREATED:20181114T145655Z
LAST-MODIFIED:20240731T110000Z
UID:16916-1725667200-1725753599@europebookings.com
SUMMARY:Valhalla Festival
DESCRIPTION:Get TicketsAccommodationTravel Info\nValhalla Festival 2024 promises an unforgettable musical odyssey on September 7th at Riekerhaven in Amsterdam. This circus-themed house and techno festival immerses attendees in a world of carnival performers\, funfair rides\, and enigmatic entertainment. Known for its vibrant and interactive atmosphere\, Valhalla Festival creates a unique and immersive experience that stands out in Europe’s festival scene. \nThe lineup this year includes renowned artists such as Szhongo\, Benny Rodrigues\, and Maqossa\, ensuring a night filled with electrifying performances and pulsating beats. Set in the expansive Riekerhaven\, the festival’s outdoor setting transforms into a playground of lights\, sounds\, and vibrant energy\, perfect for dancing the night away. \nValhalla Festival’s blend of high-quality music\, creative stage designs\, and captivating performances makes it a must-attend event for electronic music lovers. Whether you’re a seasoned festival-goer or a newcomer\, Valhalla Festival offers an unparalleled experience where fantasy meets reality. Secure your tickets now and join the saga. \n\nValhalla Festival 2024 Lineup\nAll Artists & Stages\n\n		AAT / Alamaison / ANO / Antunes / Benaiah / Benny Rodrigues / Bilal Wahib / Bizzey / Damian Andy / Dennis Quin / DJ Aiscream / DJ Mixmeestermike / Doulou / Ekte / Four Soundsystem / Gotu Jim / Hardtog / Invictim / Irwan / K-Liber / La Bunga / Lotte / Maqossa / MC Iceman / Menesix / Mr. Belt & Wezol / NEMS / Noa / Papercuts / Rayzir / Rob De Nice / Rosey Gold / Sam Hofman / Special Guest / Szhongo / TheDonJon / Turfy Gang / Vlado / Walter Looks / Yes-R / Yung Felix\n	 \nValhalla Festival 2024 Tickets\nTickets from €40.50 are on sale:\nTickets\nValhalla Festivalvia Official Site \nBookAccommodation\nThe city of Amsterdam offers a wide range of accommodation options. Book your stay using the interactive map below or visit booking.com \nBooking.comBook Hotels & Airbnbs near the Venue at the Lowest Price online!\n\nTravel Info\nBY CAR\nGet DirectionsBY TRAIN\nAmsterdam is well connected by rail from all major European Cities. From Amsterdam Centraal Station take tram 2 towards Nieuw Sloten and get off at the “Heemstedestraat” stop\, a short walk from the venue. \nBY PLANE\nThe nearest airport is Amsterdam Schiphol Airport (AMS). From the airport take the train to Amsterdam Centraal Station. \nBook FlightsAirport TransfersCar RentalsTrain/Bus Tickets\nGallery\nRelated Festivals\nDGTL Amsterdam\n3 Apr – 5 Apr | Amsterdam\, Netherlands\nFree Your Mind Festival\n6 Jun – 7 Jun | Utrecht\, Netherlands\n		\n			\n\n				\n				\n					Search for:\n													\n											\n				\n				\n					\n										\n									\n\n				\n			\n\n\n							\n			\n		\n		\nAmsterdam Travel Guide
URL:https://europebookings.com/festival/valhalla-festival/
LOCATION:Riekerhaven\, Riekerhaven\, Korfbalstraat\, Amsterdam\, 1062 XK\, Netherlands
CATEGORIES:Electronic,House,Techno
ATTACH;FMTTYPE=image/jpeg:https://europebookings.com/wp-content/uploads/valhalla-festival-amsterdam-celebration-stage.jpg
END:VEVENT
BEGIN:VEVENT
DTSTART;VALUE=DATE:20240907
DTEND;VALUE=DATE:20240909
DTSTAMP:20260422T111919
CREATED:20200122T221528Z
LAST-MODIFIED:20240728T151740Z
UID:31480-1725667200-1725839999@europebookings.com
SUMMARY:Decibel Open Air
DESCRIPTION:Get TicketsAccommodationTravel Info\nDecibel Open Air 2024 is set to transform Florence’s renowned Visarno Arena into one of Europe’s most electrifying dance parties on September 7-8. Known for its fierce passion for electronic music\, this festival consistently draws an enthusiastic international crowd eager to experience its high-energy atmosphere. \nThe festival’s lineup features the titans of techno and electronic music\, ensuring a stellar auditory experience. Attendees can expect world-class performances from some of the most respected names in the industry\, set against the stunning backdrop of the arena’s vast\, panoramic stage. \nWith a reputation for impeccable production and immersive environments\, Decibel Open Air combines spectacular lighting and cutting-edge sound systems to create an unforgettable sensory journey. This festival is not just about music; it’s about bringing people together from all over the world to celebrate the unifying power of electronic beats. Join the global community of dance music lovers for a weekend of unparalleled excitement in the heart of Florence. \n\nDecibel Open Air 2024 Lineup\nAll ArtistsAlexander Robotnick / Andrés Campo / Analog Hills / Azyr / Bawrut / Brutalismus 3000 / Camoufly / Cerrot / Charlotte De Witte / Cltx / Cloudy / Cora Kerj / Cristina Lazic / Elisa Bee / Eric Prydz / Eva Bloo / Fantasm / Fenoaltea / Fisher / Franky Rizardo / I.G.N.A. / Ilaria / Ivreatronic / Jazzy / Jersey / Jowi / Luca Agnelli / Marco Carola / Marco Faraone / Marlon Hoffstadt / Mareeo / Massimo Logli / Mrphn / Nkk / Okgiorgio / Patrick Mason / Pentola / Pôngo / Rian Wood / Ruthlss / Sante Sansone / Sara Landry / Shyda / Victoria / Vitalic / WadeDecibel Open Air 2024 Tickets\nDay & Weekend Tickets from €52.00 are on sale:\nTicketsDecibel Open Air\nvia Official SiteBookAccommodation\nThe city of Florence offers a wide range of accommodation options. Book your stay for the festival using the map below or visit booking.com \nBooking.comBook Hotels & Airbnbs near the Venue at the Lowest Price online!\n\nTravel Info\nBY CAR\nGet DirectionsBY PUBLIC TRANSPORT\nThe Visarno Arena is located about 2km from the centre of Florence. By public transport the closest stop for both tram and bus is Cascine. By bus\, take the Ataf 17c line fromFlorence Santa Maria Novella station towards Cascine. \nBook FlightsAirport TransfersCar RentalsTrain/Bus Tickets\nGallery\nRelated Festivals\nDGTL Amsterdam\n3 Apr – 5 Apr | Amsterdam\, Netherlands\nFree Your Mind Festival\n6 Jun – 7 Jun | Utrecht\, Netherlands\n		\n			\n\n				\n				\n					Search for:
URL:https://europebookings.com/festival/decibel-open-air/
LOCATION:Visarno Arena\, Viale del Visarno\, 14\, Florence\, 50144\, Italy
CATEGORIES:EDM,Electronic,House,Techno
ATTACH;FMTTYPE=image/jpeg:https://europebookings.com/wp-content/uploads/decibel-open-air-festival-fireworks.jpg
END:VEVENT
END:VCALENDAR