BEGIN:VCALENDAR
VERSION:2.0
PRODID:-//Europebookings - ECPv6.15.20//NONSGML v1.0//EN
CALSCALE:GREGORIAN
METHOD:PUBLISH
X-WR-CALNAME:Europebookings
X-ORIGINAL-URL:https://europebookings.com
X-WR-CALDESC:Events for Europebookings
REFRESH-INTERVAL;VALUE=DURATION:PT1H
X-Robots-Tag:noindex
X-PUBLISHED-TTL:PT1H
BEGIN:VTIMEZONE
TZID:Asia/Nicosia
BEGIN:DAYLIGHT
TZOFFSETFROM:+0200
TZOFFSETTO:+0300
TZNAME:EEST
DTSTART:20230326T010000
END:DAYLIGHT
BEGIN:STANDARD
TZOFFSETFROM:+0300
TZOFFSETTO:+0200
TZNAME:EET
DTSTART:20231029T010000
END:STANDARD
BEGIN:DAYLIGHT
TZOFFSETFROM:+0200
TZOFFSETTO:+0300
TZNAME:EEST
DTSTART:20240331T010000
END:DAYLIGHT
BEGIN:STANDARD
TZOFFSETFROM:+0300
TZOFFSETTO:+0200
TZNAME:EET
DTSTART:20241027T010000
END:STANDARD
BEGIN:DAYLIGHT
TZOFFSETFROM:+0200
TZOFFSETTO:+0300
TZNAME:EEST
DTSTART:20250330T010000
END:DAYLIGHT
BEGIN:STANDARD
TZOFFSETFROM:+0300
TZOFFSETTO:+0200
TZNAME:EET
DTSTART:20251026T010000
END:STANDARD
END:VTIMEZONE
BEGIN:VEVENT
DTSTART;VALUE=DATE:20240207
DTEND;VALUE=DATE:20241124
DTSTAMP:20260421T235806
CREATED:20231016T122847Z
LAST-MODIFIED:20240615T105547Z
UID:74695-1707264000-1732406399@europebookings.com
SUMMARY:Taylor Swift Concert Tickets
DESCRIPTION:Get TicketsAccommodation\nTaylor Swift’s The Eras Tour effortlessly reignites the awe-inspiring magic synonymous with her name\, weaving an enthralling tapestry of music\, emotion\, and spectacle that transcends the traditional concert experience. Seventeen years deep into her illustrious career\, Swift continues to ascend\, magnificently topping her monumental efforts with a show that Rolling Stone lauds as live music at its “highest spectacle and greatest excess.” The tour blends nostalgia and extravaganza in a three-hour journey\, offering a victory lap for an artist still in her prime. \nSwift\, hailed as “the most dominant artist in popular music” by Billboard\, meticulously unravels the myriad iterations of her storied career throughout the show\, delivering staggering achievements with her signature costume changes\, set-piece upheavals\, and moments of startling vulnerability amidst a sea of adoring fans. The sing-alongs\, potent and ubiquitous\, are set to rival any tour\, validating The Times’ proclamation of this period as “the Taylor Swift Era.” The Independent highlights Swift’s showcased range and versatility\, attributes that have steadfastly cemented her as the most successful singer-songwriter in a hip-hop-defined age. \nIn a spectacle described by Uproxx as “the most impressive stadium show ever conceived\,” Swift’s unwavering devotion to her craft and intimate connection to her lyrics shine luminously\, as evidenced from “Miss Americana” through to “Mastermind.” The Guardian appreciates the inimitable artist’s spectacular kickoff to the ‘Eras’ era\, an epic and indubitably pivotal moment in her ever-evolving career. Even after a five-year hiatus\, The Telegraph celebrates Swift’s return as encapsulating the most “ambitious\, spectacular\, and charming” elements of stadium pop shows ever witnessed. The Eras Tour\, thus\, is not merely a concert but a brilliant beacon of Swift’s undying luminance in the pop music cosmos. \n\nTaylor Swift Concert Tickets\nEurope18 Jun @ Principality Stadium\, Cardiff\, UKBuy Tickets21 - 23 Jun @ Wembley Stadium\, London\, UKBuy Tickets28 - 30 Jun @ Aviva Stadium\, Dublin\, IrelandBuy Tickets04 - 06 Jul @ Amsterdam ArenA\, Amsterdam\, NetherlandsBuy Tickets09 - 10 Jul @ Stadion Letzigrund\, Zurich\, SwitzerlandBuy Tickets13 - 14 Jul @ San Siro Stadium\, Milan\, ItalyBuy Tickets17 - 19 Jul @ Veltins-Arena\, Gelsenkirchen\, GermanyBuy Tickets23 - 24 Jul @ Volksparkstadion\, Hamburg\, GermanyBuy Tickets27 - 28 Jul @ Olympiastadion\, Munich\, GermanyBuy Tickets01 - 03 Aug @ PGE Narodowy\, Warsaw\, PolandBuy Tickets08 - 10 Aug @ Ernst-Happel Stadion\, Vienna\, AustriaBuy Tickets15 - 17 Aug @ Wembley Stadium\, London\, UKBuy Tickets19 Aug @ Wembley Stadium\, London\, UKBuy TicketsUS & Canada18 - 20 Oct @ Hard Rock Stadium\, Miami\, FLBuy Tickets25 - 27 Oct @ Ceasars Superdome\, New Orleans\, LABuy Tickets01 - 03 Nov @ Lucas Oil Stadium\, Indianapolis\, INBook Tickets14 - 16 Nov @ Rogers Centre\, Toronto\, CanadaBook Tickets21 - 23 Nov @ Rogers Centre\, Toronto\, CanadaBook TicketsAccommodation\nBook your accommodation in any city (type destination & add dates) using the interactive map below or visit booking.com \nBooking.comBook Hotels & Airbnbs near the Venue at the Lowest Price online!\n\nBook FlightsAirport TransfersCar RentalsTrain/Bus Tickets\nRelated Concerts\nPink Concert London\n15 Sep 2023 – 23 Mar 2024\nMadonna Concert Tickets\n14 Oct – 5 Dec\n		\n			\n\n				\n				\n					Search for:
URL:https://europebookings.com/festival/taylor-swift-concert-tickets/
LOCATION:Various Venues
CATEGORIES:Concerts,Indie,Pop,Rock
ATTACH;FMTTYPE=image/jpeg:https://europebookings.com/wp-content/uploads/taylor-swift-eras-tours.jpg
END:VEVENT
BEGIN:VEVENT
DTSTART;VALUE=DATE:20240914
DTEND;VALUE=DATE:20250101
DTSTAMP:20260421T235806
CREATED:20220907T100648Z
LAST-MODIFIED:20240730T210116Z
UID:60800-1726272000-1735689599@europebookings.com
SUMMARY:The Warehouse Project
DESCRIPTION:Warehouse Project 2024 in Manchester is set to be an electrifying season of events\, kicking off on September 14th at the iconic Depot Mayfield. Renowned for its unparalleled lineup and vibrant atmosphere\, this year’s series promises to deliver unforgettable nights featuring top-tier artists and immersive experiences. \nThe opening party\, Repercussion\, will feature an eclectic mix of performances\, including a DJ set by Bonobo and a live show by Jungle. Spread across multiple stages at Depot Mayfield and nearby venues\, attendees can enjoy sets from Honey Dijon\, Major League DJz\, and many more. \nWarehouse Project consistently showcases diverse musical genres\, from techno and house to drum and bass. The 2024 lineup includes standout events like Patrick Topping’s TRICK label party\, Nia Archives’ UP YA ARCHIVES\, and a special Haçienda celebration featuring legends like Orbital and DJ Paulette. \nWith its blend of cutting-edge music\, dynamic venues\, and a passionate community\, Warehouse Project 2024 is the must-attend series for dance music enthusiasts. Dive into the heart of Manchester’s club scene and experience the energy that makes Warehouse Project a global phenomenon. \n\nThe Warehouse Project Calendar 2024\n04 Sep @ 16:00 – REPERCUSSION20 Sep @ 21:30 – SONNY FODERA21 Sep @ 21:30 – SONNY FODERA27 Sep @ 20:00 – HANNAH LAING28 Sep @ 16:00 – WELCOME TO THE WAREHOUSE03 Oct @ 19:00 – YEAT04 Oct @ 21:00 – HEDEX05 Oct @ 19:00 – BOILER ROOM MANCHESTER11 Oct @ 20:00 – TRICK12 Oct @ 16:00 – OVERMONO25 Oct @ 20:00 – Disclosure26 Oct @ 16:00 – BLACK COFFEE01 Nov @ 20:00 – UP YA ARCHIVES02 Nov @ 20:00 – PAWSA07 Nov @ 19:00 – SCOOTER08 Nov @ 20:00 – GORGON CITY & DOM DOLLA14 Nov @ 19:00 – BEN BÖHMER21 Nov @ 19:00 – BEN BÖHMER23 Nov @ 18:00 – Worried About Henry 10th Birthday30 Nov @ 17:00 – XXL07 Nov @ 16:00 – THE HAÇIENDA31 Dec @ 19:00 – NEW YEAR’S EVE \nThe Warehouse Project Tickets 2024\nBook Tickets for all events at the link below:\nTicketsThe Warehouse Project\nvia TicketmasterBookAccommodation\nThe city of Manchester offers a wide range of accommodation options. Book your stay for Warehouse Project Events using the map below or visit booking.com \nBook Hotels & Airbnbs near the Venue at the Lowest Price online!\n\nTravel Info\nBY CAR\nGet DirectionsBY TRAIN\nManchester is well connected by rail from major cities in the UK. The nearest stop to Depot Mayfield is Piccadilly station\, approximately a two-minute walk away. Victoria Station is approximately a 25-minute walk to Depot Mayfield. \nBY PLANE\nFrom Manchester Airport (MAN) take the train to Manchester Piccadilly (15 min journey)\, just a two-minute walk away from the venue. \nBook FlightsAirport TransfersCar RentalsTrain/Bus Tickets\nRelated Festivals\nKappa Futur Festival\n4 Jul – 6 Jul | Turin\, Italy\nUltra Europe Festival\n11 Jul – 13 Jul | Split\, Croatia\n		\n			\n\n				\n				\n					Search for:
URL:https://europebookings.com/festival/the-warehouse-project/
LOCATION:Depot Mayfield\, Fairfield Street\, Manchester\, M1 2QF\, United Kingdom
CATEGORIES:Dubstep,EDM,House,Techno,Trance
ATTACH;FMTTYPE=image/jpeg:https://europebookings.com/wp-content/uploads/the-warehouse-project-events.jpg
END:VEVENT
BEGIN:VEVENT
DTSTART;VALUE=DATE:20241104
DTEND;VALUE=DATE:20241112
DTSTAMP:20260421T235807
CREATED:20241002T105011Z
LAST-MODIFIED:20250105T222817Z
UID:80654-1730678400-1731369599@europebookings.com
SUMMARY:Pitchfork Music Festival Paris
DESCRIPTION:Get TicketsAccommodationTravel Info\nPitchfork Music Festival Paris 2024 promises an unforgettable week of music from November 4th to 10th. This festival will unfold across multiple iconic venues in the heart of Paris\, including the Grande Halle de la Villette\, Badaboum\, and Le Trianon. Prepare for an eclectic lineup featuring a diverse array of artists from various genres. \nThis year’s lineup boasts impressive names such as Arooj Aftab\, Tierra Whack\, and Sega Bodega\, alongside exciting acts like Empress Of\, Shame\, and Kae Tempest. The festival will showcase both established artists and emerging talents\, ensuring a dynamic and immersive experience for all music enthusiasts. \nPitchfork Music Festival Paris is renowned for its vibrant atmosphere and cutting-edge music curation. With over 80 artists performing across 10 venues\, attendees can expect an array of musical styles\, from avant-rock to psych-pop and electronic beats. This festival is a must-attend for anyone looking to discover the next big thing in music while enjoying the vibrant culture of Paris. \nDon’t miss your chance to be part of this extraordinary celebration of music and culture. Secure your tickets now and join us for a week of unforgettable performances in one of the world’s most beautiful cities. \n\nPitchfork Music Festival Paris 2024 Lineup\nAll ArtistsAbby Sage / Anastasia Coope / Angélica Garcia / Bby / Black Fondu / Bolis Pupul / Borough Council / Bug Eyed / Chanel Beads / Charlotte Day Wilson / Chloe Slater / Christian Lee Hutson / Cloth / COBRAH / Deep Tan / Disgusting Sisters / Divorce / Eaves Wilder / Ebbb / Elsy Wameyo / Fcuckers / Floodlights / Florence Sinclair / Font / Friko / Good Morning / Grlwood / Hex Girlfriend / HiTech / Holly Macve / Humane The Moon / Humble The Great / Infinity Song / Jacob Alon / Jasmine.4.t / Judeline / June McDoom / Kiss Facility / Konradsen / La Lom / Lava La Rue / Len / Liana Flores / Loren Kramar / Love Remain / Lucky Lo / Mabe Fratti / Malice K / May / MRCY / Okay Kaya / Pom Pom Squad / RIMON / Rocket / Rusowsky / Sarah Julia / Sega Bodega / Sekou / Snow Strippers / Thandii / The Itch / Tiberius B / Treanne / Ugly / YHWH NailgunPitchfork Music Festival Paris 2024 Tickets\nTickets for all dates and shows are on sale:\nTickets\nPitchfork Music Festival Paris\nvia Official Site \nBookPitchfork Music Festival London\n5 Nov – 10 Nov | London\, UK\nTICKETS ON SALE \nAccommodation\nThe city of Paris offers a wide range of accommodation options. Book your stay for Pitchfork Music Festival Paris using the map below or visit booking.com \nBooking.comBook Hotels & Airbnbs near the Venue at the Lowest Price online!\n\nTravel Info\nBY CAR\nGet DirectionsBY TRAIN\nParis is well connected by rail in France and major European cities. \nBY PLANE\nFrom Paris-Charles de Gaulle (CDG) and Paris Orly Airport (ORY) you can take the train to the city centre. \nBook FlightsAirport TransfersCar RentalsTrain/Bus Tickets\nGallery\nRelated Festivals\nKappa Futur Festival\n4 Jul – 6 Jul | Turin\, Italy\nUltra Europe Festival\n11 Jul – 13 Jul | Split\, Croatia\n		\n			\n\n				\n				\n					Search for:
URL:https://europebookings.com/festival/pitchfork-music-festival-paris/
LOCATION:Paris\, Paris\, France
CATEGORIES:Alternative,Electronic,Indie,Multi-Genre
ATTACH;FMTTYPE=image/jpeg:https://europebookings.com/wp-content/uploads/pitchfork-music-festival-paris.jpg
END:VEVENT
END:VCALENDAR