BEGIN:VCALENDAR
VERSION:2.0
PRODID:-//Europebookings - ECPv6.15.20//NONSGML v1.0//EN
CALSCALE:GREGORIAN
METHOD:PUBLISH
X-ORIGINAL-URL:https://europebookings.com
X-WR-CALDESC:Events for Europebookings
REFRESH-INTERVAL;VALUE=DURATION:PT1H
X-Robots-Tag:noindex
X-PUBLISHED-TTL:PT1H
BEGIN:VTIMEZONE
TZID:Asia/Nicosia
BEGIN:DAYLIGHT
TZOFFSETFROM:+0200
TZOFFSETTO:+0300
TZNAME:EEST
DTSTART:20240331T010000
END:DAYLIGHT
BEGIN:STANDARD
TZOFFSETFROM:+0300
TZOFFSETTO:+0200
TZNAME:EET
DTSTART:20241027T010000
END:STANDARD
BEGIN:DAYLIGHT
TZOFFSETFROM:+0200
TZOFFSETTO:+0300
TZNAME:EEST
DTSTART:20250330T010000
END:DAYLIGHT
BEGIN:STANDARD
TZOFFSETFROM:+0300
TZOFFSETTO:+0200
TZNAME:EET
DTSTART:20251026T010000
END:STANDARD
BEGIN:DAYLIGHT
TZOFFSETFROM:+0200
TZOFFSETTO:+0300
TZNAME:EEST
DTSTART:20260329T010000
END:DAYLIGHT
BEGIN:STANDARD
TZOFFSETFROM:+0300
TZOFFSETTO:+0200
TZNAME:EET
DTSTART:20261025T010000
END:STANDARD
END:VTIMEZONE
BEGIN:VEVENT
DTSTART;VALUE=DATE:20250524
DTEND;VALUE=DATE:20250525
DTSTAMP:20260421T003106
CREATED:20191002T185508Z
LAST-MODIFIED:20250514T172020Z
UID:24700-1748044800-1748131199@europebookings.com
SUMMARY:Emporium Festival
DESCRIPTION:Get TicketsAccommodationTravel Info\nEmporium Festival 2025 is set to ignite the scenic grounds of De Berendonck in Wijchen\, Netherlands\, on May 24. This one-day festival is celebrated for its vibrant themes and eclectic musical offerings\, making it a standout event in the European festival calendar. \nKnown for its immersive and innovative stage designs\, Emporium Festival transforms its venue into a magical world where music and creativity collide. The 2025 edition promises an unforgettable experience with multiple stages featuring a diverse lineup of artists across various electronic music genres. While the lineup is yet to be announced\, past editions have showcased top-tier acts and emerging talents\, ensuring an exciting mix of performances. \nEmporium Festival stands out for its commitment to creating a holistic festival experience. Attendees can expect high-quality sound\, mesmerizing visuals\, and a festive atmosphere that celebrates the spirit of unity and music. This festival is a must-visit for electronic music enthusiasts looking for an immersive and unforgettable day of music and celebration. \n\nEmporium Festival 2025 Lineup\nAll Artists & Stages\nFull House\nBufu Soundsystem / Fedde Le Grand / Housequake / Julian Jordan / La Fuente / Lucas & Steve / Thomas Newson / Vato Gonzalez & MC Tjen Dirty House Classics / Viktor / Ziggy \nThe Beach\nBenny Rodrigues / Billy / Cici Daze / DAF / Jesse Maas b2b Job de Jong / Joëlla Jackson / Karim Soliman / Philou Louzolo \nSuperstrings\nBen Gold / Club Calimari / Diffrent / Essy / Rozie b2b Moxes / Superstrings / TDJ \nMoreira’s Mansion\nAfro Bros / Freddy Moreira / Gino Morano / Gio & Keizer / Michael Fortera / NEMS / Russo / Smèrrig Diskjochies / Team Rush Hour / The Darkraver / Tomcio / Vunzige Deuntjes Soundsystem / Yes-R \nPropaganda\nAdder / DTKØ / Per Pleks / Remon Verhoeve / Rowin / Toxic Machinery / USH \nXXlerator\nAdrenalize & Galactixx / Ark8 / D-Block & S-te-Fan / Demi Kanon / DJ Isaac / Melo-3 (Ecstatic\, Jay Reeve & Solstice) / Mish / Outsiders / Phuture Noize & Devin Wild / Sound Rush / Sub Zero Project \nHey\, Gimme That Aux!\nAloïs / De Hofnar b2b Tim Hox / MILLEAN. b2b Tim Hox / RSCL b2b Tim Hox / Tim Hox / Wedamnz b2b Tim Hox / Yung Felix b2b Tim Hox \nCrotona\nAble & Hills / Crotona Soundsystem / Hubens & Karlyn / Luc van Veghel / Mil & Jes / Nino van Langen / Technike / Tijn Dekkers \nToxxic\nAdjuzt & So Juice / Aversion / Aversion & Dual Damage / Aversion & Warface / Bloodlust New Live-act Experience / Cardination / D-Venn / Exproz pres. The Jailbreaker / Hard Destiny Live / Imperatorz Live / Kruelty & Mutilator / Regain Polish Punisher / Rejecta / Sanctuary & Coldax / Unload \nClassixx\nAudiotricz / Bakero / E-Force / Frontliner & Max Enforcer / Jason Payne pres. Goldschool / JONES / Low Frequency / Noisecontrollers / Sub Sonik Live / WildstylezEmporium Festival 2025 Tickets\nRegular Tickets from €60.00 are on sale:\nTickets\nEmporium Festival\nvia Official Site \nBookAccommodation\nThe city of Wijchen and nearby areas offer a wide range of accommodation options. Book your stay for Emporium Festival using the map below or visit booking.com \nBook Hotels & Airbnbs near the Venue at the Lowest Price online!\n\nTravel Info\nBY CAR\nGet DirectionsBY TRAIN\nFrom Amsterdam Centraal Station take the train to Hertogenbosch (55 min journey)\, then take the train to Nijmegen Dukenburg (35 min journey) and then take the Bus to Alverna\, Teersdijk (6 min journey). The venue is 700 meters away. \nBY PLANE\nThe nearest airport is Amsterdam Schiphol (AMS). Take the train from Schiphol Airport to Nijmegen (1h 30 min journey)\, then take the train to Nijmegen Dukenburg (6 min journey) and then take the Bus to Alverna\, Teersdijk (6 min journey). The venue is 700 meters away. \nBook FlightsAirport TransfersCar RentalsTrain/Bus Tickets\nGallery\nRelated Festivals\nDecibel Outdoor\n15 Jun – 17 Aug | Hilvarenbeek\, Netherlands\nDreamfields Festival\n5 Jul | Lathum\, Netherlands\n		\n			\n\n				\n				\n					Search for:
URL:https://europebookings.com/festival/emporium-festival/
LOCATION:De Berendonck\, De Berendonck\, Wijchen\, Netherlands
CATEGORIES:Dubstep,EDM,Hardcore,Hardstyle,House,Techno,Trance
ATTACH;FMTTYPE=image/jpeg:https://europebookings.com/wp-content/uploads/emporium-festival-stage-lights-show.jpg
END:VEVENT
BEGIN:VEVENT
DTSTART;VALUE=DATE:20250524
DTEND;VALUE=DATE:20250525
DTSTAMP:20260421T003106
CREATED:20210331T203317Z
LAST-MODIFIED:20250105T201059Z
UID:43601-1748044800-1748131199@europebookings.com
SUMMARY:Wide Awake Festival
DESCRIPTION:Get TicketsAccommodationTravel Info\nWide Awake Festival 2025 returns to London’s Brockwell Park on May 24\, promising a day of forward-thinking music and vibrant cultural experiences. Celebrated for its eclectic mix of genres\, the festival showcases cutting-edge indie\, post-punk\, electronica\, and techno\, making it a must-attend event for music enthusiasts seeking something different. \nKnown for its commitment to gender balance and diversity\, Wide Awake Festival offers a platform for both established acts and emerging talent\, ensuring a dynamic and inclusive atmosphere. The festival’s picturesque setting in Brockwell Park enhances the experience\, providing attendees with a scenic backdrop to a day of outstanding performances. \nWhat sets Wide Awake apart is its blend of music with a strong counter-cultural ethos\, creating a space where innovative sounds meet progressive ideas. The festival’s dedication to sustainability and community engagement further elevates it\, making it more than just a music event but a celebration of culture and social consciousness. \n\nWide Awake Festival 2025 Lineup\nAll ArtistsChanel Beads / CMAT / COBRAH / Daniel Avery / English Teacher / Erol Alkan / Fcukers / Frankie And The Witch Fingers / Gaye Su Akyol / Getdown Services / Gurriers / Hello Mary / HiTech / Jasmine.4.t / Kneecap / Mannequin Pussy / Marie Davidson / Martin Rev / Mermaid Chunky / Nadine Shah / Optimo (Espacio) / Patriarchy / Psychedelic Porn Crumpets / PUZZLE / SPRINTS / Ugly / W.I.T.C.H. / Warmduscher / Wine LipsWide Awake Festival 2025 Tickets\nGeneral Admission & VIP Tickets from £49.50 (€58.58) are on sale:\nTickets\nWide Awake Festivalvia Ticketmaster \nBookAccommodation\nThe city of London offers a wide range of accommodation options. Book your stay for Wide Awake Festival using the map below or visit booking.com \nBook Hotels & Airbnbs near the Venue at the Lowest Price online!\n\nTravel Info\nBY CAR\nGet DirectionsBY TRAIN\nLondon is well connected by rail in the United Kingdom and from major European cities. The nearest station to Brockwell Park is Herne Hill\, which is easily accessed from most of London’s major train stations. \nBY BUS\nBus lines 3\, 68\, 196\, 201\, 322\, 468\, 690\, N3\, N68 stop near Brockwell Park. \nBY TUBE\nBrixton Station on the Victoria Line is the closest to Brockwell Park. \nBook FlightsAirport TransfersCar RentalsTrain/Bus Tickets\nGallery
URL:https://europebookings.com/festival/wide-awake-festival/
LOCATION:Brockwell Park\, Brockwell Park\, Brockwell Park Gardens\, London\, SE24 9BJ\, United Kingdom
CATEGORIES:Alternative,Electronic,Punk,Rock,Techno
ATTACH;FMTTYPE=image/jpeg:https://europebookings.com/wp-content/uploads/wide-awake-festival-stage-fans-dancing.jpg
END:VEVENT
END:VCALENDAR