BEGIN:VCALENDAR
VERSION:2.0
PRODID:-//Europebookings - ECPv6.15.20//NONSGML v1.0//EN
CALSCALE:GREGORIAN
METHOD:PUBLISH
X-ORIGINAL-URL:https://europebookings.com
X-WR-CALDESC:Events for Europebookings
REFRESH-INTERVAL;VALUE=DURATION:PT1H
X-Robots-Tag:noindex
X-PUBLISHED-TTL:PT1H
BEGIN:VTIMEZONE
TZID:Asia/Nicosia
BEGIN:DAYLIGHT
TZOFFSETFROM:+0200
TZOFFSETTO:+0300
TZNAME:EEST
DTSTART:20240331T010000
END:DAYLIGHT
BEGIN:STANDARD
TZOFFSETFROM:+0300
TZOFFSETTO:+0200
TZNAME:EET
DTSTART:20241027T010000
END:STANDARD
BEGIN:DAYLIGHT
TZOFFSETFROM:+0200
TZOFFSETTO:+0300
TZNAME:EEST
DTSTART:20250330T010000
END:DAYLIGHT
BEGIN:STANDARD
TZOFFSETFROM:+0300
TZOFFSETTO:+0200
TZNAME:EET
DTSTART:20251026T010000
END:STANDARD
BEGIN:DAYLIGHT
TZOFFSETFROM:+0200
TZOFFSETTO:+0300
TZNAME:EEST
DTSTART:20260329T010000
END:DAYLIGHT
BEGIN:STANDARD
TZOFFSETFROM:+0300
TZOFFSETTO:+0200
TZNAME:EET
DTSTART:20261025T010000
END:STANDARD
BEGIN:DAYLIGHT
TZOFFSETFROM:+0200
TZOFFSETTO:+0300
TZNAME:EEST
DTSTART:20270328T010000
END:DAYLIGHT
BEGIN:STANDARD
TZOFFSETFROM:+0300
TZOFFSETTO:+0200
TZNAME:EET
DTSTART:20271031T010000
END:STANDARD
END:VTIMEZONE
BEGIN:VEVENT
DTSTART;VALUE=DATE:20250801
DTEND;VALUE=DATE:20260302
DTSTAMP:20260420T182555
CREATED:20230530T125918Z
LAST-MODIFIED:20251113T170002Z
UID:70688-1754006400-1772409599@europebookings.com
SUMMARY:ABBA Voyage Concert
DESCRIPTION:Get TicketsAccommodationTravel Info\nABBA Voyage: Experience the Magic in London \nExperience the groundbreaking ABBA Voyage at the purpose-built ABBA Arena in Queen Elizabeth Olympic Park\, London. Running till May 2025\, this concert offers a unique blend of digital avatars and live music\, allowing fans to witness ABBA in a completely new and innovative way. \nThe concert features a setlist of ABBA’s greatest hits\, including classics like “Dancing Queen\,” “Mamma Mia\,” and “The Winner Takes It All\,” alongside songs from their latest album\, “Voyage”. Using state-of-the-art motion capture technology\, the avatars of Agnetha\, Björn\, Benny\, and Anni-Frid perform with incredible realism\, creating an unforgettable experience. \nTickets are available for various seating options\, including the immersive Dance Floor area\, where you can dance the night away up close to the stage. The ABBA Arena’s design ensures every seat provides an excellent view of the spectacular show\, enhanced by stunning lighting and visual effects. \nDon’t miss your chance to be part of this extraordinary concert experience. Secure your tickets now for an evening of nostalgia\, innovation\, and pure entertainment. \n\nABBA Voyage 2025/26 Tickets\nSeated & Dance Floor Tickets for all shows are on sale:\nTickets\nABBA Voyage\nvia Ticketmaster \nBookAccommodation\nThe city of London offers a wide range of accommodation options. Book your stay for ABBA Voyage using the map below or visit booking.com \nBook Hotels & Airbnbs near the Venue at the Lowest Price online!\n\nTravel Info\nBY CAR\nGet DirectionsBY TRAIN\nLondon is well connected by rail in the UK and major European cities. From London Paddington Train Station go to Lancaster Gate station (1.3 km away) and take the train to Stratford station (24 min journey). Alternatively you can take a 25 min taxi ride to the venue. \nBY PLANE\nFrom London Heathrow Airport (LHR) take the subway to King’s Cross St. Pancras station (54 min journey) and then go to St Pancras International Station (600 meters away) and take the train to Stratford International (6 min journey). \nBook FlightsAirport TransfersCar RentalsTrain/Bus Tickets\nGallery
URL:https://europebookings.com/festival/abba-voyage-concert/
LOCATION:Queen Elizabeth Olympic Park\, Stratford\, London\, E20 2ST\, United Kingdom
CATEGORIES:Pop
ATTACH;FMTTYPE=image/jpeg:https://europebookings.com/wp-content/uploads/abba-voyage-arena.jpg
END:VEVENT
BEGIN:VEVENT
DTSTART;VALUE=DATE:20250904
DTEND;VALUE=DATE:20250909
DTSTAMP:20260420T182556
CREATED:20210830T134941Z
LAST-MODIFIED:20250208T115502Z
UID:47423-1756944000-1757375999@europebookings.com
SUMMARY:Modular Festival
DESCRIPTION:Modular Festival 2025: Switzerland’s Psytrance & Techno Extravaganza \nPrepare yourself for an incredible five-day experience at Modular Festival 2025\, taking place from 4th to 8th September in the stunning Melchtal\, Switzerland. Set against the backdrop of the Swiss Alps\, this open-air festival combines the best of psytrance\, techno\, and dark/forest music genres\, creating an immersive musical journey like no other. With two stages featuring over 60 international and local artists\, Modular Festival promises a unique soundscape powered by a top-tier audio system that will elevate your festival experience. \nThis year’s lineup will once again include a mix of renowned names in the electronic scene\, offering attendees a diverse range of sounds\, from hypnotic beats to deep basslines. The festival grounds will be enhanced by stunning stage designs and captivating visual displays\, all crafted by world-class visual artists. In addition\, Modular offers spacious camping\, food stalls with culinary delights\, and cozy chill-out spots to relax between sets. \nMore than just a festival\, Modular 2025 provides an immersive community experience with art installations\, workshops\, and a magical atmosphere. Whether you’re a seasoned festival-goer or a newcomer\, this is the ultimate celebration of music and art in the heart of nature. Get your tickets now and be part of this unforgettable event! \nModular Festival 2025 Lineup\nLineup to be announced soon: \n2024 LineupA.C.A.B / Aardvarkk / Akustik / Angie Taylor / Arjuna / Art Materials / Bazinga / Blasted Bindi / Braingineers / Buddha dha / Cämix / Cajarana / Caermi & ONX / Creator / Daksinamurti / David Suono / De La Maso / Digital Reflection / Djamzer & Dicanio / Dj Paolo / Donco / Dragi / Effim / Einsiedler / Eliza / E.V.P. / Face Design / Fa-Piano / Foresid / Fungus Funk / Gary O’Broin / Giuseppe / Hatikwa / Hypogeo / Jan Vercauteren / JCL / Kabayun / Kauderwelsch / KAYLEE! / Khainz / KOZY / Lauterkrach / Mary Croft / MB-Future / Metroplex / M!GUZ vs BEXXN / Pantomiman / Psynomina / Rawar / Reality Grid / Rugrats / Sator Arepo / Senor Coco / Shiver / Spoon / Superluminal / Super Schmidis / Suspect One / Tenebris / T.O.M. / VenticModular Festival 2025 Tickets\nFestival Tickets from CHF150.00 (€159.53) are on sale:\nTicketsModular Festival\nvia Official SiteBookAccommodation\nCamping during the festival is included in the festival ticket\, so all you need is basic camping gear\, like a tent\, a camping pad and a head torch (so useful in the night). \nAlternatively\, you can book nearby hotels and apartments using the map below or visit booking.com \nBook Hotels & Airbnbs near the Venue at the Lowest Price online!\n\nTravel Info\nBY CAR\nCaravan access Ticket must be purchased seperatly. There is no access by car. Festival Car Parking Tickets must be purchased prior to Event. A Shuttle Bus will be available to take you from parking place to checkin gates. \nGet DirectionsBY TRAIN\nFrom major Swiss cities such as Zurich\, Lucerne\, or Interlaken take a train to Sarnen\, 14 km away from the venue. Taxis are available from Sarnen to Melchtal \nBY PLANE\nThe nearest major international airport to Melchtal is Zurich Airport (ZRH). From there\, you can take a train to Sarnen\, then transfer to a bus or taxi to Melchtal. \nBook FlightsAirport TransfersCar RentalsTrain/Bus Tickets\nGallery\nRelated Festivals\nVooV Experience Festival\n18 Jul – 20 Jul | Putlitz\, Germany\nOzora Festival\n28 Jul – 5 Aug | Dádpuszta\, Hungary\n		\n			\n\n				\n				\n					Search for:
URL:https://europebookings.com/festival/modular-festival/
LOCATION:Sportcamp Melchtal\, Sportcamp Melchtal\, Fruttstrasse 36\, Melchtal\, 6067\, Switzerland
CATEGORIES:Psytrance
ATTACH;FMTTYPE=image/jpeg:https://europebookings.com/wp-content/uploads/modular-festival-main-stage-dancing.jpg
END:VEVENT
BEGIN:VEVENT
DTSTART;VALUE=DATE:20250906
DTEND;VALUE=DATE:20250907
DTSTAMP:20260420T182556
CREATED:20190720T202900Z
LAST-MODIFIED:20250127T134558Z
UID:21241-1757116800-1757203199@europebookings.com
SUMMARY:Lief Festival
DESCRIPTION:Get TicketsAccommodationTravel Info\nLief Festival 2025: Tech Paradise Awaits in Utrecht \nMark your calendars for Saturday\, 6th September 2025\, as Lief Festival returns to the scenic Recreatieplas Strijkviertel in Utrecht\, Netherlands. Celebrated as the ultimate summer closing event\, Lief Festival transforms its picturesque lakeside setting into a vibrant haven for electronic music enthusiasts. \nFrom 12:00 PM to 11:00 PM\, attendees can immerse themselves in a meticulously curated lineup featuring a spectrum of electronic genres\, including techno\, funk\, disco\, tech house\, and deep house. While the 2025 lineup is yet to be announced\, previous editions have showcased both international and local talents\, ensuring a dynamic and unforgettable musical journey. \nBeyond the music\, Lief Festival is renowned for its immersive art installations\, interactive experiences\, and a welcoming atmosphere that fosters a sense of community among festival-goers. The festival’s commitment to creating a ‘tech paradise’ is evident in its innovative stage designs and vibrant visual displays\, enhancing the overall sensory experience. \nJoin thousands of music lovers for a day of unparalleled performances\, artistic expression\, and communal celebration at Lief Festival 2025—a fitting finale to the summer festival season in the heart of the Netherlands. \n\nLief Festival 2025 Lineup\nLineup to be announced soon: \n2024 LineupAbstract Division / Amber Broos / Ammé / Benny Rodrigues / Benjamin Berg / Carmen Lisa / Cher Semain / Chico Rose / D Stone / Dave Leatherman / Happy Feelings Soundsystem / Hitjesdag DJ Team / Hollt / Leroy Rey / Locus Error / Marco Lys / Mees Salomé / Mitch de Klein / Miss Melera / Ninsa / Olivier Weiter / Pucklectic / Saar Kuus / Secret Cinema / Stephan Bodzin / Tonno Disko / VE/RALief Festival 2025 Tickets\nTickets to be announced soon – Pre-register here\nTicketsLief Festival\nvia Official SiteBookAccommodation\nThe city of Utrecht offers a wide range of accommodation options. Book your stay for Lief Festival using the map below or visit booking.com \nBook Hotels & Airbnbs near the Venue at the Lowest Price online!\n\nTravel Info\nBY CAR\nParking tickets at €13.0 can be purchased here \nGet DirectionsBY BICYCLE\nThere is also a massive bicycle-parking area where you can lock your bike. A very popular choice for some! \nUtrecht is very well connected with bus and rail. You can then take the festival’s shuttle bus to the location. \nBY SHUTTLE BUS\nOn the day there is a shuttle bus from Utrecht Station to the festival and tickets to be announced soon. \nBY PLANE\nAmsterdam Schiphol (AMS) is the nearest airport\, from there you can get a train to Utrecht which leaves every 15 minutes\, and only takes 30 minutes. \nBook FlightsAirport TransfersCar RentalsTrain/Bus Tickets\nGallery\nRelated Festivals\nDGTL Amsterdam\n3 Apr – 5 Apr | Amsterdam\, Netherlands\nFree Your Mind Festival\n6 Jun – 7 Jun | Utrecht\, Netherlands\n		\n			\n\n				\n				\n					Search for:
URL:https://europebookings.com/festival/lief-festival/
LOCATION:Recreatieplas Strijkviertel\, Recreatieplas Strijkviertel\, Utrecht\, Netherlands
CATEGORIES:Electronic,House,Techno
ATTACH;FMTTYPE=image/jpeg:https://europebookings.com/wp-content/uploads/lief-festival-performing.jpg
END:VEVENT
END:VCALENDAR