BEGIN:VCALENDAR
VERSION:2.0
PRODID:-//Europebookings - ECPv6.15.20//NONSGML v1.0//EN
CALSCALE:GREGORIAN
METHOD:PUBLISH
X-WR-CALNAME:Europebookings
X-ORIGINAL-URL:https://europebookings.com
X-WR-CALDESC:Events for Europebookings
REFRESH-INTERVAL;VALUE=DURATION:PT1H
X-Robots-Tag:noindex
X-PUBLISHED-TTL:PT1H
BEGIN:VTIMEZONE
TZID:Asia/Nicosia
BEGIN:DAYLIGHT
TZOFFSETFROM:+0200
TZOFFSETTO:+0300
TZNAME:EEST
DTSTART:20210328T010000
END:DAYLIGHT
BEGIN:STANDARD
TZOFFSETFROM:+0300
TZOFFSETTO:+0200
TZNAME:EET
DTSTART:20211031T010000
END:STANDARD
BEGIN:DAYLIGHT
TZOFFSETFROM:+0200
TZOFFSETTO:+0300
TZNAME:EEST
DTSTART:20220327T010000
END:DAYLIGHT
BEGIN:STANDARD
TZOFFSETFROM:+0300
TZOFFSETTO:+0200
TZNAME:EET
DTSTART:20221030T010000
END:STANDARD
BEGIN:DAYLIGHT
TZOFFSETFROM:+0200
TZOFFSETTO:+0300
TZNAME:EEST
DTSTART:20230326T010000
END:DAYLIGHT
BEGIN:STANDARD
TZOFFSETFROM:+0300
TZOFFSETTO:+0200
TZNAME:EET
DTSTART:20231029T010000
END:STANDARD
END:VTIMEZONE
BEGIN:VEVENT
DTSTART;VALUE=DATE:20220307
DTEND;VALUE=DATE:20220327
DTSTAMP:20260422T054241
CREATED:20210322T172957Z
LAST-MODIFIED:20211121T154801Z
UID:43246-1646611200-1648339199@europebookings.com
SUMMARY:Genesis Concert Tickets
DESCRIPTION:Get TicketsAccommodation\nIn January 2021\, Genesis announced that it was moving its reunion tour\, “The Last Domino?”\, to spring 2022. \nGenesis are among the biggest selling recording artists of all time and one of Britain’s most internationally renowned bands. The Last Domino? Tour 2021 will now start in Berlin on the 7th of March 2022 and will be Tony Banks\, Phil Collins and Mike Rutherford’s first live outing together since the globe-trotting\, sell-out Turn It On Again: The Tour\, in 2007. They will be joined on stage by Nic Collins on drums\, and the bands long time lead guitar and bass player Daryl Stuermer. \nGenesis Concert Tickets\n7 & 8 Mar 2022 @ Mercedes Benz Arena\, Berlin\, GermanyBook Tickets10 & 11 Mar 2022 @ Zag Arena\, Hannover\, GermanyBook Tickets13 & 14 Mar 2022 @ Lanxess Arena\, Cologne\, GermanyBook Tickets16 & 17 Mar 2022 @ La Défense Arena\, Paris\, FranceBook Tickets19 Mar 2022 @ Lanxess Arena\, Cologne\, GermanyBook Tickets21 & 22 Mar 2022 @ Zigo Dome\, Amsterdam\, NetherlandsBook Tickets24\, 25 & 26 March @ The O2\, London\, UKBook TicketsAccommodation\nBook your accommodation in any city using the map below or visit booking.com \nBooking.comBook Hotels & Airbnbs near the Venue at the Lowest Price online!\n\nBook FlightsAirport TransfersCar RentalsTrain/Bus Tickets\nRelated Concerts\nCeline Dion Concert London\n29 May & 30 May 2022 | London\, UK\nGuns N’Roses Concert Tickets\n4 Jun – 10 Jul 2022 | Europe\n		\n			\n\n				\n				\n					Search for:
URL:https://europebookings.com/festival/genesis-concert-tickets/
LOCATION:Various Venues
CATEGORIES:Concerts,Pop
ATTACH;FMTTYPE=image/jpeg:https://europebookings.com/wp-content/uploads/Genesis-concert-tickets-the-last-domino-tour.jpg
END:VEVENT
END:VCALENDAR