BEGIN:VCALENDAR
VERSION:2.0
PRODID:-//Europebookings - ECPv6.15.20//NONSGML v1.0//EN
CALSCALE:GREGORIAN
METHOD:PUBLISH
X-ORIGINAL-URL:https://europebookings.com
X-WR-CALDESC:Events for Europebookings
REFRESH-INTERVAL;VALUE=DURATION:PT1H
X-Robots-Tag:noindex
X-PUBLISHED-TTL:PT1H
BEGIN:VTIMEZONE
TZID:Asia/Nicosia
BEGIN:DAYLIGHT
TZOFFSETFROM:+0200
TZOFFSETTO:+0300
TZNAME:EEST
DTSTART:20210328T010000
END:DAYLIGHT
BEGIN:STANDARD
TZOFFSETFROM:+0300
TZOFFSETTO:+0200
TZNAME:EET
DTSTART:20211031T010000
END:STANDARD
BEGIN:DAYLIGHT
TZOFFSETFROM:+0200
TZOFFSETTO:+0300
TZNAME:EEST
DTSTART:20220327T010000
END:DAYLIGHT
BEGIN:STANDARD
TZOFFSETFROM:+0300
TZOFFSETTO:+0200
TZNAME:EET
DTSTART:20221030T010000
END:STANDARD
BEGIN:DAYLIGHT
TZOFFSETFROM:+0200
TZOFFSETTO:+0300
TZNAME:EEST
DTSTART:20230326T010000
END:DAYLIGHT
BEGIN:STANDARD
TZOFFSETFROM:+0300
TZOFFSETTO:+0200
TZNAME:EET
DTSTART:20231029T010000
END:STANDARD
END:VTIMEZONE
BEGIN:VEVENT
DTSTART;VALUE=DATE:20220601
DTEND;VALUE=DATE:20220718
DTSTAMP:20260421T211546
CREATED:20210809T192715Z
LAST-MODIFIED:20211031T095149Z
UID:46279-1654041600-1658102399@europebookings.com
SUMMARY:Aerosmith Concert Tickets 2022
DESCRIPTION:Get TicketsAccommodation\nAerosmith have rescheduled their UK and European Tour to summer 2022 in response to the coronavirus pandemic. Check the tour dates and ticket information below. \nAerosmith are one of the biggest rock bands ever. The classic rockers have sold over 150 million albums worldwide and are considered the best selling American hard rock act of all time. \n12 multi-platinum albums\, 21 Top 40 hits\, and countless sold out world tours only scratch the surface when describing their cultural impact. \n\nAerosmith Concert Tickets European Tour 2022\n2 June 2022 – Altice Arena\, Lisbon\, PortugalBook Tickets4 June 2022 – Wanda Stadium\, Madrid\, SpainBook Tickets7 June 2022 – Hallenstadion\, Zürich\, SwitzerlandBook Tickets10 June 2022 – Ippodromo Milano Trenno\, Milan\, ItalyBook Tickets13 June 2022 – Accor Arena\, Paris\, FranceBook Tickets16 June 2022 – Under the Bridge\, Middelfart\, DenmarkBook Tickets19 June 2022 – Graspop Metal Meeting Festival\, Dessel\, BelgiumBook Tickets22 June 2022 – The O2\, London\, UKBook Tickets28 June 2022 – Manchester Arena\, Manchester\, UKBook Tickets1 July 2022 – Sheffield Arena\, Sheffield\, UKBook Tickets4 July 2022 – O2 Arena\, Prague\, CzechiaBook Tickets7 July 2022 – Stadthalle\, Vienna\, AustriaBook Tickets10 July 2022 – Puskas Stadium\, Budapest\, HungaryBook Tickets13 July 2022 – Tauron Arena\, Krakow\, PolandBook Tickets17 July 2022 – VTB Arena\, Moscow\, RussiaBook TicketsAccommodation\nBook your accommodation in any city using the map below or visit booking.com \nBooking.comBook Hotels & Airbnbs near the Venue at the Lowest Price online!\n\nBook FlightsAirport TransfersCar RentalsTrain/Bus Tickets\nRelated Concerts\nCeline Dion Concert London\n29 May & 30 May 2022 | London\, UK\nGuns N’Roses Concert Tickets\n4 Jun – 10 Jul 2022 | Europe\n		\n			\n\n				\n				\n					Search for:
URL:https://europebookings.com/festival/aerosmith-concert-tickets/
LOCATION:Various Venues
CATEGORIES:Concerts,Rock
ATTACH;FMTTYPE=image/jpeg:https://europebookings.com/wp-content/uploads/aerosmith-concert-tickets-european-tour.jpg
END:VEVENT
BEGIN:VEVENT
DTSTART;TZID=Asia/Nicosia:20220701T000000
DTEND;TZID=Asia/Nicosia:20220702T235959
DTSTAMP:20260421T211546
CREATED:20230709T131720Z
LAST-MODIFIED:20230709T131724Z
UID:71261-1656633600-1656806399@europebookings.com
SUMMARY:Guns N' Roses Concert London
DESCRIPTION:Guns N’ Roses are coming to London’s Tottenham Hotspur Stadium for two nights\, on 1 & 2 July 2021. Most of the band’s 2021 European tour dates have being rescheduled to 2022. \nCheck all European Tour Dates at the link below: \nGuns N’ Roses European Tour 2022\nFollowing the group’s 1985 formation\, Guns N’ Roses injected unbridled\, unrivalled\, and unstoppable attitude into the burgeoning Los Angeles rock scene. The spirit went on to captivate the entire world with the release of their 1987 debut Appetite For Destruction – the best-selling US debut ever\, moving 30 million copies globally. In 1991\, the seven-time platinum Use Your Illusion I and Use Your Illusion II occupied the top two spots of the Billboard Top 200 upon release. \nOver the course of the past decade\, Guns N’ Roses have performed sold-out shows and headlined festivals worldwide following the critically acclaimed release of 2008’s RIAA platinum-certified Chinese Democracy. Six studio albums later\, Guns N’ Roses are one of the most important and influential acts in music history and continue to set the benchmark for live performances connecting with millions of fans across the globe. \nSince reuniting in 2016\, Guns N’ Roses has gone on to sell over five million tickets worldwide on the Not In This Lifetime Tour. Guns N’ Roses are Axl Rose (vocals\, piano)\, Duff McKagan (bass)\, Slash (lead guitar)\, Dizzy Reed (keyboard)\, Richard Fortus (rhythm guitar)\, Frank Ferrer (drums)\, and Melissa Reese (keyboard). \n\nGuns N’ Roses Concert London 2022 Lineup\nGuns N’ Roses\nGuns N’ Roses Concert London 2022 Tickets\nTickets for both dates from £78.70 (€91.70) are on sale:\nTicketsGuns N’ Roses London\n1 July 2022\nvia TicketmasterBookTicketsGuns N’ Roses London\n2 July 2022\nvia TicketmasterBookAccommodation\nThe city of London offers a wide range of accommodation options. Book your stay for Guns N’ Roses Concert using the map below or visit booking.com \nBooking.comBook Hotels & Airbnbs near the Venue at the Lowest Price online!\n\nTravel Info\nBY CAR\nGet DirectionsBY TRAIN\nLondon is well connected by rail in the United kingdom and from all major European cities. \nBY PLANE\nFrom Heathrow Airport (LHR) take the train to London Paddington Station (16 min journey). From Paddington Station take the subway to Oxford Circus station (8 min journey) and from there take the subway to Seven Sisters station (12 min journey). Lastly from Seven Sisters Station take the train to White Hart Lane (3 min journey)\, which is 400 meters away from the venue. \nBook FlightsAirport TransfersCar RentalsTrain/Bus Tickets\nGallery\nRelated Festivals\nGuns N’ Roses Concert Dublin\n28 June 2022 | Dublin\, Ireland\nGuns N’ Roses Concert Glasgow\n5 Jul 2022 | Glasgow\, Scottland\n		\n			\n\n				\n				\n					Search for:
URL:https://europebookings.com/festival/guns-n-roses-concert-london-2/
LOCATION:Tottenham Hotspur Stadium\, 782 High Rd\, Tottenham\, London\, N17 0BX\, United Kingdom
CATEGORIES:Concerts,Heavy Metal,Rock
ATTACH;FMTTYPE=image/jpeg:https://europebookings.com/wp-content/uploads/guns-n-roses-tour-axl-rose-slash.jpg
END:VEVENT
BEGIN:VEVENT
DTSTART;VALUE=DATE:20220708
DTEND;VALUE=DATE:20220709
DTSTAMP:20260421T211546
CREATED:20200808T224415Z
LAST-MODIFIED:20211031T112106Z
UID:39775-1657238400-1657324799@europebookings.com
SUMMARY:Guns N' Roses Concert Munich
DESCRIPTION:Get TicketsAccommodationTravel Info\nGuns N’ Roses will be performing at the Olympiastadion in Munich. Most of the band’s 2021 European tour dates have being rescheduled 2022. \nCheck all European Tour Dates at the link below: \nGuns N’ Roses European Tour 2022\nFollowing the group’s 1985 formation\, Guns N’ Roses injected unbridled\, unrivalled\, and unstoppable attitude into the burgeoning Los Angeles rock scene. The spirit went on to captivate the entire world with the release of their 1987 debut Appetite For Destruction – the best-selling US debut ever\, moving 30 million copies globally. In 1991\, the seven-time platinum Use Your Illusion I and Use Your Illusion II occupied the top two spots of the Billboard Top 200 upon release. \nOver the course of the past decade\, Guns N’ Roses have performed sold-out shows and headlined festivals worldwide following the critically acclaimed release of 2008’s RIAA platinum-certified Chinese Democracy. Six studio albums later\, Guns N’ Roses are one of the most important and influential acts in music history and continue to set the benchmark for live performances connecting with millions of fans across the globe. \nSince reuniting in 2016\, Guns N’ Roses has gone on to sell over five million tickets worldwide on the Not In This Lifetime Tour. Guns N’ Roses are Axl Rose (vocals\, piano)\, Duff McKagan (bass)\, Slash (lead guitar)\, Dizzy Reed (keyboard)\, Richard Fortus (rhythm guitar)\, Frank Ferrer (drums)\, and Melissa Reese (keyboard). \n\nGuns N’ Roses Munich 2022 Lineup\nGuns N’ Roses\nGuns N’ Roses Munich 2022 Tickets\nTickets from €82.30 are on sale:\nTicketsGuns N’ Roses Munich\nvia TicketmasterBookAccommodation\nThe city of Munich offers a wide range of accommodation options. Book your stay for Guns N’ Roses Concert using the map below or visit booking.com \nBooking.comBook Hotels & Airbnbs near the Venue at the Lowest Price online!\n\nTravel Info\nBY CAR\nGet DirectionsBY TRAIN\nMunich is well connected by rail in Germany and from all major European cities. \nBY PLANE\nFrom Munich International Airport (MUC) take the train to München Marienplatz and then take the subway to München Olympiazentrum. The venue is 1.6 Km away. Alternatively you can take a 25 min taxi ride. \nBook FlightsAirport TransfersCar RentalsTrain/Bus Tickets\nGallery\nRelated Festivals\nGuns N’ Roses Concert London\n1 & 2 Jul 2022 | London\, UK\nGuns N’ Roses Concert Glasgow\n5 Jul 2022 | Glasgow\, Scottland\n		\n			\n\n				\n				\n					Search for:
URL:https://europebookings.com/festival/guns-n-roses-concert-munich/
LOCATION:Olympiastadion Munich\, Spiridon-Louis-Ring 27\, Munich\, 80809\, Germany
CATEGORIES:Concerts,Heavy Metal,Rock
ATTACH;FMTTYPE=image/jpeg:https://europebookings.com/wp-content/uploads/guns-n-roses-tour-performing.jpg
END:VEVENT
BEGIN:VEVENT
DTSTART;VALUE=DATE:20220724
DTEND;VALUE=DATE:20220725
DTSTAMP:20260421T211546
CREATED:20220307T193920Z
LAST-MODIFIED:20220718T184553Z
UID:53284-1658620800-1658707199@europebookings.com
SUMMARY:Lady Gaga Concert Paris
DESCRIPTION:Get TicketsAccommodationTravel Info\nLady Gaga is heading to Paris Stade de France\, part of The Chromatica Ball Tour on 24 July 2022. \nAnother concert at London’s Tottenham Hotspur Stadium\, has been scheduled for 29 July 2022. More info and tickets at Lady Gaga Concert London \nGaga’s latest album is Chromatica. Released in May 2020\, it’s not only her most personal collection\, but also offers a return to her dance-pop days. \nOver her career\, Lady Gaga has garnered numerous awards. In addition to her music\, she’s renowned for her videos\, with a predilection for the weird and bizarre flavouring many of her visually stunning early works. \n\nLady Gaga Concert Paris 2022 Tickets\nRegular & VIP Tickets from €68.60 are on sale:\nTickets\nLady Gaga Parisvia Ticketmaster \nBookBuy & Sell TicketsLady Gaga Paris\nvia TicketswapBookAccommodation\nThe city of Paris offers a wide range of accommodation options. Book your stay for Lady Gaga Concert using the map below or visit booking.com \nBook Hotels & Airbnbs near the Venue at the Lowest Price online!\n\nTravel Info\nBY CAR\nGet DirectionsBY TRAIN\nParis is well connected by rail in France and from all major European cities. \nBY PLANE\nFrom Paris-Charles de Gaulle (CDG) take the train to La Plaine Stade De France Station (29 min journey). Stade de France is a short 9 min walk away.\nFrom Paris Orly Airport (ORY) take the train to Antony Station (7 min journey) and from there take the train to La Plaine Stade De France Station (29 min journey). Stade de France is a short 9 min walk away. \nBook FlightsAirport TransfersCar RentalsTrain/Bus Tickets\nGallery\nRelated Concerts\nGuns N’ Roses Concert London\n1 & 2 Jul | London\, UK\nLady Gaga Concert London\n29 & 30 Jul | London\, UK\n		\n			\n\n				\n				\n					Search for:
URL:https://europebookings.com/festival/lady-gaga-concert-paris/
LOCATION:Stade de France\, Stade de France\, Saint-Denis\, Paris\, 93200\, France
CATEGORIES:Concerts,Electronic,Pop
ATTACH;FMTTYPE=image/jpeg:https://europebookings.com/wp-content/uploads/lady-gaga-concert-paris-super-bowl-stage.jpg
END:VEVENT
BEGIN:VEVENT
DTSTART;VALUE=DATE:20220729
DTEND;VALUE=DATE:20220731
DTSTAMP:20260421T211546
CREATED:20220307T194500Z
LAST-MODIFIED:20220716T162215Z
UID:53287-1659052800-1659225599@europebookings.com
SUMMARY:Lady Gaga Concert London
DESCRIPTION:Get TicketsAccommodationTravel Info\nLady Gaga is heading to London\, part of The Chromatica Ball Tour\, at Tottenham Hotspur Stadium on 29 & 30 July 2022. \nAnother concert at Paris’ Stade de France Stadium\, has been scheduled for the 24 July 2022. More info and tickets at Lady Gaga Concert Paris \nGaga’s latest album is Chromatica. Released in May 2020\, it’s not only her most personal collection\, but also offers a return to her dance-pop days. \nOver her career\, Lady Gaga has garnered numerous awards. In addition to her music\, she’s renowned for her videos\, with a predilection for the weird and bizarre flavouring many of her visually stunning early works. \n\nLady Gaga Concert London 2022 Tickets\nTickets for both dates from £51.65 (€61.71) are on sale:\nTickets\nLady Gaga Londonvia Ticketmaster \nBookAccommodation\nThe city of London offers a wide range of accommodation options. Book your stay for Lady Gaga Concert using the map below or visit booking.com \nBook Hotels & Airbnbs near the Venue at the Lowest Price online!\n\nTravel Info\nBY CAR\nGet DirectionsBY TRAIN\nLondon is well connected by rail in the United kingdom and from all major European cities. \nBY PLANE\nFrom Heathrow Airport (LHR) take the train to London Paddington Station (16 min journey). From Paddington Station take the subway to Oxford Circus station (8 min journey) and from there take the subway to Seven Sisters station (12 min journey). Lastly from Seven Sisters Station take the train to White Hart Lane (3 min journey)\, which is 400 meters away from the venue. \nBook FlightsAirport TransfersCar RentalsTrain/Bus Tickets\nGallery\nRelated Concerts\nLady Gaga Concert Paris\n24 Jul | Paris\, France\nGuns N’ Roses Concert London\n24 Feb 2023 – 17 Jul 2023 | Europe\n		\n			\n\n				\n				\n					Search for:
URL:https://europebookings.com/festival/lady-gaga-concert-london/
LOCATION:Tottenham Hotspur Stadium\, 782 High Rd\, Tottenham\, London\, N17 0BX\, United Kingdom
CATEGORIES:Concerts,Electronic,Pop
ATTACH;FMTTYPE=image/jpeg:https://europebookings.com/wp-content/uploads/lady-gaga-concert-london-chromatica-ball-tour.jpg
END:VEVENT
END:VCALENDAR