BEGIN:VCALENDAR
VERSION:2.0
PRODID:-//Europebookings - ECPv6.15.20//NONSGML v1.0//EN
CALSCALE:GREGORIAN
METHOD:PUBLISH
X-WR-CALNAME:Europebookings
X-ORIGINAL-URL:https://europebookings.com
X-WR-CALDESC:Events for Europebookings
REFRESH-INTERVAL;VALUE=DURATION:PT1H
X-Robots-Tag:noindex
X-PUBLISHED-TTL:PT1H
BEGIN:VTIMEZONE
TZID:Asia/Nicosia
BEGIN:DAYLIGHT
TZOFFSETFROM:+0200
TZOFFSETTO:+0300
TZNAME:EEST
DTSTART:20200329T010000
END:DAYLIGHT
BEGIN:STANDARD
TZOFFSETFROM:+0300
TZOFFSETTO:+0200
TZNAME:EET
DTSTART:20201025T010000
END:STANDARD
BEGIN:DAYLIGHT
TZOFFSETFROM:+0200
TZOFFSETTO:+0300
TZNAME:EEST
DTSTART:20210328T010000
END:DAYLIGHT
BEGIN:STANDARD
TZOFFSETFROM:+0300
TZOFFSETTO:+0200
TZNAME:EET
DTSTART:20211031T010000
END:STANDARD
BEGIN:DAYLIGHT
TZOFFSETFROM:+0200
TZOFFSETTO:+0300
TZNAME:EEST
DTSTART:20220327T010000
END:DAYLIGHT
BEGIN:STANDARD
TZOFFSETFROM:+0300
TZOFFSETTO:+0200
TZNAME:EET
DTSTART:20221030T010000
END:STANDARD
END:VTIMEZONE
BEGIN:VEVENT
DTSTART;VALUE=DATE:20211028
DTEND;VALUE=DATE:20211126
DTSTAMP:20260423T013718
CREATED:20210321T005857Z
LAST-MODIFIED:20211108T102030Z
UID:43304-1635379200-1637884799@europebookings.com
SUMMARY:Alanis Morissette Concert Tickets
DESCRIPTION:Get TicketsAccommodation\nAlanis Morissette is bringing her world tour in celebration of 25 years of Jagged Little Pill and her forthcoming album to Europe in October and November 2021. \nSince 1995\, Alanis Morissette has been one of the most influential singer-songwriter-musicians in contemporary music. \nHer deeply expressive music and performances have earned vast critical praise. Morissette’s 1995 debut\, Jagged Little Pill\, was followed by nine more eclectic and acclaimed albums. She has contributed musically to theatrical releases and has acted on the big and small screen. Outside of entertainment\, she is an avid supporter of female empowerment\, as well as spiritual\, psychological and physical wellness. \nIn 2016\, Alanis launched Conversation with Alanis Morissette\, a monthly podcast that features conversations with a variety of revered authors\, doctors\, educators\, and therapists\, covering a wide range of psychosocial topics extending from spirituality to developmentalism to art. \nOn December 5\, 2019\, Jagged Little Pill\, The Musical\, made its Broadway debut at the Broadhurst Theatre in New York City. Also in December 2019\, Alanis released her newest song Reasons I Drink. The track comes off Alanis’ highly anticipated ninth album\, Such Pretty Forks In The Road\, due out in July 2020. \n\nAlanis Morissette Concert Tickets\n28 October 2021 – Barclaycard Arena\, Hamburg\, GermanyPostponed29 October 2021 – Royal Arena\, Copenhagen\, DenmarkPostponed31 October 2021 – Ziggo Dome\, Amsterdam\, NetherlandsPostponed6 November 2021 – EXPO XXI Warszawa\, Warsaw\, PolandPostponed8 November 2021 – Mediolanum Forum\, Assago\, ItalyPostponed10 November 2021 – Palau Sant Jordi\, Barcelona\, SpainPostponed11 November 2021 – WiZink Center\, Madrid\, SpainPostponed13 November 2021 – Accor Arena\, Paris\, FrancePostponed15 November 2021 – Utilita Arena\, Birmingham\, UKPostponed16 November 2021 – First Direct Arena\, LeedsPostponed18 November 2021 – The SSE Hydro\, GlasgowPostponed21 November 2021 – AO Arena\, Manchester\, UKPostponed23 November 2021 – The O2\, London\, UKPostponed24 November 2021 – The O2\, London\, UKPostponed25 November 2021 – 3Arena\, Dublin\, IrelandPostponedAccommodation\nBook your accommodation in any city using the map below or visit booking.com \nBooking.comBook Hotels & Airbnbs near the Venue at the Lowest Price online!\n\nBook FlightsAirport TransfersCar RentalsTrain/Bus Tickets\nRelated Concerts\nCeline Dion Concert London\n29 May & 30 May 2022 | London\, UK\nGuns N’Roses Concert Tickets\n4 Jun – 10 Jul 2022 | Europe\n		\n			\n\n				\n				\n					Search for:
URL:https://europebookings.com/festival/alanis-morissette-concert-tickets/
LOCATION:Various Venues
CATEGORIES:Alternative,Concerts,Indie,Pop,Rock
ATTACH;FMTTYPE=image/jpeg:https://europebookings.com/wp-content/uploads/alanis-morissete-world-tour.jpg
END:VEVENT
END:VCALENDAR