BEGIN:VCALENDAR
VERSION:2.0
PRODID:-//Europebookings - ECPv6.15.20//NONSGML v1.0//EN
CALSCALE:GREGORIAN
METHOD:PUBLISH
X-WR-CALNAME:Europebookings
X-ORIGINAL-URL:https://europebookings.com
X-WR-CALDESC:Events for Europebookings
REFRESH-INTERVAL;VALUE=DURATION:PT1H
X-Robots-Tag:noindex
X-PUBLISHED-TTL:PT1H
BEGIN:VTIMEZONE
TZID:Asia/Nicosia
BEGIN:DAYLIGHT
TZOFFSETFROM:+0200
TZOFFSETTO:+0300
TZNAME:EEST
DTSTART:20210328T010000
END:DAYLIGHT
BEGIN:STANDARD
TZOFFSETFROM:+0300
TZOFFSETTO:+0200
TZNAME:EET
DTSTART:20211031T010000
END:STANDARD
BEGIN:DAYLIGHT
TZOFFSETFROM:+0200
TZOFFSETTO:+0300
TZNAME:EEST
DTSTART:20220327T010000
END:DAYLIGHT
BEGIN:STANDARD
TZOFFSETFROM:+0300
TZOFFSETTO:+0200
TZNAME:EET
DTSTART:20221030T010000
END:STANDARD
BEGIN:DAYLIGHT
TZOFFSETFROM:+0200
TZOFFSETTO:+0300
TZNAME:EEST
DTSTART:20230326T010000
END:DAYLIGHT
BEGIN:STANDARD
TZOFFSETFROM:+0300
TZOFFSETTO:+0200
TZNAME:EET
DTSTART:20231029T010000
END:STANDARD
END:VTIMEZONE
BEGIN:VEVENT
DTSTART;VALUE=DATE:20221130
DTEND;VALUE=DATE:20221223
DTSTAMP:20260421T124218
CREATED:20220915T210854Z
LAST-MODIFIED:20221218T134938Z
UID:61215-1669766400-1671753599@europebookings.com
SUMMARY:BLACKPINK Concert Tickets
DESCRIPTION:Get TicketsAccommodation\nBLACKPINK bring their World Tour in November and December to London\, Barcelona\, Cologne\, Paris\, Berlin and Amsterdam. \nBLACKPINK\, a korean female group\, consists of Jisoo\, Jennie\, Rosé and Lisa. The four-piece’s debut single SQAURE ONE was released in 2016. Following it’s success\, the girl group went on to release another single and three EP’s which hit the charts across Korea and internationally. \nTheir smash-hit single As If It’s Your Last was released in 2017\, earning them the title of “fastest girl group to reach 400 million views”. BLACKPINK then broke their own record in 2018\, with their latest EP album\, SQUARE UP. \nBLACKPINK recently collaborated with British pop icon Dua Lipa for the single Kiss and Make Up\, a bilingual track in both Korean and English. \nIn November 2018\, the band released their first Japanese studio album\, “Blackpink in Your Area”\, and in January 2019\, the K-Pop titans announced they’d make their American debut with a performance at the iconic Coachella Festival. \n\nBLACKPINK Concert Tickets European Tour 2022\n30 November @ The O2\, London\, UKBuy Tickets01 December @ The O2\, London\, UKBuy Tickets05 December @ Palau Sant Jordi\, Barcelona\, SpainBuy Tickets08 December @ Lanxess Arena\, Cologne\, Germany\nBuy Tickets\n11 December @ Accor Arena\, Paris\, FranceBuy Tickets12 December @ Accor Arena\, Paris\, France\nBuy Tickets\n15 December @ Royal Arena\, Copenhagen\, DenmarkBuy Tickets19 December @ Mercedes-Benz Arena\, Berlin\, Germany\nBuy Tickets\n22 December @ Ziggo Dome\, Amsterdam\, NetherlandsBuy Tickets02 Jul 2023 @ BST Hyde Park Festival\, London\, UKBuy TicketsAccommodation\nBook your accommodation in any city using the map below or visit booking.com \nBook Hotels & Airbnbs near the Venue at the Lowest Price online!\n\nBook FlightsAirport TransfersCar RentalsTrain/Bus Tickets\nRelated Concerts\nCeline Dion European Tour Tickets\n24 Feb – 17 Jul 2023 | Europe\nElton John European Tour Tickets\n28 Mar – 8 Jul 2023 | Europe\n		\n			\n\n				\n				\n					Search for:
URL:https://europebookings.com/festival/blackpink-concert-tickets/
LOCATION:Various Venues
CATEGORIES:Concerts,Electronic,Pop
ATTACH;FMTTYPE=image/jpeg:https://europebookings.com/wp-content/uploads/blackpink-concert-tickets.jpg
END:VEVENT
END:VCALENDAR