BEGIN:VCALENDAR
VERSION:2.0
PRODID:-//Europebookings - ECPv6.15.20//NONSGML v1.0//EN
CALSCALE:GREGORIAN
METHOD:PUBLISH
X-ORIGINAL-URL:https://europebookings.com
X-WR-CALDESC:Events for Europebookings
REFRESH-INTERVAL;VALUE=DURATION:PT1H
X-Robots-Tag:noindex
X-PUBLISHED-TTL:PT1H
BEGIN:VTIMEZONE
TZID:Asia/Nicosia
BEGIN:DAYLIGHT
TZOFFSETFROM:+0200
TZOFFSETTO:+0300
TZNAME:EEST
DTSTART:20220327T010000
END:DAYLIGHT
BEGIN:STANDARD
TZOFFSETFROM:+0300
TZOFFSETTO:+0200
TZNAME:EET
DTSTART:20221030T010000
END:STANDARD
BEGIN:DAYLIGHT
TZOFFSETFROM:+0200
TZOFFSETTO:+0300
TZNAME:EEST
DTSTART:20230326T010000
END:DAYLIGHT
BEGIN:STANDARD
TZOFFSETFROM:+0300
TZOFFSETTO:+0200
TZNAME:EET
DTSTART:20231029T010000
END:STANDARD
BEGIN:DAYLIGHT
TZOFFSETFROM:+0200
TZOFFSETTO:+0300
TZNAME:EEST
DTSTART:20240331T010000
END:DAYLIGHT
BEGIN:STANDARD
TZOFFSETFROM:+0300
TZOFFSETTO:+0200
TZNAME:EET
DTSTART:20241027T010000
END:STANDARD
END:VTIMEZONE
BEGIN:VEVENT
DTSTART;VALUE=DATE:20230108
DTEND;VALUE=DATE:20230709
DTSTAMP:20260421T044052
CREATED:20210701T223152Z
LAST-MODIFIED:20230627T081454Z
UID:44949-1673136000-1688860799@europebookings.com
SUMMARY:Elton John Concert Tickets
DESCRIPTION:Get TicketsAccommodation\nWords such as “icon” and “legend” are generally overused when it comes to musicians. Elton John is one of the few who has an indisputable claim to both. Over six decades\, the man born Reginald Kenneth Dwight has shown an unparalleled ability to move with the times while remaining indelibly unique. \nElton’s Farewell Tour marks the end of half a century on the road for one of pop culture’s most enduring performers. The new stage production will take his fans on a musical and highly visual journey spanning a 50-year career of hits like no one has ever seen before. \nThe Final Farewell Tour will make stops in the United States\, Australia\, New Zealand and Europe’s major cities such as Milan\, London\, Paris and more. \n\nElton John Concert Tickets\n21 & 27 & 28 Jun @ Accor Arena\, Paris\, France\nBook Tickets\n1 & 2 Jul @ Hallenstadion\, Zurich\, Switzerland\nBook Tickets\n5 Jul @ Royal Arena\, Copenhagen\, Denmark\nBook Tickets\n7 & 8 Jul @ Tele2 Arena\, Stockholm\, Sweden\nBook Tickets\nAccommodation\nBook your accommodation in any city using the map below or visit booking.com \nBooking.comBook Hotels & Airbnbs near the Venue at the Lowest Price online!\n\nBook FlightsAirport TransfersCar RentalsTrain/Bus Tickets\nRelated Concerts\nLewis Capaldi Concert Tickets\n31 May – 16 Sep | Europe\nSting Concert Tickets & Tour Dates\n6 Jun – 18 Jul | Europe\n		\n			\n\n				\n				\n					Search for:
URL:https://europebookings.com/festival/elton-john-concert-tickets/
LOCATION:Various Venues
CATEGORIES:Concerts,Pop,Rock
ATTACH;FMTTYPE=image/jpeg:https://europebookings.com/wp-content/uploads/elton-john-concert-tickets.jpg
END:VEVENT
BEGIN:VEVENT
DTSTART;VALUE=DATE:20230510
DTEND;VALUE=DATE:20230928
DTSTAMP:20260421T044053
CREATED:20230202T154758Z
LAST-MODIFIED:20230924T114046Z
UID:67835-1683676800-1695859199@europebookings.com
SUMMARY:Beyoncé Renaissance World Tour
DESCRIPTION:Get TicketsAccommodation\nBeyoncé has announced a 43-date world tour\, beginning on May 10 in Stockholm\, and continuing in Europe through June\, before coming to North America in support of her critically-acclaimed Renaissance album. This is her first solo tour in over six years. \nThe 2023 tour\, produced by Parkwood Entertainment\, and promoted by Live Nation\, kicks off on May 10 at Friends Arena in Stockholm\, making stops throughout Europe in Cardiff\, Edinburgh\, Sunderland\, Paris\, London\, Marseille\, Amsterdam\, Warsaw and more. The tour then continues across North America with shows in Toronto\, Chicago\, East Rutherford\, Atlanta\, Las Vegas\, Los Angeles\, Houston and more. \nFurther UK dates will take place in Edinburgh on 20 May\, Sunderland on 23 May and London’s Tottenham Hotspur Stadium on 29 and 30 May. \n\nBeyoncé Renaissance World Tour Dates & Tickets\nUSA & Canada Tour\n24 Sep @ NRG Stadium\, Houston\, TX\, USA – Buy Tickets\n27 Sep @ Caesars Superdome\, New Orleans\, LA\, USA – Buy Tickets\n01 Oct @ Arrowhead Stadium\, Kansas City\, MO\, USA – Buy Tickets \nAccommodation\nBook your accommodation in any city using the map below or visit booking.com \nBooking.comBook Hotels & Airbnbs near the Venue at the Lowest Price online!\n\nBook FlightsAirport TransfersCar RentalsTrain/Bus Tickets\nRelated Concerts\nGuns N’ Roses World Tour Tickets\n5 Jun – 16 Oct | USA & Europe\nMadonna Celebration Tour Tickets\n14 Oct – 5 Dec | Europe\n		\n			\n\n				\n				\n					Search for:
URL:https://europebookings.com/festival/beyonce-concert-tickets/
LOCATION:Various Venues
CATEGORIES:Concerts,Pop
ATTACH;FMTTYPE=image/jpeg:https://europebookings.com/wp-content/uploads/beyonce-renaissance-world-tour-dates-tickets.jpg
END:VEVENT
END:VCALENDAR