BEGIN:VCALENDAR
VERSION:2.0
PRODID:-//Europebookings - ECPv6.15.20//NONSGML v1.0//EN
CALSCALE:GREGORIAN
METHOD:PUBLISH
X-ORIGINAL-URL:https://europebookings.com
X-WR-CALDESC:Events for Europebookings
REFRESH-INTERVAL;VALUE=DURATION:PT1H
X-Robots-Tag:noindex
X-PUBLISHED-TTL:PT1H
BEGIN:VTIMEZONE
TZID:Asia/Nicosia
BEGIN:DAYLIGHT
TZOFFSETFROM:+0200
TZOFFSETTO:+0300
TZNAME:EEST
DTSTART:20220327T010000
END:DAYLIGHT
BEGIN:STANDARD
TZOFFSETFROM:+0300
TZOFFSETTO:+0200
TZNAME:EET
DTSTART:20221030T010000
END:STANDARD
BEGIN:DAYLIGHT
TZOFFSETFROM:+0200
TZOFFSETTO:+0300
TZNAME:EEST
DTSTART:20230326T010000
END:DAYLIGHT
BEGIN:STANDARD
TZOFFSETFROM:+0300
TZOFFSETTO:+0200
TZNAME:EET
DTSTART:20231029T010000
END:STANDARD
BEGIN:DAYLIGHT
TZOFFSETFROM:+0200
TZOFFSETTO:+0300
TZNAME:EEST
DTSTART:20240331T010000
END:DAYLIGHT
BEGIN:STANDARD
TZOFFSETFROM:+0300
TZOFFSETTO:+0200
TZNAME:EET
DTSTART:20241027T010000
END:STANDARD
END:VTIMEZONE
BEGIN:VEVENT
DTSTART;VALUE=DATE:20230605
DTEND;VALUE=DATE:20231017
DTSTAMP:20260420T210232
CREATED:20210322T110054Z
LAST-MODIFIED:20231010T084737Z
UID:43372-1685923200-1697500799@europebookings.com
SUMMARY:Guns N’ Roses World Tour Tickets
DESCRIPTION:Get TicketsAccommodation\nGuns N’ Roses is headed back out on the road in 2023 with a global tour that will touch down in the Middle East\, Europe and North America. \nThe powerhouse rock band launch this jaunt on June 5 in Tel Aviv\, Israel at Park Hayarkon and will continue across Europe through July 22\, wrapping in Athens\, Greece. \nThe band will continue onto North America\, starting on Saturday\, August 5 in Moncton\, NB at Medavie Blue Cross Stadium\, and will visit historic venues across the country such as Fenway Park in Boston\, MA on August 21 and Wrigley Field in Chicago\, IL on August 24. The tour concludes in Vancouver\, BC at BC Place on Monday\, October 16. \n\nGuns N’ Roses World Tour Tickets 2023\nNorth America Tour11 Oct @ Chase Field\, Phoenix\, AZ – Buy Tickets\n14 Oct @ Climate Pledge Arena\, Seattle\, WA – Buy Tickets\n16 Oct @ BC Place Stadium\, Vancouver\, CA – Buy TicketsAccommodation\nBook your accommodation in any city using the map below or visit booking.com \nBooking.comBook Hotels & Airbnbs near the Venue at the Lowest Price online!\n\nBook FlightsAirport TransfersCar RentalsTrain/Bus Tickets\nGallery\nRelated Concerts\nSting Concert Tickets\n12 Sep – 13 Dec | North America\, Europe\nThe 1975 Concert Tickets\n9 Feb 2024 – 22 Mar 2024 | Europe\n		\n			\n\n				\n				\n					Search for:
URL:https://europebookings.com/festival/guns-n-roses-concert-tickets/
LOCATION:Various Venues
CATEGORIES:Concerts,Heavy Metal,Rock
ATTACH;FMTTYPE=image/jpeg:https://europebookings.com/wp-content/uploads/guns-n-roses-world-tour-tickets-2023.jpg
END:VEVENT
END:VCALENDAR