BEGIN:VCALENDAR
VERSION:2.0
PRODID:-//Europebookings - ECPv6.15.20//NONSGML v1.0//EN
CALSCALE:GREGORIAN
METHOD:PUBLISH
X-WR-CALNAME:Europebookings
X-ORIGINAL-URL:https://europebookings.com
X-WR-CALDESC:Events for Europebookings
REFRESH-INTERVAL;VALUE=DURATION:PT1H
X-Robots-Tag:noindex
X-PUBLISHED-TTL:PT1H
BEGIN:VTIMEZONE
TZID:Asia/Nicosia
BEGIN:DAYLIGHT
TZOFFSETFROM:+0200
TZOFFSETTO:+0300
TZNAME:EEST
DTSTART:20220327T010000
END:DAYLIGHT
BEGIN:STANDARD
TZOFFSETFROM:+0300
TZOFFSETTO:+0200
TZNAME:EET
DTSTART:20221030T010000
END:STANDARD
BEGIN:DAYLIGHT
TZOFFSETFROM:+0200
TZOFFSETTO:+0300
TZNAME:EEST
DTSTART:20230326T010000
END:DAYLIGHT
BEGIN:STANDARD
TZOFFSETFROM:+0300
TZOFFSETTO:+0200
TZNAME:EET
DTSTART:20231029T010000
END:STANDARD
BEGIN:DAYLIGHT
TZOFFSETFROM:+0200
TZOFFSETTO:+0300
TZNAME:EEST
DTSTART:20240331T010000
END:DAYLIGHT
BEGIN:STANDARD
TZOFFSETFROM:+0300
TZOFFSETTO:+0200
TZNAME:EET
DTSTART:20241027T010000
END:STANDARD
BEGIN:DAYLIGHT
TZOFFSETFROM:+0200
TZOFFSETTO:+0300
TZNAME:EEST
DTSTART:20250330T010000
END:DAYLIGHT
BEGIN:STANDARD
TZOFFSETFROM:+0300
TZOFFSETTO:+0200
TZNAME:EET
DTSTART:20251026T010000
END:STANDARD
END:VTIMEZONE
BEGIN:VEVENT
DTSTART;VALUE=DATE:20231123
DTEND;VALUE=DATE:20240828
DTSTAMP:20260420T151839
CREATED:20230119T145740Z
LAST-MODIFIED:20240615T104936Z
UID:67173-1700697600-1724803199@europebookings.com
SUMMARY:Sting Concert Tickets
DESCRIPTION:Get TicketsAccommodation\nSting will be returning to North America & Europe in 2023 with his “My Songs” Tour for a number of dates in the USA\, Canada\, Germany\, The Netherlands\, Belgium\, Spain and more. \nOriginally the lead singer of The Police\, Sting went solo in 1984 and has become one of the UK’s most eclectic solo artists. \nA composer\, singer-songwriter\, actor\, author\, and activist Sting has received 11 Grammy Awards\, two BRITs\, a Golden Globe\, an Emmy\, four Oscar nominations\, a Tony nomination and MusiCares 2004 Person of the Year. In 2003\, he was made a Commander of the Order of the British Empire (CBE) by Queen Elizabeth II for his myriad of contributions to music. \nWith songs incorporating jazz\, world music and classical elements\, along with a fantastic live show\, he appeals to a very wide audience. \nClassic tracks include If I Ever Lose My Faith in You\, Shape Of My Heart\, Every Breath You Take and Fields of Gold. \nRenowned for performing in stadiums and arenas across the world\, this series of concerts offers the rare opportunity to see Sting in an intimate venue. \n\nSting Concert Tickets & Tour Dates\n18 Jun @ Musgrave Park\, Cork\, IrelandBook Tickets19 Jun @ Belsonic (Ormeau Park)\, Belfast\, UKBook Tickets22 Jun @ Thetford Forest\, Suffolk\, UKBook Tickets23 Jun @ Sherwood Pines\, Nottinghamshire\, UKBook Tickets20 Jul @ Fulda Domplatz\, Fulda\, DEBook Tickets23 Jul @ Schloss Salem\, Salem\, DEBook Tickets24 Jul @ Barockgarten am Festpielhaus\, Füssen\, DEBook Tickets27 Jul @ Platz vor der Emsland Arena\, Lingen\, DEBook TicketsAccommodation\nBook your accommodation in any city (type destination & add dates) using the map below or visit booking.com \nBooking.comBook Hotels & Airbnbs near the Venue at the Lowest Price online!\n\nBook FlightsAirport TransfersCar RentalsTrain/Bus Tickets
URL:https://europebookings.com/festival/sting-concert-tickets/
LOCATION:Various Venues
CATEGORIES:Concerts,Pop,Rock
ATTACH;FMTTYPE=image/jpeg:https://europebookings.com/wp-content/uploads/sting-concert-tickets-tour-dates.jpg
END:VEVENT
BEGIN:VEVENT
DTSTART;VALUE=DATE:20240124
DTEND;VALUE=DATE:20240818
DTSTAMP:20260420T151839
CREATED:20210320T212955Z
LAST-MODIFIED:20240615T105327Z
UID:43259-1706054400-1723939199@europebookings.com
SUMMARY:Architects Concert Tickets
DESCRIPTION:Get TicketsAccommodation\nIn summer 2023 the band announced their Still… At Their Very Best tour\, set to arrive in the UK and Europe in 2024. \nHailing from Manchester since 2002\, The 1975 have emerged as leading figures in modern music. With two ‘Best Group’ BRIT Awards and five consecutive No. 1 UK albums\, their impact is undeniable. Their recent “At Their Very Best” UK tour\, including two London O2 Arena gigs in January 2023\, received widespread praise. Initially set to headline Finsbury Park in 2020\, the global pandemic postponed their appearance until now.  \nThroughout their career\, The 1975 have explored genres from pop to garage rock and touched on pressing themes like mental health and climate change. Their 2002 album\, “Being Funny In A Foreign Language”\, garnered attention for its captivating songcraft. The “At Their Very Best” tour showcased their innovative approach\, even surprising fans with Taylor Swift at a London gig. \n\nArchitects Concert Tickets 2024\n05 Jul – PGE Narodowy\, Warsaw\, PLBuy Tickets12 Jul – Cívitas Metropolitano\, Madrid\, ESBuy Tickets08 - 11 Aug – Bloodstock Open Air\, Walton on Trent\, UKBuy Tickets14 - 17 Aug – Summer Breeze Open Air\, Dinkelsbühl\, DEBuy TicketsAccommodation\nBook your accommodation in any city (type destination & add dates) using the map below or visit booking.com \nBooking.comBook Hotels & Airbnbs near the Venue at the Lowest Price online!\n\nBook FlightsAirport TransfersCar RentalsTrain/Bus Tickets\nRelated Concerts\nSting Concert Tickets\n12 Sep – 13 Dec\nThe 1975 Concert Tickets\n15 Sep 2023 – 24 Mar 2024\n		\n			\n\n				\n				\n					Search for:
URL:https://europebookings.com/festival/architects-concert-tickets/
LOCATION:Various Venues
CATEGORIES:Concerts,Heavy Metal,Rock
ATTACH;FMTTYPE=image/jpeg:https://europebookings.com/wp-content/uploads/architects-concert-tickets.jpg
END:VEVENT
BEGIN:VEVENT
DTSTART;VALUE=DATE:20240127
DTEND;VALUE=DATE:20240421
DTSTAMP:20260420T151839
CREATED:20210308T210222Z
LAST-MODIFIED:20230912T205148Z
UID:43025-1706313600-1713657599@europebookings.com
SUMMARY:Simple Minds Concert Tickets
DESCRIPTION:Get TicketsAccommodation\nSimple Minds announced their Global Tour arriving in the UK in spring 2024\, marking one of the most important chapters in the band’s history. The band\, still incredibly popular after 4 decades\, announced a whole series of European\, Australia & New Zealand dates. \nSimple Minds are one of the UK’s most successful bands\, having achieved five No.1 albums and eight Top 10 singles at home\, as well as landing numerous chart-topping positions around the world. In addition to selling over 60 million albums\, they’ve packed the world’s biggest venues and played momentous shows including the American leg of Live Aid in 1985 and the Nelson Mandela tribute concert in 1988. \n\nSimple Minds Concert Tickets & Tour Dates\n27 Jan - Taupo Amphitheatre\, Taupo\, NZBook Tickets28 Jan - Claudelands Oval\, Hamilton\, NZBook Tickets03 Feb - Gibbston Valley Winery\, Queenstown\, NZBook Tickets10 Feb - Mornington Racecourse\, Mornington \,AUSBook Tickets11 Feb - Rochford Wines\, Yarra Valley\, AUSBook Tickets17 Feb - Sandstone Point\, Bribie Island QLD\, AUSBook Tickets21 Feb - Kings Park & Botanic Garden\, Perth\, AUSBook Tickets15 Mar - First Direct Arena\, Leeds\, UKBook Tickets16 Mar - AO Arena\, Manchester\, UKBook Tickets18 Mar - 3 Arena\, Dublin\, IEBook Tickets19 Mar - SSE Arena\, Belfast\, UKBook Tickets21 Mar - O2 Arena\, London\, UKBook Tickets23 Mar - Utilita Arena\, Birmingham\, UKBook Tickets24 Mar - Motorpoint Arena\, Nottingham\, UKBook Tickets26 Mar - International Centre\, Bournemouth\, UKBook Tickets27 Mar - Utilita Arena\, Cardiff\, UKBook Tickets29 Mar - OVO Hydro\, Glasgow\, UKBook Tickets30 Mar - OVO Hydro\, Glasgow\, UKBook Tickets02 Apr - Rockhal\, Luxembourg\, LUBook Tickets04 Apr - Zenith\, Strasbourg\, FRBook Tickets05 Apr - Sportpaleis\, Antwerp\, BEBook Tickets06 Apr - Ziggo Dome\, Amsterdam\, NLBook Tickets08 Apr - Royal Arena\, Copenhagen\, DKBook Tickets10 Apr - Barclays Arena\, Hamburg\, DEBook Tickets11 Apr - Mercedes-Benz Arena\, Berlin\, DEBook Tickets12 Apr - Festhalle\, Frankfurt\, DEBook Tickets13 Apr - Zenith\, Munich\, DEBook Tickets15 Apr - Zénith de Dijon\, Dijon\, FRBook Tickets16 Apr - Zénith Nantes Métropole\, Nantes\, FRBook Tickets18 Apr - Le Zénith\, Paris\, FRBook Tickets19 Apr - Zénith d’Auvergne\, Clermont-Ferrand\, FRBook Tickets20 Apr - Mediolanum Forum\, Milan\, ITBook TicketsAccommodation\nBook your accommodation in any city (type destination & add dates) using the map below or visit booking.com \nBooking.comBook Hotels & Airbnbs near the Venue at the Lowest Price online!\n\nBook FlightsAirport TransfersCar RentalsTrain/Bus Tickets\nGallery\nRelated Concerts\nSting Concert Tickets\n12 Sep – 13 Dec\nThe 1975 Concert Tickets\n15 Sep 2023 – 24 Mar 2024\n		\n			\n\n				\n				\n					Search for:
URL:https://europebookings.com/festival/simple-minds-concert-tickets/
LOCATION:Various Venues
CATEGORIES:Concerts
ATTACH;FMTTYPE=image/jpeg:https://europebookings.com/wp-content/uploads/simple-minds-tour.jpg
END:VEVENT
END:VCALENDAR