BEGIN:VCALENDAR
VERSION:2.0
PRODID:-//Europebookings - ECPv6.15.20//NONSGML v1.0//EN
CALSCALE:GREGORIAN
METHOD:PUBLISH
X-WR-CALNAME:Europebookings
X-ORIGINAL-URL:https://europebookings.com
X-WR-CALDESC:Events for Europebookings
REFRESH-INTERVAL;VALUE=DURATION:PT1H
X-Robots-Tag:noindex
X-PUBLISHED-TTL:PT1H
BEGIN:VTIMEZONE
TZID:Asia/Nicosia
BEGIN:DAYLIGHT
TZOFFSETFROM:+0200
TZOFFSETTO:+0300
TZNAME:EEST
DTSTART:20210328T010000
END:DAYLIGHT
BEGIN:STANDARD
TZOFFSETFROM:+0300
TZOFFSETTO:+0200
TZNAME:EET
DTSTART:20211031T010000
END:STANDARD
BEGIN:DAYLIGHT
TZOFFSETFROM:+0200
TZOFFSETTO:+0300
TZNAME:EEST
DTSTART:20220327T010000
END:DAYLIGHT
BEGIN:STANDARD
TZOFFSETFROM:+0300
TZOFFSETTO:+0200
TZNAME:EET
DTSTART:20221030T010000
END:STANDARD
BEGIN:DAYLIGHT
TZOFFSETFROM:+0200
TZOFFSETTO:+0300
TZNAME:EEST
DTSTART:20230326T010000
END:DAYLIGHT
BEGIN:STANDARD
TZOFFSETFROM:+0300
TZOFFSETTO:+0200
TZNAME:EET
DTSTART:20231029T010000
END:STANDARD
END:VTIMEZONE
BEGIN:VEVENT
DTSTART;VALUE=DATE:20220630
DTEND;VALUE=DATE:20220704
DTSTAMP:20260423T042351
CREATED:20211209T210914Z
LAST-MODIFIED:20220624T142408Z
UID:51540-1656547200-1656892799@europebookings.com
SUMMARY:Outlook Festival UK
DESCRIPTION:Get TicketsAccommodationTravel InfoFor the first time in the festival’s 14 year history\, Outlook Festival is coming to the UK to celebrate the best in sound system culture at Cholmondeley Castle. Normally found on the sunny shores of Croatia\, from its former home in Pula to its more recent residence in Tisno\, the beloved celebration of soundsystem culture is now adding an edition on home soil. \nAcross four days and nights\, expect a characteristically stacked lineup of talent from across jungle\, drum and bass\, dubstep\, garage\, grime and more\, combined with a programme of workshops\, talks\, cinema and food. \n\nOutlook Festival UK 2022 Lineup\nAll ArtistsGhetts / Skream / Fabio & Grooverider and The Outlook Orchestra / 15 Years of Hessle Audio: Ben UFO – Pangaea – Pearson Sound / Alicai Harley / Batu / Break / Calibre / Children of Zeus / Chloé Robinson / Coki / D Double E / dBridge / DJ Storm / Doc Scott / Dreya Mac / DRS [live] / Gentleman’s Dub Club / Goldie / Hollie Cook / Lenzman / LTJ Bukem / Mala / Macka BK & The Roots Ragga Band / Novelist / Randall / Sam Wise / SHERELLE / Skeptical / Special Request / Zenker Brothers / Addison Groove / Al Wootton / Ama / Ant TC1 / Anz / Beneath / Black Josh / Breakage / Bruce / BXKS / Changsie / Charlotte Devaney / Chefal / Cimm / Coco Bryce / Commodo / Coops / Danielle Darwin / DJ Flight / Djinn / DLR / Double O / Eva Lazarus / Grey Code / Grove / Hatcha / The Heatwave / Heny G / Ink / IZCO / J:Kenzo / J. Sparrow / Katbrownsugar / Kofi Stone / KSR / Kyrist / Laksa / LCY / Loxy / Mantra / Medic MC / Mina / N-Type / Nookie / Om Unit / Oneman / Phase / Plastician / Ployre:ni / Reggae Roast / SB81 / Sgt Pokes / Shy One / Sicaria Sound / Silkie / Stenny / Sukh Knight / Sully / Sweetpea / Sumgii / Tailor Jae / Tash LC / Tasha TC & The Groove Family / TMSV / TrendsT / he Untouchables / Von D / Youngsta / ZamZam Sounds (E3 & Tracy) / 207 / Adam Prescott / Alley Cat / American Grime / Averse / Blazin / BOGL / Breakfake / Collette Warren / Danny T & Tradesman / DE:TU / Diverge / DJ ADHD / Donga / Dub Athlete / Dubolik & Lo Peaks ft Dr. Obi / Duku Evabee / Elisa Do Brasil / Filip Motovunski / Finwa Gnasha / Joe NBO / J Oh Zee / Junior / k means / Kira / LaMeduza / Lara / Maria / Gusto / Medis / Melissa / Minty / My Best Friend / Natty Campbell / NikNak / Oh My Rosh / One87 / Sis Nam / SKS / Something Something / Somah / Vixen Sound / Ynez / Yoofee \n+ more artists TBAOutlook Festival UK 2022 Tickets\nFestival & Combo Tickets from £173.00 (€205.26) are on sale at Festicket:\nTickets from £64.35 (€74.96) are on sale at Ticketswap!\nTicketsOutlook Festival UK\nvia FesticketBookTicketsOutlook Festival UK\nvia TicketswapBookOutlook Origins Festival\n28 Jul – 2 Aug 2022 | Tisno\, Croatia\nTICKETS ON SALE \nAccommodation\nThe city of Malpas and nearby areas offer a wide range of accommodation options. Book your stay for Outlook Festival UK using the map below or visit booking.com \nBook Hotels & Airbnbs near the Venue at the Lowest Price online!\n\nTravel Info\nBY CAR\nGet DirectionsBY TRAIN & BUS\nNearby cities of Chester\, Liverpool and Manchester are well connected by rail in the UK.\nFrom Liverpool you can then take the Bus from Liverpool One Bus Station to Canning Place to Nantwich (1h 40 min journey) and then a 20 min taxi ride to the venue.\nFrom Chester you can then take the Bus from Foregate Street Stop DD to Tattenhall\, Post Office (40 min journey) and then a 20 min taxi ride to the venue.\nFrom Manchester you can take the train from Manchester Piccadilly to Whitchurch (Shrops) (1h journey) and then a 15 min taxi ride to the venue. \nBY PLANE\nManchester Airport (MAN) is the closest to the festival. From the airport take the train to Crewe (41 min journey) and from there take the train to Wrenbury (15 min journey). The venue is a a 14 min taxi ride away. \nBook FlightsAirport TransfersCar RentalsTrain/Bus Tickets\nGallery
URL:https://europebookings.com/festival/outlook-festival-uk/
LOCATION:Cholmondeley Castle\, Cholmondeley Castle\, Malpas\, SY14 8AH\, United Kingdom
CATEGORIES:Drum & Bass,Dubstep,Electronic,Garage
ATTACH;FMTTYPE=image/jpeg:https://europebookings.com/wp-content/uploads/outlook-festival-performing-1.jpg
END:VEVENT
END:VCALENDAR