BEGIN:VCALENDAR
VERSION:2.0
PRODID:-//Europebookings - ECPv6.15.20//NONSGML v1.0//EN
CALSCALE:GREGORIAN
METHOD:PUBLISH
X-WR-CALNAME:Europebookings
X-ORIGINAL-URL:https://europebookings.com
X-WR-CALDESC:Events for Europebookings
REFRESH-INTERVAL;VALUE=DURATION:PT1H
X-Robots-Tag:noindex
X-PUBLISHED-TTL:PT1H
BEGIN:VTIMEZONE
TZID:Asia/Nicosia
BEGIN:DAYLIGHT
TZOFFSETFROM:+0200
TZOFFSETTO:+0300
TZNAME:EEST
DTSTART:20210328T010000
END:DAYLIGHT
BEGIN:STANDARD
TZOFFSETFROM:+0300
TZOFFSETTO:+0200
TZNAME:EET
DTSTART:20211031T010000
END:STANDARD
BEGIN:DAYLIGHT
TZOFFSETFROM:+0200
TZOFFSETTO:+0300
TZNAME:EEST
DTSTART:20220327T010000
END:DAYLIGHT
BEGIN:STANDARD
TZOFFSETFROM:+0300
TZOFFSETTO:+0200
TZNAME:EET
DTSTART:20221030T010000
END:STANDARD
BEGIN:DAYLIGHT
TZOFFSETFROM:+0200
TZOFFSETTO:+0300
TZNAME:EEST
DTSTART:20230326T010000
END:DAYLIGHT
BEGIN:STANDARD
TZOFFSETFROM:+0300
TZOFFSETTO:+0200
TZNAME:EET
DTSTART:20231029T010000
END:STANDARD
END:VTIMEZONE
BEGIN:VEVENT
DTSTART;VALUE=DATE:20220827
DTEND;VALUE=DATE:20220828
DTSTAMP:20260422T192903
CREATED:20191026T135401Z
LAST-MODIFIED:20220818T213104Z
UID:25759-1661558400-1661644799@europebookings.com
SUMMARY:Hifields Festival
DESCRIPTION:Get TicketsAccommodationTravel Info\nHifields Festival is magical gathering in the idyllic Suffolk countryside\, curated by music lovers for music lovers. \nExpect the unexpected for the Hifields have carefully curated a day for the making of memories. Get lost in the endless woods\, frolic with the fairies in the meadows and dance with friends\, old and new\, until the moon lights the way home. \nHifields Festival was founded by a group of friends who wanted to create a place to dance together without inhibitions. \n\nHifields Festival 2022 Lineup\nAll Artists\nAmmara / Crissy Criss / Dappz / Donny Rotten / Franky Wah / Garage Nation / Harriet Jaxxon / Katie Goodman / Matt Jam Lamont / Maur / Mele / Metrik / Pax / Scott Garcia / Sharky P / This is Inja / Warning Cambridge / We Hifi / Wideboys \nHifields Festival 2022 Tickets\nTickets from £38.00 (€44.95) are on sale:\nTicketsHifields Festival\nvia Official SiteBookBuy & Sell TicketsHifields Festival\nvia TicketswapBookAccommodation\nThe city of Newmarket offers a wide range of accommodation options. Book your stay for Hifields Festival using the map below or visit booking.com \nBook Hotels & Airbnbs near the Venue at the Lowest Price online!\n\nTravel Info\nBY CAR\nThere is ample free parking on site. Cars may be left overnight. \nGet DirectionsBY TRAIN\nFrom London Liverpool Street station take the train to Stowmarket (1h 22 min journey) and then take the train to Bury St Edmunds (20 min journey). From Bury St Edmunds Bus Station take the Bus to Nowton Estate (12 min journey)\, a short taxi ride (1.4 km) to the venue. \nBook FlightsAirport TransfersCar RentalsTrain/Bus Tickets\nGallery\nRelated Festivals\nParklife Festival\n20 Jun – 21 Jun | Manchester\, UK\nReading Festival\n27 Aug – 30 Aug | Reading\, UK\n		\n			\n\n				\n				\n					Search for:
URL:https://europebookings.com/festival/hifields-festival/
LOCATION:Nowton Park\, Nowton Park\, Bury Rd\, Bury Saint Edmunds\, IP29 5LU\, United Kingdom
CATEGORIES:Drum & Bass,Electronic,Garage,House
ATTACH;FMTTYPE=image/jpeg:https://europebookings.com/wp-content/uploads/hifields-festival-stage-colours.jpg
END:VEVENT
END:VCALENDAR