BEGIN:VCALENDAR
VERSION:2.0
PRODID:-//Europebookings - ECPv6.15.20//NONSGML v1.0//EN
CALSCALE:GREGORIAN
METHOD:PUBLISH
X-ORIGINAL-URL:https://europebookings.com
X-WR-CALDESC:Events for Europebookings
REFRESH-INTERVAL;VALUE=DURATION:PT1H
X-Robots-Tag:noindex
X-PUBLISHED-TTL:PT1H
BEGIN:VTIMEZONE
TZID:Asia/Nicosia
BEGIN:DAYLIGHT
TZOFFSETFROM:+0200
TZOFFSETTO:+0300
TZNAME:EEST
DTSTART:20220327T010000
END:DAYLIGHT
BEGIN:STANDARD
TZOFFSETFROM:+0300
TZOFFSETTO:+0200
TZNAME:EET
DTSTART:20221030T010000
END:STANDARD
BEGIN:DAYLIGHT
TZOFFSETFROM:+0200
TZOFFSETTO:+0300
TZNAME:EEST
DTSTART:20230326T010000
END:DAYLIGHT
BEGIN:STANDARD
TZOFFSETFROM:+0300
TZOFFSETTO:+0200
TZNAME:EET
DTSTART:20231029T010000
END:STANDARD
BEGIN:DAYLIGHT
TZOFFSETFROM:+0200
TZOFFSETTO:+0300
TZNAME:EEST
DTSTART:20240331T010000
END:DAYLIGHT
BEGIN:STANDARD
TZOFFSETFROM:+0300
TZOFFSETTO:+0200
TZNAME:EET
DTSTART:20241027T010000
END:STANDARD
END:VTIMEZONE
BEGIN:VEVENT
DTSTART;VALUE=DATE:20230706
DTEND;VALUE=DATE:20230710
DTSTAMP:20260421T060944
CREATED:20191215T183601Z
LAST-MODIFIED:20230409T125750Z
UID:30042-1688601600-1688947199@europebookings.com
SUMMARY:NASS Festival
DESCRIPTION:Get TicketsAccommodationTravel Info\nNASS Festival returns in July 2023\, promising to once again lay on an incredible weekend of music\, street art\, skate and BMX at the Royal Bath & West Showground. \nThe UK’s only professional action sport and music festival\, NASS Festival’s expansive lineup will include a number of sports competitions in Skate\, BMX\, Inline and FMX – battled out by some of the biggest names on the international scene\, as well as brilliant music from the world’s of drum and bass\, hip-hop\, grime\, garage and house. \nAnd beyond that\, street art will continue to play a huge part in the festival with various dedicated pieces to be showcased around the site\, all in partnership with Upfest\, the founders of Europe’s largest street art festival. \n\nNASS Festival 2023 Lineup\nAll ArtistsAbbie Piper / Ac13 / Anne-Marie / Ayrtn / Berwyn / Biig Piig / Bladerunner / Bru-C / Cassia / Charlie Tee / Charlotte Haining / Chase & Status (Live) / Culture Shock / Debbie / Degs / Disrupta / Easy Life / Eksman / Example / Finn Foxell / Flava D / Gardna / Georgie Riot / Girls Don’t Sync / Gray / Greentea Peng / Hedex / Joe Unknown / Joel Corry / Kojey Radical / Koven / Lens & Degs / Little Simz / Majestic / Mc Lowqui / Nathan Dawe / Noisy / Pip Millett / Problem Central / Rachel Chinouriri / S.P.Y / Sammy Virji / Shy Fx: Specials / Siren / Songer / Sota / Venbee / Vibe Chemistry / Wu-Tang Clan \nNASS Festival 2023 Tickets\nThursday\, Friday & VIP Camping Tickets from £173.00 (€200.78) are on sale:\nTickets\nNASS Festivalvia See Tickets \nBookAccommodation\nCamping during the festival is included with Camping Tickets purchased here. All you need is basic camping gear\, like a tent\, a camping pad and a head torch (so useful in the night). If you don’t want to bring your own tent\, the festival offers Pre-pitched tents with extra comfort to be announced soon: \nAlternatively\, you can book nearby hotels and apartments using the map below or visit booking.com \nBooking.comBook Hotels & Airbnbs near the Venue at the Lowest Price online!\n\nTravel Info\nBY CAR\nCar Parking & Campervan Tickets can be purchased here \nGet DirectionsBY TRAIN\nThe closest train station to the festival is Castle Cary. From London Paddington Station take the train to Castle Cary (1h 35 min journey). The festival will be operating a shuttle bus between the station and festival site for a small fee (cash only). \nBY SHUTTLE BUS\nShuttle buses will run regularly from the festival entrance to Castle Cary Station. \nBY PLANE\nLondon Heathrow Airport (LHR) is the closest to the festival. From Heathrow Terminals 2 & 3 take the train to London Paddington (16 min journey) and from there\, take the train to Castle Cary (1h 35 min journey). You can then take the festival’s shuttle bus to take you to the venue. \nBook FlightsAirport TransfersCar RentalsTrain/Bus Tickets\nGallery
URL:https://europebookings.com/festival/nass-festival/
LOCATION:Royal Bath & West Showground\, The Showground\, Shepton Mallet\, BA4 6QN\, United Kingdom
CATEGORIES:Drum & Bass,Electronic,Hip Hop,Multi-Genre
ATTACH;FMTTYPE=image/jpeg:https://europebookings.com/wp-content/uploads/nass-festival-fans-dancing.jpg
END:VEVENT
END:VCALENDAR