BEGIN:VCALENDAR
VERSION:2.0
PRODID:-//Europebookings - ECPv6.15.20//NONSGML v1.0//EN
CALSCALE:GREGORIAN
METHOD:PUBLISH
X-WR-CALNAME:Europebookings
X-ORIGINAL-URL:https://europebookings.com
X-WR-CALDESC:Events for Europebookings
REFRESH-INTERVAL;VALUE=DURATION:PT1H
X-Robots-Tag:noindex
X-PUBLISHED-TTL:PT1H
BEGIN:VTIMEZONE
TZID:Asia/Nicosia
BEGIN:DAYLIGHT
TZOFFSETFROM:+0200
TZOFFSETTO:+0300
TZNAME:EEST
DTSTART:20240331T010000
END:DAYLIGHT
BEGIN:STANDARD
TZOFFSETFROM:+0300
TZOFFSETTO:+0200
TZNAME:EET
DTSTART:20241027T010000
END:STANDARD
BEGIN:DAYLIGHT
TZOFFSETFROM:+0200
TZOFFSETTO:+0300
TZNAME:EEST
DTSTART:20250330T010000
END:DAYLIGHT
BEGIN:STANDARD
TZOFFSETFROM:+0300
TZOFFSETTO:+0200
TZNAME:EET
DTSTART:20251026T010000
END:STANDARD
BEGIN:DAYLIGHT
TZOFFSETFROM:+0200
TZOFFSETTO:+0300
TZNAME:EEST
DTSTART:20260329T010000
END:DAYLIGHT
BEGIN:STANDARD
TZOFFSETFROM:+0300
TZOFFSETTO:+0200
TZNAME:EET
DTSTART:20261025T010000
END:STANDARD
END:VTIMEZONE
BEGIN:VEVENT
DTSTART;VALUE=DATE:20250704
DTEND;VALUE=DATE:20250707
DTSTAMP:20260420T031842
CREATED:20200128T102738Z
LAST-MODIFIED:20250225T210115Z
UID:31920-1751587200-1751846399@europebookings.com
SUMMARY:Rampage Open Air
DESCRIPTION:Get TicketsAccommodationTravel Info\nRampage Open Air Festival 2025 is set to return to Lommel\, Belgium\, from July 4-6\, transforming the picturesque Kristalpark into the ultimate hub for drum and bass and dubstep enthusiasts. Renowned as the biggest drum and bass and dubstep festival in the world\, Rampage promises an unparalleled auditory and visual experience. \nOver three days\, attendees can immerse themselves in the high-energy performances of top-tier artists and emerging talents across multiple stages. While the lineup for 2025 is yet to be announced\, past editions have featured renowned acts such as Pendulum\, Noisia\, and Andy C\, ensuring a stellar musical journey. \nWhat sets Rampage Open Air apart is its dedication to creating an immersive festival atmosphere with cutting-edge light shows\, booming sound systems\, and a vibrant community spirit. The festival also offers a variety of activities\, including fair rides and food markets\, making it a comprehensive and exciting event for all music lovers. \n\nRampage Open Air 2025 Lineup\nAll ArtistsAC13 B2B Murdock / Akov B2B TR Tactics / Alycia Bezozo / A.M.C / Amplify B2B Premium / Andy C (3 Hours Set) / Annix / Arcando / Atmos / Atmos B2B Pablo / Audio / Bad Habitz Showcase (Para Rampage) / Badklaat B2B Subfiltronik / Basslayerz / Beastboi / Becky Hill / Bennie B2B Titan / Bianca Oblivion / Bizo / Black Sun Empire / Blankface / Blatemate / Blanko B2B Robitops / Bloodlust / BootyRave / Bossfight / Brendan Casey / Camo & Krooked / Captain Bass / Catz B2B Sync / Ceejay / Changing Faces / Chubby Analog / C-Kid / Codd Dubz B2B Pyke (Live At The Dome) / Darkzy / Daxta / Diagnostix / Dimension / Disrupta / Dirtyphonics / Dirtyphonics B2B Murdock / DLR / DJ Donk / Doctor P / Don Diablo Presents Ctrl Alt Delete / Donkey Rolla / D-Skid / Drumsound & Bassline Smith / Dubtendo / Duke & Bass / Eatbrain 10Y / Ekko & Sidetrack / Emperor / Enei / Eprom / Excision / Explorers Of The Internet / Fade Black / Flavour D / Flashzoe / Flux Pavilion / Gino / Gladde Paling / Georgia Riot / GFP / Glitchterrize / Gray / Hizzleguy / Hixxy / Hoax / HOL! / Hybrid Minds / Imanu B2B What So Not / Infekt / Ironfist B2B Gino / Itsy / [IVY] / J Booker / Jakes / Jeanie / Joker B2B Sir Spyro / Jon Casey / Jub B2B Rof / K Motionz / Kanine / Koven / Lattex / Latte / Levity / Liquid Stranger (Throwback Set) / Little Warrior / Lorna B2B Cyclane / Lowrance / Lucify / Lurka / Macky Gee / Mad Dubz / Mad Habitz Showcase / Madken / Madster / Madstorm / Malaa / Maze / Mc Buju / Mc Mitch / Mc Mota / Mc Mush / Mc Nice / Mc Skywalker / Mc Wolf Pax / Mefjus / Murdock / Mozey / Nativ Visstick / NCT / Neuroheads / Ninja / Nitptpunk / Nokota / Ntox / N-Skid / Original Sin / P0sic / Panka / P0sic / Poke / Primate / Primate Pythius / Prunk / Pythius / Ranja / Ray Volpe / Reaper / Rendah & Jakka / Rezz / Riva / Rivo / Rova / Ruth Royale / S-Dodge / Samplifire / S&D / Sefski / Skepsis / Skantia / Sl8r / Slogans / Solvth / Sound Rush / Sound Rush Presents Journey Through Sound / Stomp / Sub Zero / Subsonic / Sullivan King / Super Glitch / Tailor Jae / Tattond / The Cabal Project / The Reflex / The Saints / The Shapeshifters / The Viper / T & Sugah / T & Sugah B2B Hamro B2B Solvth / Teshnaa / Tins / TNC / T & Sugah / Toktok / Toxate / Trinist / Turno / Upgrade B2B Limited / Vastive / Vegas / Vibe Chemistry / Villain / Vtokk / Volunt Barbariat / Vortex / Wraith / XRTN / Zany / Zero / ZorzaRampage Open Air 2025 Tickets\n1-Day & Weekend Tickets from €38.00 are on sale:\nTickets\nRampage Open Air\nvia Official Site \nBookAccommodation\nCamping during the festival requires a Camping Ticket purchased here. You will need basic camping gear\, like a tent\, a camping pad and a head torch (so useful in the night). \nAlternatively\, you can book nearby hotels and apartments using the map below or visit booking.com \nBook Hotels & Airbnbs near the Venue at the Lowest Price online!\n\nTravel Info\nBY CAR\nGet DirectionsBY TRAIN\nMol Train station is accessible from most European countries. From here\, a shuttle bus will take you to the festival and campsite. \nBY SHUTTLE BUS\nShuttle Bus tickets from Mol Train Station to the Festival site will be available. More info soon: \nBY PLANE\nThe nearest airport is Brussels Airport (BRU). Upon arrival take the IC train to Hasselt (1 hour journey and from there take the 180 bus to Lommel Kerk (50 min journey). \nBook FlightsAirport TransfersCar RentalsTrain/Bus Tickets\nGallery\nRelated Festivals\nEl Dorado Festival\nDates TBA | Ledbury\, UK\nOutlook Origins Festival\nDates TBA | Tisno\, Croatia\n		\n			\n\n				\n				\n					Search for:
URL:https://europebookings.com/festival/rampage-open-air/
LOCATION:Kristalpark\, Balendijk\, Lommel\, 3920\, Belgium
CATEGORIES:Drum & Bass,Dubstep,Electronic
ATTACH;FMTTYPE=image/jpeg:https://europebookings.com/wp-content/uploads/rampage-open-air-festival-main-stage-view.jpg
END:VEVENT
BEGIN:VEVENT
DTSTART;VALUE=DATE:20250719
DTEND;VALUE=DATE:20250721
DTSTAMP:20260420T031842
CREATED:20231015T163010Z
LAST-MODIFIED:20250208T095333Z
UID:74762-1752883200-1753055999@europebookings.com
SUMMARY:Habitat Festival
DESCRIPTION:Get TicketsAccommodationTravel Info\nHabitat Festival 2025: A 32-Hour Non-Stop Rave in Hamburg \nMark your calendars for Habitat Festival 2025\, taking place from 19th to 20th July in the vibrant district of Hamburg-Wilhelmsburg\, Germany. Known for its electric atmosphere and cutting-edge electronic music\, this two-day event will transform its industrial setting into a haven of techno\, house\, drum & bass\, and more. With 32 hours of non-stop music\, Habitat Festival is a must for dance music enthusiasts seeking an immersive rave experience. \nThis year’s lineup promises a stellar mix of top-tier techno artists and emerging underground acts. Past editions have hosted icons like Marcel Dettmann and Ki/Ki\, and 2025 is set to deliver even more unforgettable performances. Whether you’re drawn to pulsating techno beats or groovy house rhythms\, Habitat offers a musical journey that spans across multiple stages\, creating an electrifying vibe that resonates through the crowd. \nBeyond the music\, Habitat Festival also offers art installations\, food trucks\, and chill-out zones\, allowing you to take a break from the dance floor and explore the festival’s creative spaces. With its unique fusion of industrial surroundings and top-tier music\, this festival offers an unforgettable weekend in the heart of Hamburg’s underground scene! \n\nHabitat Festival 2025 Lineup\nAll ArtistsBae Blade / Cinthie / Dax J / Estella Boersma / Funk Tribu / Gerd Janson B2B Narciss / Jada / Janis Zielinski / Julie Pavon / Kaufmann / Mall Grab / Marcel Dettman / Marrøn / Melina B2B Jakob Seidensticker / Mija / Mischluft / Octo Octa / Paula Tape / Quelza / Salute / Space Drum Meditation / VTSS / and many moreHabitat Festival 2025 Tickets\nFestival Tickets from €80.00 are on sale:\nTickets\nHabitat Festival\nvia Official Site \nBookAccommodation\nCamping during the festival is included in the festival ticket\, so all you need is basic camping gear\, like a tent\, a camping pad and a head torch (so useful in the night). \nAlternatively\, you can book nearby hotels and apartments using the map below or visit booking.com \nBook Hotels & Airbnbs near the Venue at the Lowest Price online!\n\nTravel Info\nBY CAR\nGet DirectionsBY TRAIN\nHamburg is well connected by rail in Germany and major European cities. From Hamburg Hbf take the train to Wilhelmsburg (9 min journey) and then take the train from S Wilhelmsburg to Mengestrasse (5 min journey) just a short taxi ride away (1.3 km) from the venue. \nBY PLANE\nFrom Hamburg Airport (HAM) From here\, take a train to Hamburg Hbf (24 min journey) and then follow the above route. \nBook FlightsAirport TransfersCar RentalsTrain/Bus Tickets\nGallery\nRelated Festivals\nKappa Futur Festival\n4 Jul – 6 Jul | Turin\, Italy\nUltra Europe Festival\n11 Jul – 13 Jul | Split\, Croatia\n		\n			\n\n				\n				\n					Search for:
URL:https://europebookings.com/festival/habitat-festival/
LOCATION:MS Artville\, MS Artville\, Alte Schleuse 23\, Hamburg\, 21107\, Germany
CATEGORIES:Drum & Bass,Dubstep,Electronic,House,Techno
ATTACH;FMTTYPE=image/jpeg:https://europebookings.com/wp-content/uploads/habitat-festival-main-stage-roof-colours.jpg
END:VEVENT
BEGIN:VEVENT
DTSTART;VALUE=DATE:20250731
DTEND;VALUE=DATE:20250804
DTSTAMP:20260420T031843
CREATED:20191129T134059Z
LAST-MODIFIED:20250206T204954Z
UID:28427-1753920000-1754265599@europebookings.com
SUMMARY:Solar Weekend Festival
DESCRIPTION:Get TicketsAccommodationTravel Info\nSolar Weekend Festival 2025: Where Music\, Art\, and Adventure Unite \nPrepare for an unforgettable experience at Solar Weekend Festival 2025\, set to take place from July 31 to August 3 at Maasplassen in Roermond\, Netherlands. Known as one of Europe’s most creative festivals\, Solar Weekend blends music\, art\, and community spirit in an eclectic mix that captures the imagination of thousands of attendees. With its vibrant atmosphere\, this festival is perfect for music lovers and adventurers alike. \nIn 2025\, the festival promises another exciting lineup featuring top names in electronic\, house\, and techno\, as well as emerging artists ready to make their mark. Past performances from artists like Amelie Lens\, Chase & Status\, and Goldband have wowed crowds\, and this year is expected to be just as electrifying. Add to that breathtaking art installations\, workshops\, and interactive experiences\, and Solar Weekend truly offers a one-of-a-kind festival journey. \nWhat sets Solar Weekend apart is its commitment to creativity and sustainability. From eco-friendly initiatives to artistic collaborations\, festival-goers are invited to be part of a vibrant\, conscious community. Secure your tickets now for an inspiring weekend of music\, art\, and endless fun! \n\nSolar Weekend 2025 Lineup\nLineup to be announced soon: \n2024 Lineup3Kus / Adje / Antje / Bennie Disko / Bizzey & The Fam / Bokoedro / Bokoesam / Byørn / Calico Club Soundsystem / Chri$tophe / Cijntje / Claudio / Dansado & De Feestmeester / Delafino / Diøn / Dikke Baap Feat. Opgekonkerd\, Offensief & Rbdjan / Disco Tropicana Dj Team / Djora / Dyen / Edson Cesar / Escobar / Fatima Hajji / Feestdjruud / Feurich / Fiesta Macumba Soundsystem / Freddy Moreira / Frenna & The Gang / Funkerman / Funky Familia / Gimbo / Grizzly / Gullie Kleine John & Chavante / Hans Glock / Henzel & Disco Nova / Izzy Bizzy / Jay Staxx / Karyo / Kraantje Pappie / La Fuente / Leipe Dennis / Leroy Styles / Max B / Mc Roga / Melvin Spix / Moeilijk Chill / Mr. Belt & Wezol / Mr Deluxe / Nala / Nadim / Ndo / Nems / Nelcon / Nina Noën / Novah / Onzekere Guy / Osman Bas / Parsa / Philou Louzolo / Prins S En De Geit / Ray / Robin Roxette / Roger Brouwn / Romy Janssen / Sam Hofman / Solar Soundsystem / Stan Christ / Størm / Teach / The Poser Party / Tim Hox / Tribal Kush / Used / Viktor / Waxfiend / Wef / Whiplash / Yade LaurenSolar Weekend 2025 Tickets\n1-Day & Weekend Tickets from €69.00 are on sale:\nTicketsSolar Weekend\nvia Official SiteBookAccommodation\nCamping during the festival requires the purchase of a 3-Day or 4-Day Holiday Ticket\, which include a camping pass. All you need is basic camping gear\, like a tent\, a camping pad and a head torch (so useful in the night). \nAlternatively\, you can book nearby hotels and apartments using the map below or visit booking.com \nBook Hotels & Airbnbs near the Venue at the Lowest Price online!\n\nTravel Info\nBY CAR\nGet DirectionsBY TRAIN\nFrom Amsterdam Centraal Station you can take the train to Roermond (2 hours journey). \nBY BUS\nFrom Amsterdam Sloterdijk Station you can take the bus line to Roermond (2 hours 40 min journey) \nBY PLANE\nEindhoven Airport (EIN) is the closest to the festival site. The number 400 and 401 buses depart from Eindhoven airport four times per hour\, and take 20 minutes to reach Eindhoven station. From there\, Intercity trains also depart four times per hour to Roermond (30 min journey).\nAmsterdam Schiphol Aiport (AMS) is larger and served by more destinations. From the airport you can get a direct train to Roermond (2 hours journey). \nBook FlightsAirport TransfersCar RentalsTrain/Bus Tickets\nGallery\nRelated Festivals\nParklife Festival\n13 – 15 Jun | Manchester\, UK\nIsle of Wight Festival\n19 Jun – 22 Jun | Newport\, UK\n		\n			\n\n				\n				\n					Search for:
URL:https://europebookings.com/festival/solar-weekend/
LOCATION:Maasplassen\, De Weerd 1\, Roermond\, 6041 TK\, Netherlands
CATEGORIES:Dubstep,Electronic,Hip Hop,House,Multi-Genre,Pop,Techno
ATTACH;FMTTYPE=image/jpeg:https://europebookings.com/wp-content/uploads/solar-weekend-festival-stage-lights-show.jpg
END:VEVENT
END:VCALENDAR