BEGIN:VCALENDAR
VERSION:2.0
PRODID:-//Europebookings - ECPv6.15.20//NONSGML v1.0//EN
CALSCALE:GREGORIAN
METHOD:PUBLISH
X-WR-CALNAME:Europebookings
X-ORIGINAL-URL:https://europebookings.com
X-WR-CALDESC:Events for Europebookings
REFRESH-INTERVAL;VALUE=DURATION:PT1H
X-Robots-Tag:noindex
X-PUBLISHED-TTL:PT1H
BEGIN:VTIMEZONE
TZID:Asia/Nicosia
BEGIN:DAYLIGHT
TZOFFSETFROM:+0200
TZOFFSETTO:+0300
TZNAME:EEST
DTSTART:20200329T010000
END:DAYLIGHT
BEGIN:STANDARD
TZOFFSETFROM:+0300
TZOFFSETTO:+0200
TZNAME:EET
DTSTART:20201025T010000
END:STANDARD
BEGIN:DAYLIGHT
TZOFFSETFROM:+0200
TZOFFSETTO:+0300
TZNAME:EEST
DTSTART:20210328T010000
END:DAYLIGHT
BEGIN:STANDARD
TZOFFSETFROM:+0300
TZOFFSETTO:+0200
TZNAME:EET
DTSTART:20211031T010000
END:STANDARD
BEGIN:DAYLIGHT
TZOFFSETFROM:+0200
TZOFFSETTO:+0300
TZNAME:EEST
DTSTART:20220327T010000
END:DAYLIGHT
BEGIN:STANDARD
TZOFFSETFROM:+0300
TZOFFSETTO:+0200
TZNAME:EET
DTSTART:20221030T010000
END:STANDARD
END:VTIMEZONE
BEGIN:VEVENT
DTSTART;VALUE=DATE:20210910
DTEND;VALUE=DATE:20210912
DTSTAMP:20260421T054416
CREATED:20191213T121528Z
LAST-MODIFIED:20210817T194428Z
UID:29816-1631232000-1631404799@europebookings.com
SUMMARY:Nova Era Beach Party - Postponed
DESCRIPTION:Nova Era Beach Party was postponed until 2022. Purchased Tickets are valid for the 2022 edition. You can read the festival’s statement here \nOrganised by the hugely popular radio station\, Nova Era Beach Party is an electronic music festival that takes place in the Portuguese city of Matosinhos. \nTwo days of partying on Praia do Aterro Norte is soundtracked by an array of dance music superstars – with the likes of Martin Garrix\, Hardwell\, Steve Aoki and Afrojack making appearances in recent years. \nNaturally\, this sort of musical offerings is ably accompanied by the production levels you’d expect – from staging and lighting to pyrotechnic displays. \nNova Era Beach Party 2021 Lineup\nHeadliners\nMartin Garrix\nArmin van Buuren\nW&W\nOliver Heldens\nD‐Block & S‐te‐Fan\nBassjackers \nAll Artists & Program\nFri 10 September\nChapeleiro / Will Sparks / Bassjackers / W&W / Armin van Buuren \nSat 11 September\nMariana BO / Oliver Heldens / Martin Garrix / D‐Block & S‐te‐FanNova Era Beach Party 2021 Tickets\n1-Day\, General & VIP Tickets from €26.85 are on sale:\nPayment Plan Available: pay just 20% today and the rest over 3 weeks\nTicketsNova Era Beach Party\nvia FesticketBookAccommodation\nThe city of Matosinhos offers a wide range of accommodation options. Book your stay for Nova Era Beach Party using the map below or visit booking.com \nBooking.comBook Hotels & Airbnbs near the Venue at the Lowest Price online!\n\nTravel Info\nBY CAR\nGet DirectionsBY TRAIN\nMatosinhos is easily accessible by rail\, but many services will run via Porto. \nBY BUS\nFrom Carmo Bus Station in Porto take the Bus to Francisco Maia (23 min journey)\, which is very close to the Venue. \nBY PLANE\nPorto Airport (OPO) is the nearest to the festival. From the airport get a bus to either Leça de Palmeira or Amorosa stations\, both of which are walking distance from the Venue. \nBook FlightsAirport TransfersCar RentalsTrain/Bus Tickets\nGallery\nRelated Festivals\nAirbeat One Festival\n8 Jul – 12 Jul | Neustadt-Glewe\, Germany\nSea You Festival\n17 Jul – 19 Jul | Freiburg\, Germany\n		\n			\n\n				\n				\n					Search for:
URL:https://europebookings.com/festival/galp-beach-party/
LOCATION:Praia do Aterro Norte\, Praia do Aterro Norte\, Matosinhos\, Portugal
CATEGORIES:EDM,Electronic,House
ATTACH;FMTTYPE=image/jpeg:https://europebookings.com/wp-content/uploads/galp-beach-party-dj-view.jpg
END:VEVENT
BEGIN:VEVENT
DTSTART;VALUE=DATE:20210916
DTEND;VALUE=DATE:20210920
DTSTAMP:20260421T054416
CREATED:20200505T131440Z
LAST-MODIFIED:20221103T120122Z
UID:36296-1631750400-1632095999@europebookings.com
SUMMARY:Hope Festival
DESCRIPTION:Get TicketsAccommodationTravel Info\nHope Festival is an electronic music Festival in the city of Toulouse with a program combining EDM\, house\, bass and hard style music. Hope Festival takes place in September\, a great way to end summer on the side of the pink city. \nOrganised by the OPIUM CLUB team\, the three-day festival combines celebration and social activism\, making donations each year\, to several local associations\, helping them continue to do their valuable work. \n\nHope Festival 2021 Lineup\nNicky Romero\nOliver Heldens\nBrennan Heart\nLucas & Steve\nMORTEN\nNERVO\nQuintino\nSunnery James & Ryan Marciano\nTchami \nAll Artists & Program\nThu 16 September\nOliver Heldens / Lucas & Steve / HUGEL / LOOPERS / Adrien Toma / Cabza \nFri 17 September\nNicky Romero / Quintino / Shapov B2B Magnificence / Third Party / Charles J / Bovalon / Tonajha \nSat 18 September\nBrennan Heart / NERVO / MORTEN / Kryder B2B Tom Staar / Damien N‐Drix / Raven & Kreyn / John Spano \nSun 19 September\nTchami / Sunnery James & Ryan Marciano / Mercer / Arno Cost & Norman Doray / FDVM / Matt MendezHope Festival 2021 Tickets\n1-Day\, 2-Day\, 3-Day & 4-Day Tickets from €30.00 are on sale:\nTickets\nHope Festivalvia Festicket \nBookAccommodation\nThe city of Toulouse offers a wide range of accommodation options. Book your stay for Hope Festival using the map below or visit booking.com \nBooking.comBook Hotels & Airbnbs near the Venue at the Lowest Price online!\n\nTravel Info\nBY CAR\nGet DirectionsBY TRAIN\nToulouse is well linked across the country and major European cities. From Gare de Toulouse-Matabiau Station take the Subway from Marengo-SNCF to Arènes Station and then take a short taxi ride (2.5 km) to the Venue. \nBY PLANE\nToulouse Airport (TLS) is the closest to the festival. From the airport take the Tram Line to Zénith Station (18 min journey)\, leaving you approx. 1.5 km away from the Venue. Alternatively you can take a 10 min taxi ride to the Venue. \nBook FlightsAirport TransfersCar RentalsTrain/Bus Tickets\nGallery\nRelated Festivals\nDecibel Outdoor\n15 Jun – 17 Aug | Hilvarenbeek\, Netherlands\nDreamfields Festival\n5 Jul | Lathum\, Netherlands\n		\n			\n\n				\n				\n					Search for:
URL:https://europebookings.com/festival/hope-festival/
LOCATION:Hippodrome de Toulouse\, 1 Chemin des Courses\, Toulouse\, 31000\, France
CATEGORIES:EDM,Electronic,Hardstyle
ATTACH;FMTTYPE=image/jpeg:https://europebookings.com/wp-content/uploads/hope-festival-stage-fire-show.jpg
END:VEVENT
END:VCALENDAR