BEGIN:VCALENDAR
VERSION:2.0
PRODID:-//Europebookings - ECPv6.15.20//NONSGML v1.0//EN
CALSCALE:GREGORIAN
METHOD:PUBLISH
X-WR-CALNAME:Europebookings
X-ORIGINAL-URL:https://europebookings.com
X-WR-CALDESC:Events for Europebookings
REFRESH-INTERVAL;VALUE=DURATION:PT1H
X-Robots-Tag:noindex
X-PUBLISHED-TTL:PT1H
BEGIN:VTIMEZONE
TZID:Asia/Nicosia
BEGIN:DAYLIGHT
TZOFFSETFROM:+0200
TZOFFSETTO:+0300
TZNAME:EEST
DTSTART:20210328T010000
END:DAYLIGHT
BEGIN:STANDARD
TZOFFSETFROM:+0300
TZOFFSETTO:+0200
TZNAME:EET
DTSTART:20211031T010000
END:STANDARD
BEGIN:DAYLIGHT
TZOFFSETFROM:+0200
TZOFFSETTO:+0300
TZNAME:EEST
DTSTART:20220327T010000
END:DAYLIGHT
BEGIN:STANDARD
TZOFFSETFROM:+0300
TZOFFSETTO:+0200
TZNAME:EET
DTSTART:20221030T010000
END:STANDARD
BEGIN:DAYLIGHT
TZOFFSETFROM:+0200
TZOFFSETTO:+0300
TZNAME:EEST
DTSTART:20230326T010000
END:DAYLIGHT
BEGIN:STANDARD
TZOFFSETFROM:+0300
TZOFFSETTO:+0200
TZNAME:EET
DTSTART:20231029T010000
END:STANDARD
END:VTIMEZONE
BEGIN:VEVENT
DTSTART;VALUE=DATE:20220427
DTEND;VALUE=DATE:20220428
DTSTAMP:20260420T110941
CREATED:20200417T131615Z
LAST-MODIFIED:20221216T213018Z
UID:35318-1651017600-1651103999@europebookings.com
SUMMARY:Kingsland Festival Tilburg
DESCRIPTION:Get TicketsAccommodationTravel Info\nKingsland Festival Tilburg is the southern edition for the celebration of the annual Kingsday (Koningsdag). On April 27th every year the country comes alive\, draped in orange to celebrate King Willem-Alexander’s birthday. \nWith events and activities happening all day across the country\, Kingsland have four major electronic festivals for you to enjoy\, inviting some of the biggest DJs in the world to perform on this unique holiday. \nIn your brightest outfit\, feel alive in the historic city of Tilburg with outstanding audio/visual effects\, incredible beats and even better drops among thousands of likeminded people all ready to party. \n\nKingsland Festival Tilburg 2022 Lineup\nLineup to be announced closer to the festival. \n2020 Lineup\nBizzey / Childsplay / Da Tweekaz / Fedde Le Grand / FeestDJRuud / Freddy Moreira / Frenna / Girls Love DJs / Jonna Fraser / Oliver Heldens / Robert Falcon / Sam Feldt / Snelle / Sunnery James & Ryan Marciano / Apster \nKingsland Festival Tilburg 2022 Tickets\nTickets\nKingsland Festival TilburgComing Soon \nBookAccommodation\nThe city of Tilburg offers a wide range of accommodation options. Book your stay for kingsland Festival Amsterdam using the map below or visit booking.com \nBooking.comBook Hotels & Airbnbs near the Venue at the Lowest Price online!\n\nTravel Info\nBY CAR\nGet DirectionsBY TRAIN\nTilburg Railway Station is accessible from most European cities\, but will most likely require a transfer in Breda or Den Bosch along the way. The festival site is a 10 minute walk west down Hart van Brabantlaan. Alternatively take the 7 bus to Jan Heijnsstraat (3 minutes) and then 2 minute walk to the venue. \nBY PLANE\nAmsterdam Airport Schiphol (AMS) is the closest to the Festival. Upon arrival take an Intercity train to Breda (50 min journey)\, and transfer to another Intercity train and get off at Tilburg. \nBook FlightsAirport TransfersCar RentalsTrain/Bus Tickets\nGallery\nRelated Festivals\nKingsland Festival Amsterdam\n27 Apr | Amsterdam\, Netherlands\nKingsland Festival Groningen\n27 Apr | Groningen\, Netherlands\n		\n			\n\n				\n				\n					Search for:
URL:https://europebookings.com/festival/kingsland-festival-tilburg/
LOCATION:Spoorpark Tilburg\, Spoorpark Tilburg\, Sint Ceciliastraat 1\, Tilburg\, 5038 HA\, Netherlands
CATEGORIES:EDM,Electronic
ATTACH;FMTTYPE=image/jpeg:https://europebookings.com/wp-content/uploads/kingsland-festival-tilburg-dancing-colours.jpg
END:VEVENT
END:VCALENDAR