BEGIN:VCALENDAR
VERSION:2.0
PRODID:-//Europebookings - ECPv6.15.20//NONSGML v1.0//EN
CALSCALE:GREGORIAN
METHOD:PUBLISH
X-WR-CALNAME:Europebookings
X-ORIGINAL-URL:https://europebookings.com
X-WR-CALDESC:Events for Europebookings
REFRESH-INTERVAL;VALUE=DURATION:PT1H
X-Robots-Tag:noindex
X-PUBLISHED-TTL:PT1H
BEGIN:VTIMEZONE
TZID:Asia/Nicosia
BEGIN:DAYLIGHT
TZOFFSETFROM:+0200
TZOFFSETTO:+0300
TZNAME:EEST
DTSTART:20210328T010000
END:DAYLIGHT
BEGIN:STANDARD
TZOFFSETFROM:+0300
TZOFFSETTO:+0200
TZNAME:EET
DTSTART:20211031T010000
END:STANDARD
BEGIN:DAYLIGHT
TZOFFSETFROM:+0200
TZOFFSETTO:+0300
TZNAME:EEST
DTSTART:20220327T010000
END:DAYLIGHT
BEGIN:STANDARD
TZOFFSETFROM:+0300
TZOFFSETTO:+0200
TZNAME:EET
DTSTART:20221030T010000
END:STANDARD
BEGIN:DAYLIGHT
TZOFFSETFROM:+0200
TZOFFSETTO:+0300
TZNAME:EEST
DTSTART:20230326T010000
END:DAYLIGHT
BEGIN:STANDARD
TZOFFSETFROM:+0300
TZOFFSETTO:+0200
TZNAME:EET
DTSTART:20231029T010000
END:STANDARD
END:VTIMEZONE
BEGIN:VEVENT
DTSTART;VALUE=DATE:20220602
DTEND;VALUE=DATE:20220606
DTSTAMP:20260420T033335
CREATED:20191120T184447Z
LAST-MODIFIED:20220530T143930Z
UID:27391-1654128000-1654473599@europebookings.com
SUMMARY:Armin van Buuren This is Me
DESCRIPTION:Get TicketsAccommodationTravel Info\nArmin van Buuren presents This is Me is a wide-ranging electronic music party celebrating the illustrious career of one of the most influential DJs of all time. From being crowned DJ Mag’s World Number One DJ 5 times\, to founding the global A State of Trance radio show and label\, Armin van Buuren has been breaking new ground for nearly a quarter of a century. \nOn the cusp of reaching the monumental landmark of 25 years in the music business has got the legendary artist in a reflective mood. On the occasion Armin van Buuren said: “At this point\, it’s time to tell you my whole story. All of it: all of those different things that made me learn and grow as a person.” \nIn the relative intimacy of the Ziggo Dome in Amsterdam\, This Is Me will take you back to each moment of Armin’s career as if you were actually there\, Mainstage performances\, A State of Trance\, Armin Only\, Radio Hits and more\, all of it\, in a 3.5 hour spectacle. This Is Me events are completely sold-out! \nArmin van Buuren presents This is Me 2021 was postponed to 2022. Purchased tickets remain valid for the respective dates for the shows in 2022. You can read the festival’s statement here \n\nTHIS IS BLAH BLAH BLAH\nAn extra an all-ages show is added to the This Is Me series on Saturday 4 June 2022 called “This Is Blah Blah Blah”\, for all Armin van Buuren’s fans who aren’t able to visit a regular 18+ show. \nArmin van Buuren This is Me 2022 Lineup\nArmin van Buuren\nArmin van Buuren This is Me 2022 Tickets\nTickets for Friday\, Saturday & Sunday from €39.50 are on sale at the official website:\nTickets for all dates from €30.28 are on sale at Ticketswap:\nTicketsThis is Me\nvia Official WebsiteBookTicketsThis is Me\nvia TicketswapBookAccommodation\nThe city of Amsterdam offers a wide range of accommodation options. Book your stay for Armin van Buuren This Is Me using the map below or visit booking.com \nBooking.comBook Hotels & Airbnbs near the Venue at the Lowest Price online!\n\nTravel Info\nBY CAR\nGet DirectionsBY BUS\nThe Ziggo Dome can be reached by urban and intercity buses\, and between Haarlem and Amsterdam Bijlmer ArenA by R-net even at night! \nBY METRO\nExit at metro station Bijlmer ArenA at walking distance of the Ziggo Dome. \nBY TRAIN\nThere are two train stations near the Ziggo Dome: Amsterdam Bijlmer ArenA and Duivendrecht. Both stations are within walking distance. Both intercity and sprinters with connections from Schiphol\, Utrecht Central\, Ede-Wageningen\, Arnhem\, Nijmegen\, Eindhoven\, Gouda\, and Rotterdam stop at these stations. \nFrom Almere\, and Amersfoort take the train to station Duivendrecht. From Amsterdam Central and Utrecht Central take the train to Amsterdam Bijlmer ArenA. \nBY PLANE\nFrom Amsterdam Schiphol Airport (AMS) take the train to Amsterdam Bijlmer ArenA (12 min journey). The Ziggo Dome is a 10 min walk away. \nBook FlightsAirport TransfersCar RentalsTrain/Bus Tickets\nGallery\nRelated Festivals\nAirbeat One Festival\n8 Jul – 12 Jul | Neustadt-Glewe\, Germany\nSea You Festival\n17 Jul – 19 Jul | Freiburg\, Germany\n		\n			\n\n				\n				\n					Search for:\n													\n											\n				\n				\n					\n										\n									\n\n				\n			\n\n\n							\n			\n		\n		\nAmsterdam Travel Guide
URL:https://europebookings.com/festival/armin-van-buuren-presents-this-is-me/
LOCATION:Ziggo Dome\, Ziggo Dome\, De Passage 100\, Amsterdam\, 1101 AX\, Netherlands
CATEGORIES:EDM,Electronic,Trance
ATTACH;FMTTYPE=image/jpeg:https://europebookings.com/wp-content/uploads/armin-van-buuren-presents-this-is-me-flying.jpg
END:VEVENT
BEGIN:VEVENT
DTSTART;VALUE=DATE:20220617
DTEND;VALUE=DATE:20220620
DTSTAMP:20260420T033335
CREATED:20200923T102139Z
LAST-MODIFIED:20220308T215636Z
UID:41280-1655424000-1655683199@europebookings.com
SUMMARY:Electric Daisy Carnival (EDC) Portugal
DESCRIPTION:Get TicketsAccommodationTravel Info\nElectric Daisy Carnival (EDC) Portugal sees the worldwide dance festival return to Europe as they celebrate their 25 year journey with a mega European edition on the Praia da Rocha beach in Portimão. \nContinually curating lineups that are they envy of the entire dance scene\, Electric Daisy Carnival (EDC) Portugal’s huge lineup will span the electronic music spectrum\, bringing together the best artists from the world’s of EDM\, house\, techno\, drum and bass\, trance and more. \nAnd all this will play out under Electric Daisy Carnival’s fabled production\, featuring mega stage production\, pyrotechnics and performers\, making it a unique and immersive festival experience. \nEDC Portugal 2022 was cancelled due to logistics. All current ticket holders will receive receive a refund\, or choose to have their ticket automatically transferred to Secret Project Portugal. You can read the festival’s statement here \n\nElectric Daisy Carnival (EDC) Portugal 2022 Lineup\nLineup to be announced soon: \n2021 Lineup\nAdam Beyer presents Drumcode / Adin / Adrenalize / Alan Fitzpatrick / Alcemist B2B Goddard / Alesso / Alisha / Alok / Amelie Lens / Andy C / Angerfist / ANNA / Armin van Buuren / Artbat / Atmozfears / Bou B2B K Motionz / Brennan Heart / CamelPhat / Camo & Krooked B2B Friction / Charlotte De Witte / Chelina Manuhutu / Chase & Status [DJ set] / Chus & Ceballos / Cirez D / Code Black / Crucast: Bru-C / Darkzy / Kanine / Lazcru / MC AD / Skepsis / TS7 / Window Kid / Da Tweekaz / Darren Styles / Deadly Guns / Diana Oliveira / Dimension [DJ set] / Dimitri Vegas & Like Mike / Diplo / AniMe / DJ Fresh / DJ Hype B2B DJ Hazard / DJ Isaac / DJ Mad Dog / DJ Snake / DJ Tennis / Dom Dolla / Don Diablo / Dubfire B3B Nicole Moudaber B3B Paco Osuna / Enrico Sangiuliano / Eric Prydz / FISHER / Galantis / Gorgon City / Hannah Wants B2B Sam Divine / Headhunterz / Holy Goof / Hot Since 82 / Hybrid Minds / In-Rush / Jackmaster / Jamie Jones / Jauz / Joel Mull / Joey Daniel B2B Pirate Copy B2B Ben Sterling / Joris Voorn / Keinemusik: Adam Port / &me / Rampa / Keltek / Kenny Ken B2B Nicky Blackmarket / Kings of the Rollers / Kölsch / Layton Giordani / Loco Dice / Luciano / Maceo Plex / Macky Gee / Marshmello / Michael Bibi / My Nu Leng / Netsky / Nora en Pure / North Base B2B Harriet Jaxxon / Odium / Pan-Pot / Patrick Topping / Paul Kalkbrenner / Pleasurekraft / Reinier Zonneveld / Richie Hawtin / Richy Ahmed B2B Archie Hamilton / Salvatore Ganacci / SaSaSaS / Scooter / Sephyx / Shy FX / Sigma [DJ set] / Solardo / Sonny Fodera / Sound Rush / Sub Focus [DJ set] / Sven Väth / T>I B2B Limited / Tchami / Tiësto / Vintage Culture / W&W / Warface / Wildstylez / Wilkinson [DJ set] / Yen Sung\n+ more artists to be announced \nElectric Daisy Carnival (EDC) Portugal 2022 Tickets\nTickets to be announced soon:\nTickets\nEDC Portugal\nvia Festicket \nBookAccommodation\nThe city of Portimão offers a wide range of accommodation options. Book your stay for Electric Daisy Carnival (EDC) Portugal using the map below or visit booking.com \nBooking.comBook Hotels & Airbnbs near the Venue at the Lowest Price online!\n\nTravel Info\nBY CAR\nGet DirectionsBY TRAIN\nPortimão is connected directly by rail to nearby Faro and Lagos. Faro can also be reached by train from Porto\, Lisbon\, Coimbra and other destinations across Portugal. \nBY BUS\nBuses run to Portimão from Lagos\, Faro\, Lisbon\, Seville and a number of smaller regional destinations. \nBY PLANE\nFaro Airport (FAO) is the closest to the festival. From here\, head into Faro city centre and you can catch a train to Portimão. \nBook FlightsAirport TransfersCar RentalsTrain/Bus Tickets\nGallery\nRelated Festivals\nAirbeat One Festival\n9 Jul – 13 Jul | Neustadt-Glewe\, Germany\nNature One Festival\n31 Jul – 3 Aug | Kastellaun\, Germany\n		\n			\n\n				\n				\n					Search for:
URL:https://europebookings.com/festival/electric-daisy-carnival-portugal/
LOCATION:Praia da Rocha\, Praia da Rocha\, Portimao\, Portugal
CATEGORIES:Drum & Bass,EDM,Electronic,House,Techno
ATTACH;FMTTYPE=image/jpeg:https://europebookings.com/wp-content/uploads/electric-daisy-carnival-edc-portugal-fireworks.jpg
END:VEVENT
BEGIN:VEVENT
DTSTART;VALUE=DATE:20220628
DTEND;VALUE=DATE:20220701
DTSTAMP:20260420T033335
CREATED:20211117T181707Z
LAST-MODIFIED:20220616T210755Z
UID:50772-1656374400-1656633599@europebookings.com
SUMMARY:Spinnin’ Sessions Croatia
DESCRIPTION:Get TicketsAccommodationTravel InfoSpinnin’ Sessions Croatia takes over Zrće beach’s Papaya beach club for three days and nights of unforgettable partying under the summer sun. \nZrće beach has established itself as one of the best beach party and festival locations in Europe with over one million visitors each summer. \nSpinnin’ Sessions Festival Croatia will be hosted by the most popular open air beach club in Croatia\, the Papaya club\, which is currently ranked as the 8th best club in the world by DJ Mag. \n\nSpinnin’ Sessions 2022 Lineup\nHeadliners\nBlasterjaxx\nMike Williams\nTujamo \nAll ArtistsBlasterjaxx / Mike Williams / Tujamo\n+ more artists TBASpinnin’ Sessions 2022 Tickets\nRegular & VIP Tickets from €44.00 are on sale:\nTicketsSpinnin’ Sessions\nvia FesticketBookAccommodation\nThe city of Novalja and the island of Pag offer a wide range of accommodation options. Book your stay for Spinnin’ Sessions Croatia using the map below or visit booking.com \nBook Hotels & Airbnbs near the Venue at the Lowest Price online!\n\nTravel Info\nBY CAR\nGet DirectionsBY BUS FROM ZADAR\nThere are a handful of buses running this route per day. It’s a shorter journey\, about 1hr 30 mins and BusCroatia will cost €10-15. \nFROM SPLIT\nThe best route from Split to Novalja is to take a taxi to nearby town of Trogir (approx. €25-30) and then take the bus to Zadar with BusCroatia (approx. €12-19). The journey lasts around 2 hrs 40 mins. From Zadar\, you will need take the bus to Novalja. \nBY PLANE\nThe nearest airport to the festival is Zadar Airport\, around 50km away\, and is served by destinations across much of Europe. Split airport is the largest in the south of Croatia\, just a few hours further down the coast. \nBook FlightsAirport TransfersCar RentalsTrain/Bus Tickets\nGallery\nRelated Festivals\nHideout Festival\n22 Jun – 26 Jun | Zrće Beach\, Novalja\, Croatia\nSonus Festival\n17 Aug – 21 Aug | Zrće Beach\, Novalja\, Croatia\n		\n			\n\n				\n				\n					Search for:
URL:https://europebookings.com/festival/spinnin-sessions-croatia/
LOCATION:Papaya Club\, Zrce Beach\, Novalja\, 53290\, Croatia (Local Name: Hrvatska)
CATEGORIES:EDM,Electronic,House
ATTACH;FMTTYPE=image/jpeg:https://europebookings.com/wp-content/uploads/spinnin-sessions-croatia-papaya-club-main-stage-lights-show.jpg
END:VEVENT
END:VCALENDAR