BEGIN:VCALENDAR
VERSION:2.0
PRODID:-//Europebookings - ECPv6.15.20//NONSGML v1.0//EN
CALSCALE:GREGORIAN
METHOD:PUBLISH
X-WR-CALNAME:Europebookings
X-ORIGINAL-URL:https://europebookings.com
X-WR-CALDESC:Events for Europebookings
REFRESH-INTERVAL;VALUE=DURATION:PT1H
X-Robots-Tag:noindex
X-PUBLISHED-TTL:PT1H
BEGIN:VTIMEZONE
TZID:Asia/Nicosia
BEGIN:DAYLIGHT
TZOFFSETFROM:+0200
TZOFFSETTO:+0300
TZNAME:EEST
DTSTART:20210328T010000
END:DAYLIGHT
BEGIN:STANDARD
TZOFFSETFROM:+0300
TZOFFSETTO:+0200
TZNAME:EET
DTSTART:20211031T010000
END:STANDARD
BEGIN:DAYLIGHT
TZOFFSETFROM:+0200
TZOFFSETTO:+0300
TZNAME:EEST
DTSTART:20220327T010000
END:DAYLIGHT
BEGIN:STANDARD
TZOFFSETFROM:+0300
TZOFFSETTO:+0200
TZNAME:EET
DTSTART:20221030T010000
END:STANDARD
BEGIN:DAYLIGHT
TZOFFSETFROM:+0200
TZOFFSETTO:+0300
TZNAME:EEST
DTSTART:20230326T010000
END:DAYLIGHT
BEGIN:STANDARD
TZOFFSETFROM:+0300
TZOFFSETTO:+0200
TZNAME:EET
DTSTART:20231029T010000
END:STANDARD
END:VTIMEZONE
BEGIN:VEVENT
DTSTART;VALUE=DATE:20220702
DTEND;VALUE=DATE:20220703
DTSTAMP:20260420T020055
CREATED:20181223T142030Z
LAST-MODIFIED:20230406T115912Z
UID:18475-1656720000-1656806399@europebookings.com
SUMMARY:Barcelona Beach Festival
DESCRIPTION:Get TicketsAccommodationTravel Info\nBarcelona Beach Festival is one of Spain’s biggest dance music events\, held each summer on Platja del Fòrum\, a beach located next to the port and marina Port Fòrum\, in the north of Barcelona. The Festival transforms the Platja del Fòrum into one of Europe’s wildest dance parties. \nIt is one of the biggest Iberian music festivals\, with huge artists hitting its lineups each and every year\, such as the recent performances from David Guetta\, Armin van Buuren\, DJ Snake and Dimitri Vegas & Like Mike. \nThe stacked lineup of dance music giants plays out alongside Barcelona Beach Festival’s immense production\, pounding out from an imposing single stage that rises high above the beach\, complete with an enormous sound system and an array of special effects to make things go off with a bang. \n\nBarcelona Beach Festival 2022 Lineup\nHeadliners\nArmin van Buuren\nDimitri Vegas & Like Mike\nDon Diablo\nMarshmello\nMORTEN\nSunnery James & Ryan Marciano\nTimmy Trumpet\nVini Vici \nAll ArtistsArmin van Buuren / Dimitri Vegas & Like Mike / Don Diablo / Marshmello / MORTEN / Sunnery James & Ryan Marciano / Timmy Trumpet / Vini Vici / Brian Cross B2B Yves V / Chelina Manuhutu / Gonçalo / Albert Neve & Abel Ramos / JP Candela / DJ Neil / DGRACE & Alex NowBarcelona Beach Festival 2022 Tickets\nGA & Premium Tickets from €95.00 are on sale at the official website:\nGA & Premium Tickets from €75.71 are on sale at Ticketswap!\nTicketsBarcelona Beach Festival\nvia Official SiteBookTicketsBarcelona Beach Festival\nvia TicketswapBookAccommodation\nThe city of Barcelona offers a wide range of accommodation options. Book your stay for Barcelona Beach Festival using the map below or visit booking.com \nBooking.comBook Hotels & Airbnbs near the Venue at the Lowest Price online!\n\nTravel Info\nBY CAR\nGet DirectionsBY TRAIN\nBarcelona is well connected by rail from all major cities in Spain and European cities. From Sants Main Station (the city’s main railway station) take the train to Sant Adrià de Besòs. The venue is a short 15 min walk away. \nBY PLANE\nBarcelona-El Prat Airport (BCN) is the closest to the festival. From the airport take the train to Sants Main Station (20 min journey) and then take the train to Sant Adriá De Besos (20 min journey). The venue is a short 15 min walk away. \nBook FlightsAirport TransfersCar RentalsTrain/Bus Tickets\nGallery\nRelated Festivals\nParookaville Festival\n17 Jul – 19 Jul | Weeze\, Germany\nUntold Festival\nDates TBA | Cluj-Napoca\, Romania\n		\n			\n\n				\n				\n					Search for:
URL:https://europebookings.com/festival/barcelona-beach-festival/
LOCATION:Platja del Fòrum\, Platja del Fòrum\, Forum\, Barcelona\, 08019\, Spain
CATEGORIES:EDM,Electronic
ATTACH;FMTTYPE=image/jpeg:https://europebookings.com/wp-content/uploads/barcelona-beach-festival-stage-lights-fireshow.jpg
END:VEVENT
BEGIN:VEVENT
DTSTART;VALUE=DATE:20220702
DTEND;VALUE=DATE:20220703
DTSTAMP:20260420T020055
CREATED:20220327T211025Z
LAST-MODIFIED:20230716T125439Z
UID:53810-1656720000-1656806399@europebookings.com
SUMMARY:Sensation
DESCRIPTION:Get TicketsAccommodationTravel InfoSensation is finally back at their beloved home base Johan Cruijff ArenA in Amsterdam on 2 July. \nWhat began in 2000 as a one-off event in the Amsterdam ArenA\, grew out to an international phenomenon. Sensation has toured more than 35 countries and welcomed over two million visitors worldwide. \nSensation is all about the experience\, spectacular show elements\, dazzling performances\, the best house music\, talented DJs and massive production. Utilizing the positive power of music and dance as a universal language\, Sensation connects millions of people around the world with the motto\, “Celebrate Life”. \n\nSensation 2022 Lineup\nAll Artists & Stages\nMain Stage\nACRAZE / Diplo & MK / Franky Rizardo / Malaa / Noizu / Oliver Heldens / Sunnery James & Ryan Marciano \nSylver Stage\nBiscits / Dombresky / La Fuente / Mr White / Martin Ikin / RaynorSensation 2022 Tickets\nTickets at the official website are SOLD OUT:\nRegular & Deluxe Tickets from €64.89 are on sale at Ticketswap!\nTicketsSensation 2022\nvia TicketswapBookAccommodation\nThe city of Amsterdam offers a wide range of accommodation options. Book your stay for Amsterdam Music Festival using the map below or visit booking.com \nBook Hotels & Airbnbs near the Venue at the Lowest Price online!\n\nTravel Info\nBY CAR\nGet DirectionsBY TRAIN\nAmsterdam Centraal Station is accessible from most European cities. To get to the festival from the train station take the line 54 subway to Bijlmer (15 minutes). The venue is a 5 minute walk west from the station. \nBY PLANE\nAmsterdam is accessible by Amsterdam Airport Schiphol (AMS). The festival is located in the southeastern part of the city. To get there from the airport take the train to Bijlmer ArenA (15 minutes). The venue is a 5 minute walk west from the station. \nBook FlightsAirport TransfersCar RentalsTrain/Bus Tickets\nGallery\nRelated Festivals\nDownload Festival\n12 Jun – 14 Jun | Derby\, UK\nLytham Festival\n1 Jul – 5 Jul | Lytham Green\, UK\n		\n			\n\n				\n				\n					Search for:
URL:https://europebookings.com/festival/sensation/
LOCATION:Johan Cruijff ArenA\, Johan Cruijff Boulevard 1\, Amsterdam\, 1100 DL\, Netherlands
CATEGORIES:EDM,Electronic,House,Trance
ATTACH;FMTTYPE=image/jpeg:https://europebookings.com/wp-content/uploads/sensation-amsterdam-lights-stage.jpg
END:VEVENT
BEGIN:VEVENT
DTSTART;VALUE=DATE:20220715
DTEND;VALUE=DATE:20220717
DTSTAMP:20260420T020055
CREATED:20210507T195126Z
LAST-MODIFIED:20220716T130800Z
UID:44167-1657843200-1658015999@europebookings.com
SUMMARY:Titan Warehouse
DESCRIPTION:Get TicketsAccommodationTravel Info\nTITAN Presents is returning to Cardiff Bay this summer\, bringing headline performances from the most sought after and respected dance and electronic artists in the world. This year TITAN Presents will see headline performances from Chase & Status\, Camelphat\, Patrick Topping\, Wilkinson\, Shy FX\, Alan Fitzpatrick\, High Contrast\, Bou and many more. \nThe two day event kicks off on Friday 15 July with drum and bass icons Chase & Status. Nearly two decades after their debut the electronic duo have amassed millions of records worldwide and performed to millions across the globe. \nContinuing the party on Friday\, fans can see headline sets from club favourite Wilkinson\, legendary DJ and producer Shy FX\, as well as High Contrast\, Bou\, Harriet Jaxxon\, Northbase b2b Natty Lou and much more. \nOn Saturday 16 July\, Grammy and Ivor Novello nominated\, triple platinum-selling artist Camelphat returns to Cardiff Bay following their huge set last year. Performing anthems from their highly celebrated debut album Dark Matter which includes collaborations from Noel Gallagher\, Jake Bugg\, Yannis Philipakkis\, Maverick Sabre\, Lowes as well as tracks with Skream\, Eli & Fur and Will Easton. \nThey’re joined by superstar DJ/producer Patrick Topping\, techno legend Alan Fitzpatrick and many more. \n\nTitan Warehouse 2022 Lineup\nHeadliners\nChase & Status\nWilkinson\nShy FX\nCamelPhat\nPatrick Topping \nAll Artists & Program\nFri 15 July 2022\nChase & Status / Wilkinson / Shy FX / High Contrast / Bou / North Base B2B Natty Lou / Harriet Jaxxon / Kings of the Rollers ft Inja \nSat 16 July 2022\nCamelPhat / Patrick Topping / Alan Fitzpatrick / Rebūke B2B Melé / Massano / AmmaraTitan Warehouse 2022 Tickets\nFriday Tickets from £32.45 (€38.84) are on sale. Saturday event was cancelled:\nTickets\nTitan Warehouse\nvia Ticketmaster \nBookAccommodation\nThe city of Cardiff offers a wide range of accommodation options. Book your stay for Titan Warehouse using the map below or visit booking.com \nBook Hotels & Airbnbs near the Venue at the Lowest Price online!\n\nTravel Info\nBY CAR\nGet DirectionsBY TRAIN\nCardiff is well connected by rail in the United Kingdom. Alexandar Head is a 6 min taxi ride away. \nBY PLANE\nFrom Cardiff Airport (CWL) the fastest way to go to the centre of Cardiff is a 20 min taxi ride. \nBook FlightsAirport TransfersCar RentalsTrain/Bus Tickets\nGallery\nRelated Festivals\nKappa Futur Festival\n4 Jul – 6 Jul | Turin\, Italy\nUltra Europe Festival\n11 Jul – 13 Jul | Split\, Croatia\n		\n			\n\n				\n				\n					Search for:
URL:https://europebookings.com/festival/titan-warehouse/
LOCATION:Alexandra Head\, Alexandra Head\, Cardiff Bay Trail\, Cardiff\, CF10 4PA\, United Kingdom
CATEGORIES:EDM,Electronic,Techno
ATTACH;FMTTYPE=image/jpeg:https://europebookings.com/wp-content/uploads/titan-warehouse-dancing-laser-show.jpg
END:VEVENT
BEGIN:VEVENT
DTSTART;VALUE=DATE:20220724
DTEND;VALUE=DATE:20220730
DTSTAMP:20260420T020055
CREATED:20220602T212650Z
LAST-MODIFIED:20220718T194131Z
UID:56086-1658620800-1659139199@europebookings.com
SUMMARY:Circus Maximus Festival
DESCRIPTION:Get TicketsAccommodationTravel Info\nCircus Maximus is an EDM and hardstyle festival which takes place in Novalja\, Croatia in one of Europe’s most celebrated dance venues: NOA Beach Club. \nIgniting the coastal club on-and-off since 2013\, Circus Maximus has invited some serious talent to soundtrack their parties in previous years including the likes of Calvin Harris\, Steve Aoki\, and Tujamo. \nNotably\, Circus Maximus became the world’s first DAO festival in 2021 by introducing an NFT ticketing system\, innovating in a field that may become more commonplace in the future. \n\nCircus Maximus Festival 2022 Lineup\nHeadliners\nKSHMR\nBrennan Heart\nVIZE\nMatroda \nAll Artists & ProgramKSHMR / Brennan Heart / Matroda / VIZE \n+ more artists TBACircus Maximus Festival 2022 Tickets\nRegular & VIP Tickets from €99.00 are on sale:\nTickets\nCircus Maximus Festivalvia Festicket \nBookAccommodation\nThe city of Novalja and the island of Pag offer a wide range of accommodation options. Book your stay for Senses Festival using the map below or visit booking.com \nBook Hotels & Airbnbs near the Venue at the Lowest Price online!\n\nTravel Info\nBY CAR\nGet DirectionsBY BUS FROM ZADAR\nThere are a handful of buses running this route per day. It’s a shorter journey\, about 1hr 30 mins and BusCroatia will cost €10-15. \nFROM SPLIT\nThe best route from Split to Novalja is to take a taxi to nearby town of Trogir (approx. €25-30) and then take the bus to Zadar with BusCroatia (approx. €12-19). The journey lasts around 2 hrs 40 mins. From Zadar\, you will need take the bus to Novalja. \nBY PLANE\nThe nearest airport to the festival is Zadar Airport\, around 50km away\, and is served by destinations across much of Europe. Split airport is the largest in the south of Croatia\, just a few hours further down the coast. \nBook FlightsAirport TransfersCar RentalsTrain/Bus Tickets\nGallery\nRelated Festivals\nHideout Festival\n22 Jun – 26 Jun | Zrće Beach\, Novalja\, Croatia\nSonus Festival\n17 Aug – 21 Aug | Zrće Beach\, Novalja\, Croatia\n		\n			\n\n				\n				\n					Search for:
URL:https://europebookings.com/festival/circus-maximus-festival/
LOCATION:Zrće Beach\, Zrće Beach\, Novalja\, 53291\, Croatia (Local Name: Hrvatska)
CATEGORIES:EDM,Electronic,Hardstyle
ATTACH;FMTTYPE=image/jpeg:https://europebookings.com/wp-content/uploads/circus-maximus-festival-stage-smoke-show.jpg
END:VEVENT
END:VCALENDAR