BEGIN:VCALENDAR
VERSION:2.0
PRODID:-//Europebookings - ECPv6.15.20//NONSGML v1.0//EN
CALSCALE:GREGORIAN
METHOD:PUBLISH
X-ORIGINAL-URL:https://europebookings.com
X-WR-CALDESC:Events for Europebookings
REFRESH-INTERVAL;VALUE=DURATION:PT1H
X-Robots-Tag:noindex
X-PUBLISHED-TTL:PT1H
BEGIN:VTIMEZONE
TZID:Asia/Nicosia
BEGIN:DAYLIGHT
TZOFFSETFROM:+0200
TZOFFSETTO:+0300
TZNAME:EEST
DTSTART:20210328T010000
END:DAYLIGHT
BEGIN:STANDARD
TZOFFSETFROM:+0300
TZOFFSETTO:+0200
TZNAME:EET
DTSTART:20211031T010000
END:STANDARD
BEGIN:DAYLIGHT
TZOFFSETFROM:+0200
TZOFFSETTO:+0300
TZNAME:EEST
DTSTART:20220327T010000
END:DAYLIGHT
BEGIN:STANDARD
TZOFFSETFROM:+0300
TZOFFSETTO:+0200
TZNAME:EET
DTSTART:20221030T010000
END:STANDARD
BEGIN:DAYLIGHT
TZOFFSETFROM:+0200
TZOFFSETTO:+0300
TZNAME:EEST
DTSTART:20230326T010000
END:DAYLIGHT
BEGIN:STANDARD
TZOFFSETFROM:+0300
TZOFFSETTO:+0200
TZNAME:EET
DTSTART:20231029T010000
END:STANDARD
END:VTIMEZONE
BEGIN:VEVENT
DTSTART;VALUE=DATE:20220929
DTEND;VALUE=DATE:20221114
DTSTAMP:20260420T004838
CREATED:20220907T101707Z
LAST-MODIFIED:20220907T101929Z
UID:60808-1664409600-1668383999@europebookings.com
SUMMARY:Swedish House Mafia Concert Tickets
DESCRIPTION:Get TicketsAccommodation\nSwedish House Mafia have announced their first tour since reuniting\, called “Paradise Again”\, with 44 dates. \nGlobal supergroup Swedish House Mafia have teamed with iconic superstar The Weeknd for a new single and video ‘Moth to a Flame’\, available now via Republic Records. The new song\, initially teased during the trio’s landmark performance at the MTV VMAs pre-show\, marks the band’s first new music since announcing their reunion this past July with a pair of new singles\, ‘It Gets Better’ and ‘Lifetime (feat. Ty Dolla $ign & 070 Shake)’\, that arrived alongside a cover story for Billboard Magazine and a special performance of both songs on The Tonight Show With Jimmy Fallon. \nThe trio of songs continue to build anticipation toward the band’s forthcoming full length Paradise Again\, slated for release early next year with a Special Tour Edition CD pre-order available now that unlocks exclusive pre-sale tour tickets. In conjunction with the new single\, Swedish House Mafia have announced an international tour for 2022 produced by Live Nation\, their first proper run since 2012. Long revered by fans for their bombastic live performances\, the band’s previous outing\, One Last Tour\, sold over 1\,000\,000 tickets. \nThe 2022 jaunt will follow the trio’s just announced performance at Coachella 2022 and includes arenas across the United States and Europe. The band have also just been nominated for awards in both the Best Electronic and Best Nordic Act categories for this year’s MTV EMAs\, being held in Budapest on Sunday\, November 14th. \n\nSwedish House Mafia European Tour Concert Tickets\nEurope29 Sep 2022 @ AO Arena\, Manchester\, UK – Book Tickets\n30 Sep 2022 @ OVO Hydro\, Glasgow\, UK – Book Tickets\n2 Oct 2022 @ The O2\, London\, UK – Book Tickets\n6 Oct 2022 @ 3Arena\, Dublin\, Ireland – Book Tickets\n8 Oct 2022 @ Utilita Arena Birmingham\, Birmingham\, UK – Book Tickets\n10 Oct 2022 @ Accor Arena\, Paris\, France – Book Tickets\n14 Oct 2022 @ Ifema Hall 12\, Madrid\, Spain – Book Tickets\n15 Oct 2022 @ Altice Arena\, Lisbon\, Portugal – Book Tickets\n18 Oct 2022 @ Mediolanum Forum\, Milan\, Italy – Book Tickets\n21 Oct 2022 @ Tauron Arena\, Krakow\, Poland – Book Tickets\n22 Oct 2022 @ O2 Arena\, Prague\, Czechia – Book Tickets\n25 Oct 2022 @ Laxness Arena\, Cologne\, Germany – Book Tickets\n27 Oct 2022 @ Olympiahalle\, Munich\, Germany – Book Tickets\n29 Oct 2022 @ Sportpaleis\, Brussels\, Belgium – Book Tickets\n31 Oct 2022 @ Ziggo Dome\, Amsterdam\, Netherlands – Book Tickets\n3 Nov 2022 @ Stadthalle\, Vienna\, Austria – Book Tickets\n5 Nov 2022 @ Festhalle\, Frankfurt\, Germany – Book Tickets\n6 Nov 2022 @ Mercedes-Benz Arena\, Berlin\, Germany – Book Tickets\n8 Nov 2022 @ Barclays Arena\, Hamburg\, Germany – Book Tickets\n9 Nov 2022 @ Royal Arena\, Copenhagen\, Denmark – Book Tickets\n11 Nov 2022 @ Telenor Arena\, Oslo\, Norway – Book Tickets\n13 Nov 2022 @ Uros Arena\, Tampere\, Finland – Book TicketsAccommodation\nBook your accommodation in any city using the map below or visit booking.com \nBooking.comBook Hotels & Airbnbs near the Venue at the Lowest Price online!\n\nBook FlightsAirport TransfersCar RentalsTrain/Bus Tickets\nRelated Concerts\nCeline Dion Concert London\n29 May & 30 May | London\, UK\n Christina Aguilera UK Tour Tickets \n2 Aug – 5 Aug | United Kingdom\n		\n			\n\n				\n				\n					Search for:
URL:https://europebookings.com/festival/swedish-house-mafia-concert-tickets/
LOCATION:Various Venues
CATEGORIES:Concerts,EDM,Electronic
ATTACH;FMTTYPE=image/jpeg:https://europebookings.com/wp-content/uploads/swedish-house-mafia-paradise-again-tour-concert-tickets.jpg
END:VEVENT
END:VCALENDAR