BEGIN:VCALENDAR
VERSION:2.0
PRODID:-//Europebookings - ECPv6.15.20//NONSGML v1.0//EN
CALSCALE:GREGORIAN
METHOD:PUBLISH
X-WR-CALNAME:Europebookings
X-ORIGINAL-URL:https://europebookings.com
X-WR-CALDESC:Events for Europebookings
REFRESH-INTERVAL;VALUE=DURATION:PT1H
X-Robots-Tag:noindex
X-PUBLISHED-TTL:PT1H
BEGIN:VTIMEZONE
TZID:Asia/Nicosia
BEGIN:DAYLIGHT
TZOFFSETFROM:+0200
TZOFFSETTO:+0300
TZNAME:EEST
DTSTART:20240331T010000
END:DAYLIGHT
BEGIN:STANDARD
TZOFFSETFROM:+0300
TZOFFSETTO:+0200
TZNAME:EET
DTSTART:20241027T010000
END:STANDARD
BEGIN:DAYLIGHT
TZOFFSETFROM:+0200
TZOFFSETTO:+0300
TZNAME:EEST
DTSTART:20250330T010000
END:DAYLIGHT
BEGIN:STANDARD
TZOFFSETFROM:+0300
TZOFFSETTO:+0200
TZNAME:EET
DTSTART:20251026T010000
END:STANDARD
BEGIN:DAYLIGHT
TZOFFSETFROM:+0200
TZOFFSETTO:+0300
TZNAME:EEST
DTSTART:20260329T010000
END:DAYLIGHT
BEGIN:STANDARD
TZOFFSETFROM:+0300
TZOFFSETTO:+0200
TZNAME:EET
DTSTART:20261025T010000
END:STANDARD
END:VTIMEZONE
BEGIN:VEVENT
DTSTART;VALUE=DATE:20250502
DTEND;VALUE=DATE:20250505
DTSTAMP:20260424T124540
CREATED:20220415T220349Z
LAST-MODIFIED:20250205T201311Z
UID:54638-1746144000-1746403199@europebookings.com
SUMMARY:Land Beyond Festival
DESCRIPTION:Get TicketsAccommodationTravel Info\nLand Beyond Festival 2025: A Journey to Uncharted Realms \nGet ready for an unforgettable weekend of electronic music at Land Beyond Festival 2025\, taking place from 2nd to 4th May in Brighton. Set in the picturesque Waterhall\, this festival offers a unique escape from the ordinary. Known for its incredible stage designs and immersive installations\, Land Beyond promises a spectacular fusion of music\, art\, and creativity that will transport you to another world. This year’s theme\, “Uncharted\,” invites festival-goers to explore new sonic landscapes and experience cutting-edge performances from global electronic music talents. \nExpect a diverse lineup featuring the best in house\, drum & bass\, and techno\, with headliners from some of the world’s biggest names in electronic music. Alongside the stellar music\, Land Beyond elevates the experience with its exclusive VIP areas\, reimagined camping and glamping options\, and mind-blowing visual productions. From immersive art installations to captivating light shows\, the festival offers an all-encompassing sensory experience. \nWhether you’re a dedicated raver or a curious first-timer\, Land Beyond 2025 is the perfect place to discover new sounds and make memories that will last a lifetime. Secure your tickets now and join thousands of festival-goers for a weekend of pure escapism! \n\nLand Beyond Festival 2025 Lineup\nAll Artists\nSat 3 May 2025\nBannerworx / Bru-C / Castillo / Dizzee Rascal / Fish56Octagon / M DOT R / Nathan Dawe / Rags The Goat / Tyrone & Foor \nSun 4 May 2025\nBugzy Malone / Charlie Tee / Comma Dee / Connec / Dimension / Duskee / Harriet Jaxxon / IC3 / Kleu / MC ID / Mozey / Pola & Bryson / Savvy B / Sota / Sub FocusLand Beyond Festival 2025 Tickets\n1-Day\, 2-Day & 3-Day Tickets from £44.24 (€52.60) are on sale:\nTicketsLand Beyond Festival\nvia SkiddleBookAccommodation\nCamping during the festival requires a Weekend Camping Ticket. All you need is basic camping gear\, like a tent\, a camping pad and a head torch (so useful in the night). If you don’t want to bring your own tent\, the festival offers Premium Glamping options. \nAlternatively\, you can book nearby hotels & apartments using the map below or visit booking.com \nBook Hotels & Airbnbs near the Venue at the Lowest Price online!\n\nTravel Info\nBY CAR\nParking is available and tickets to be announced soon: \nGet DirectionsBY TRAIN\nBrighton is well connected by rail across the UK\, with services from London taking around an hour. \nBY BUS\nOnce in Brighton\, a number of bus services run east from the city centre towards the festival site. \nBook FlightsAirport TransfersCar RentalsTrain/Bus Tickets\nGallery
URL:https://europebookings.com/festival/land-beyond-festival/
LOCATION:Waterhall\, Waterhall Rd\, Brighton\, United Kingdom
CATEGORIES:Drum & Bass,Electronic,Garage,House
ATTACH;FMTTYPE=image/jpeg:https://europebookings.com/wp-content/uploads/land-beyond-festival-stage-lights-show.jpg
END:VEVENT
BEGIN:VEVENT
DTSTART;VALUE=DATE:20250524
DTEND;VALUE=DATE:20250525
DTSTAMP:20260424T124540
CREATED:20210331T203317Z
LAST-MODIFIED:20250105T201059Z
UID:43601-1748044800-1748131199@europebookings.com
SUMMARY:Wide Awake Festival
DESCRIPTION:Get TicketsAccommodationTravel Info\nWide Awake Festival 2025 returns to London’s Brockwell Park on May 24\, promising a day of forward-thinking music and vibrant cultural experiences. Celebrated for its eclectic mix of genres\, the festival showcases cutting-edge indie\, post-punk\, electronica\, and techno\, making it a must-attend event for music enthusiasts seeking something different. \nKnown for its commitment to gender balance and diversity\, Wide Awake Festival offers a platform for both established acts and emerging talent\, ensuring a dynamic and inclusive atmosphere. The festival’s picturesque setting in Brockwell Park enhances the experience\, providing attendees with a scenic backdrop to a day of outstanding performances. \nWhat sets Wide Awake apart is its blend of music with a strong counter-cultural ethos\, creating a space where innovative sounds meet progressive ideas. The festival’s dedication to sustainability and community engagement further elevates it\, making it more than just a music event but a celebration of culture and social consciousness. \n\nWide Awake Festival 2025 Lineup\nAll ArtistsChanel Beads / CMAT / COBRAH / Daniel Avery / English Teacher / Erol Alkan / Fcukers / Frankie And The Witch Fingers / Gaye Su Akyol / Getdown Services / Gurriers / Hello Mary / HiTech / Jasmine.4.t / Kneecap / Mannequin Pussy / Marie Davidson / Martin Rev / Mermaid Chunky / Nadine Shah / Optimo (Espacio) / Patriarchy / Psychedelic Porn Crumpets / PUZZLE / SPRINTS / Ugly / W.I.T.C.H. / Warmduscher / Wine LipsWide Awake Festival 2025 Tickets\nGeneral Admission & VIP Tickets from £49.50 (€58.58) are on sale:\nTickets\nWide Awake Festivalvia Ticketmaster \nBookAccommodation\nThe city of London offers a wide range of accommodation options. Book your stay for Wide Awake Festival using the map below or visit booking.com \nBook Hotels & Airbnbs near the Venue at the Lowest Price online!\n\nTravel Info\nBY CAR\nGet DirectionsBY TRAIN\nLondon is well connected by rail in the United Kingdom and from major European cities. The nearest station to Brockwell Park is Herne Hill\, which is easily accessed from most of London’s major train stations. \nBY BUS\nBus lines 3\, 68\, 196\, 201\, 322\, 468\, 690\, N3\, N68 stop near Brockwell Park. \nBY TUBE\nBrixton Station on the Victoria Line is the closest to Brockwell Park. \nBook FlightsAirport TransfersCar RentalsTrain/Bus Tickets\nGallery
URL:https://europebookings.com/festival/wide-awake-festival/
LOCATION:Brockwell Park\, Brockwell Park\, Brockwell Park Gardens\, London\, SE24 9BJ\, United Kingdom
CATEGORIES:Alternative,Electronic,Punk,Rock,Techno
ATTACH;FMTTYPE=image/jpeg:https://europebookings.com/wp-content/uploads/wide-awake-festival-stage-fans-dancing.jpg
END:VEVENT
BEGIN:VEVENT
DTSTART;VALUE=DATE:20250528
DTEND;VALUE=DATE:20250602
DTSTAMP:20260424T124540
CREATED:20200728T205724Z
LAST-MODIFIED:20250207T152433Z
UID:39278-1748390400-1748822399@europebookings.com
SUMMARY:Nuits Sonores
DESCRIPTION:Get TicketsAccommodationTravel Info\nNuits Sonores Festival 2025: A Citywide Celebration of Electronic Music \nGet ready to dive into the rhythmic heart of Lyon as Nuits Sonores returns for its 2025 edition\, running from 28 May to 1 June. Known for transforming the city into a pulsating canvas of electronic beats\, Nuits Sonores has grown since its inception in 2003 into one of Europe’s premier electronic music festivals. Held across diverse\, iconic venues—from industrial spaces to the atmospheric streets of Lyon—Nuits Sonores is curated with a dynamic blend of renowned and emerging electronic artists. \nWhile the full line-up for 2025 is still under wraps\, previous editions featured heavyweight acts such as Bonobo\, Skrillex\, and Fatboy Slim\, alongside pioneering underground artists and avant-garde performers. Attendees can expect performances across numerous stages\, including the famed “Ns Club” nights at Le Sucre and La Sucrière\, each curated to provide a unique sonic experience. The “Closing Day” event will likely be a highlight\, with top-tier DJs spinning back-to-back sets\, creating unforgettable musical collaborations. \nNuits Sonores offers both daytime and nighttime programming\, making it a 24/7 experience for music lovers. During the day\, the festival’s “LAB” programme hosts a mix of workshops\, talks\, and discussions\, focusing on music culture\, sustainability\, and innovation in electronic music. At night\, Lyon’s historic venues turn into epicentres of sound\, with each club and stage offering a different vibe and genre\, from ambient electronic to pulsating techno. \nFor a more relaxed setting\, the family-friendly “Mini Sonore” takes place at Heat and H7. This portion of the festival offers daytime activities such as interactive DJ workshops\, art installations\, and “cosmic siestas\,” giving festival-goers of all ages a chance to enjoy the music and creative energy. \nDon’t miss out on experiencing Nuits Sonores’ infectious energy\, where electronic music meets the vibrant culture of Lyon. It’s a festival that merges innovation with tradition\, offering something memorable for electronic music aficionados and newcomers alike. For more details\, check the official site closer to the event date. \n\nNuits Sonores 2025 Lineup\nAll Artists & Program\nWed 28 May 2025\nAirod b2b DJ Physical / BICEP present CHROMA (AV DJ Set) / Cabezadenego\, Mbé & Leyblack present Mimosa (Live) / DJ Chuimix / Fasme (Live) / Gooooose (Live) / IVM Trio [Mika Oki\, Apulati Bien & Sébastien Forrester] (Live) / Juno Reactor (Live) / Korea Town Acid (Live) / LB aka LABAT (Live) / Luke Vibert / Minna-No-Kimochi / Moxie b2b Wallace / Nadah El Shazly (Live) / Soyoon b2b CallbackSami / Takkak Takkak (Live) \nThu 29 May 2025\nDas Kinn (Live) / Ellen Allien b2b Badsista / Föllakzoïd (Live) / Lyra Pramuk (Live) / Mun Sing (Live) / Peggy Gou / Special Request b2b Flore / TSVI b2b Surusinghe \nFri 30 May 2025\nDylan Dylan b2b Mall Grab / Effy / Helena Hauff b2b DJ MELL G / Kalte Liebe (Hybrid Live) / KOMPROMAT (Live) / LeLeon / Mall Grab / Mees Javois / Mimi Géniale b2b Karissa / O Ghettão [DJ Nigga Fox\, DJ Danifox\, and DJ Firmeza] (Live) / Promesses b2b Raz 404 / Rosa Pistola / Toccororo \nSat 31 May 2025\nAngela / Anetha presents ‘EXHIBIT’ / Avalanche Kaito (Live) / Blood Of Aza / Fanny / Gargantuan Collapse (Live) / Honey Dijon / LEGIT GIRL DJ / Machine Girl (Live) / Mochakk / Officium (Live) / Photons (Live) / Renick Bell (Live Coding) / Saku Sahara b2b Laze \nSun 1 Jun 2025\nÂme & Curses (live) / Jeff Mills / Patrick Mason / Paula Koski b2b Justine PerryNuits Sonores 2025 Tickets\nDays & Closing Pass Tickets from €35.00 are on sale:\nTickets\nNuits Sonores\nvia Official Site \nBookAccommodation\nThe city of Lyon offers a wide range of accommodation options. Book your stay for Nuits Sonores Festival using the map below or visit booking.com \nBook Hotels & Airbnbs near the Venue at the Lowest Price online!\n\nTravel Info\nBY CAR\nGet DirectionsBY TRAIN\nLyon is well connected by rail with the rest of France and major European cities. \nBY PLANE\nLyon-Saint Exupéry Airport (LYS) is 25 km away east of Lyon.The Rhônexpress tram connects the airport to Lyon’s Part-Dieu Station in 30 minutes. \nBook FlightsAirport TransfersCar RentalsTrain/Bus Tickets\nGallery\nRelated Festivals\nMarvellous Island\n23 May – 24 May | Paris\, France\nHideout Festival\n30 Jun – 03 Jul | Novalja\, Croatia\n		\n			\n\n				\n				\n					Search for:
URL:https://europebookings.com/festival/nuits-sonores/
LOCATION:Nuits Sonores\, Lyon\, France
CATEGORIES:Electronic,House,Techno
ATTACH;FMTTYPE=image/jpeg:https://europebookings.com/wp-content/uploads/nuits-sonores-festival-stage-colours.jpg
END:VEVENT
BEGIN:VEVENT
DTSTART;VALUE=DATE:20250529
DTEND;VALUE=DATE:20250601
DTSTAMP:20260424T124540
CREATED:20190420T121237Z
LAST-MODIFIED:20241113T151810Z
UID:19377-1748476800-1748735999@europebookings.com
SUMMARY:Insane Festival
DESCRIPTION:Get TicketsAccommodationTravel Info\nInsane Festival 2025: A Decade of Electrifying Beats in the Heart of Provence \nInsane Festival 2025 is set to light up the idyllic town of Apt\, France\, from 29 to 31 May\, celebrating its 10th anniversary with a line-up that promises an unforgettable experience. Nestled by the serene Plan d’Eau\, this year’s festival will see an eclectic mix of electronic music heavyweights and underground talent\, creating a diverse soundscape across multiple immersive stages. Headliners include Dr. Peacock\, I Hate Models\, Dimitri K\, and a special back-to-back set from Mandragora and Amygdala\, ensuring that fans of techno\, hardstyle\, and house will be dancing into the early hours. \nBeyond the music\, Insane Festival is famed for its vibrant atmosphere and unique offerings that go beyond the beats. The festival grounds feature chill-out zones where attendees can relax\, alongside a variety of food trucks serving everything from local Provençal dishes to international street food favourites. There’s also an array of creative spaces\, including tattoo parlours and thought-provoking conferences\, adding an extra layer to the festival experience. \nFor those who want to immerse themselves fully\, the Bivouac camping area provides a home base with all the essentials\, from showers to shaded chill-out spots. The campsite becomes a lively community where festival-goers can unwind and connect after a full day of dancing. \nAs Insane Festival marks a decade of delivering high-energy performances and unforgettable memories\, this year’s edition promises to be its most ambitious yet. Whether you’re a die-hard raver or just looking to experience something new\, Insane Festival 2025 is the place to be for an electrifying weekend of music\, community\, and celebration under the starry skies of Provence. \n\nInsane Festival 2025 Lineup\nAll Artists & ProgramASKM b2b Garcia Sauvage / Acidpach / Azyr / Dimitri K / DNNS / Dr. Peacock / I Hate Models / Infrakontrol b2b Tae Hui / Jaëss / Le Wanski / Mandragora b2b Amygdala / Meyem / Odymel / Omaks / Onlynumbers / Part Time Killer / Sikoti / Sköne / Tars / Zapravka / more TBAInsane Festival 2025 Tickets\n1-Day\, 2-Day & 3-Day Tickets from €42.00 are on sale:\nTickets\nInsane Festivalvia Official Site \nBookAccommodation\nCamping during the festival requires a Camping Ticket. All you need is basic camping gear\, like a tent\, a camping pad and a head torch (so useful in the night). \nAlternatively\, you can book nearby hotels and apartments using the map below or visit booking.com \nBook Hotels & Airbnbs near the Venue at the Lowest Price online!\n\nTravel Info\nBY CAR\nGet DirectionsBY BUS\nThe festival organises Buses departing from major cities in France with ONTOURS: Paris\, Marseille\, Lyon\, Montpellier\, Bordeaux\, Nice\, Toulouse\, Grenoble. Book your transport here\, either as a standalone ticket or as a package including transport + festival + bivouac here \nBY TRAIN\nTo come to the festival by train\, simply book a ticket to Avignon Centre Station or Avignon TGV Station! Feel free to take an Avignon-Apt shuttle as an additional option to get directly to the event’s doorstep. \nBY PLANE\nThe nearest airport is Avignon Provence (DTM)\, just 40 min from the Venue. You can then take the Bus from Avignon Lycée Agricole to Apt Avenue de Lançon. \nBook FlightsAirport TransfersCar RentalsTrain/Bus Tickets\nGallery\nRelated Festivals\nParklife Festival\n13 – 15 Jun | Manchester\, UK\nIsle of Wight Festival\n19 Jun – 22 Jun | Newport\, UK\n		\n			\n\n				\n				\n					Search for:
URL:https://europebookings.com/festival/insane-festival/
LOCATION:Insane Festival\, Plan d'Eau d'Apt\, Apt\, 84400\, France
CATEGORIES:Electronic,Hardstyle,Psytrance,Techno
ATTACH;FMTTYPE=image/jpeg:https://europebookings.com/wp-content/uploads/insane-festival-performing-1.jpg
END:VEVENT
BEGIN:VEVENT
DTSTART;VALUE=DATE:20250529
DTEND;VALUE=DATE:20250601
DTSTAMP:20260424T124541
CREATED:20200723T222018Z
LAST-MODIFIED:20250207T152924Z
UID:39085-1748476800-1748735999@europebookings.com
SUMMARY:Immergut Festival
DESCRIPTION:Get TicketsAccommodationTravel Info\nImmergut Festival 2025 will take place from May 29 to 31 in the picturesque town of Neustrelitz\, Germany. Nestled in the heart of the Mecklenburg Lake District\, this festival is celebrated for its intimate atmosphere and diverse lineup\, featuring a mix of indie\, pop\, and electronic music. As one of Germany’s longest-running festivals\, Immergut continues to attract music lovers from across Europe with its commitment to showcasing both established artists and emerging talent. \nThe festival’s unique setting\, surrounded by vibrant forests and scenic lakes\, creates a perfect backdrop for a weekend of music and cultural experiences. In addition to live performances\, attendees can enjoy art installations\, film screenings\, and various workshops\, making Immergut a comprehensive cultural event. \nWhat sets Immergut Festival apart is its strong sense of community and its eco-friendly initiatives\, ensuring a positive impact on both attendees and the environment. This dedication to sustainability\, combined with high-quality sound and production\, makes Immergut a must-visit for music enthusiasts seeking a truly immersive festival experience. \n\nImmergut Festival 2025 Lineup\nAll ArtistsBeharie / Bilderbuch / DEHD / Ditty / Erobique / Fat Dog / International Music / Paula Dalla Corte / Pom Pom Squad / Porridge Radio / Shout Out Louds / and many moreImmergut Festival 2025 Tickets\nFestival Tickets from €49.00 are on sale:\nTicketsImmergut Festival\nvia Official SiteBookAccommodation\nCamping during the festival is included with your Festival ticket. All you need is basic camping gear\, like a tent\, a camping pad and a head torch (so useful in the night). \nAlternatively\, you can book nearby hotels and apartments using the map below or visit booking.com \nBooking.comBook Hotels & Airbnbs near the Venue at the Lowest Price online!\n\nTravel Info\nBY CAR\nGet DirectionsBY BUS\nBetween Greifswald\, Berlin and Leipzig\, the long-distance bus makes a stop in Neustrelitz twice a day. \nBY TRAIN\nNeustrelitz is well connected by rail from all major cities in Germany. From Berlin take the train from S+U Berlin Hauptbahnhof to Neustrelitz Hauptbahnhof (1h 15 min journey). From the train station you can continue with the shuttle train\, that runs on Thursday\, Friday\, Saturday and Sunday free of charge between the station and the festival area. \nBY PLANE\nBerlin has the closest airports to the festival\, so take any flight to any of Berlin airports. You can follow the above instructions to get to the festival via rail. \nBook FlightsAirport TransfersCar RentalsTrain/Bus Tickets\nGallery\nRelated Festivals\nDownload Festival\n12 Jun – 14 Jun | Derby\, UK\nLytham Festival\n1 Jul – 5 Jul | Lytham Green\, UK\n		\n			\n\n				\n				\n					Search for:
URL:https://europebookings.com/festival/immergut-festival/
LOCATION:Immergut Festival\, Immergut Festival\, Bürgerseeweg 31\, Neustrelitz\, 17235\, Germany
CATEGORIES:Electronic,Indie
ATTACH;FMTTYPE=image/jpeg:https://europebookings.com/wp-content/uploads/immergut-festival-stage-lights.jpg
END:VEVENT
END:VCALENDAR