BEGIN:VCALENDAR
VERSION:2.0
PRODID:-//Europebookings - ECPv6.15.20//NONSGML v1.0//EN
CALSCALE:GREGORIAN
METHOD:PUBLISH
X-ORIGINAL-URL:https://europebookings.com
X-WR-CALDESC:Events for Europebookings
REFRESH-INTERVAL;VALUE=DURATION:PT1H
X-Robots-Tag:noindex
X-PUBLISHED-TTL:PT1H
BEGIN:VTIMEZONE
TZID:Asia/Nicosia
BEGIN:DAYLIGHT
TZOFFSETFROM:+0200
TZOFFSETTO:+0300
TZNAME:EEST
DTSTART:20240331T010000
END:DAYLIGHT
BEGIN:STANDARD
TZOFFSETFROM:+0300
TZOFFSETTO:+0200
TZNAME:EET
DTSTART:20241027T010000
END:STANDARD
BEGIN:DAYLIGHT
TZOFFSETFROM:+0200
TZOFFSETTO:+0300
TZNAME:EEST
DTSTART:20250330T010000
END:DAYLIGHT
BEGIN:STANDARD
TZOFFSETFROM:+0300
TZOFFSETTO:+0200
TZNAME:EET
DTSTART:20251026T010000
END:STANDARD
BEGIN:DAYLIGHT
TZOFFSETFROM:+0200
TZOFFSETTO:+0300
TZNAME:EEST
DTSTART:20260329T010000
END:DAYLIGHT
BEGIN:STANDARD
TZOFFSETFROM:+0300
TZOFFSETTO:+0200
TZNAME:EET
DTSTART:20261025T010000
END:STANDARD
END:VTIMEZONE
BEGIN:VEVENT
DTSTART;VALUE=DATE:20251110
DTEND;VALUE=DATE:20251111
DTSTAMP:20260424T023307
CREATED:20200831T171006Z
LAST-MODIFIED:20250105T220431Z
UID:40116-1762732800-1762819199@europebookings.com
SUMMARY:Mayday Poland
DESCRIPTION:Get TicketsAccommodationTravel Info\nMAYDAY Poland 2025: Celebrating 26 Years of Electronic Music Excellence \nJoin the vibrant celebration of electronic music at MAYDAY Poland 2025\, marking its 26th edition on 10th November 2025. This iconic event will take place at the renowned Spodek Arena in Katowice\, a city synonymous with rich musical heritage and dynamic cultural scenes. \nAs one of the most influential electronic music festivals in Europe\, MAYDAY Poland has a storied history of showcasing both legendary and emerging artists across various electronic genres. While the lineup for the 2025 edition is yet to be announced\, attendees can anticipate a meticulously curated selection of performers who will deliver electrifying sets\, continuing the festival’s tradition of excellence. \nThe Spodek Arena\, with its distinctive architecture and state-of-the-art acoustics\, provides an immersive environment for festival-goers. The venue’s central location in Katowice ensures easy accessibility\, with ample accommodation options ranging from hotels to guesthouses\, catering to diverse preferences and budgets. \nJoin thousands of electronic music enthusiasts from around the globe for a night of unparalleled performances\, cutting-edge production\, and a celebration of unity through music at MAYDAY Poland 2025. Stay tuned for further announcements and prepare to be part of an event that continues to shape the landscape of electronic music festivals worldwide. \n\nMayday Poland 2025 Lineup\nLineup to be announced soon: \n2024 Lineup\nArena\nAmelie Lens / Cherry Aka Breakntune / Dubfire / Friends Of Mayday -Live- / Jaco / Joyhauser / King Brain / Len Faki / Regal / Sam Paganini / Westbam \nShowroom\nCarla Roca / Fatima Hajji / Felix Kröcher / Gogo / Marco Bailey / Milo Spykers / Petduo / Spartaque \nThe Twenty Floor\nDa Hool / Dj Dag / Dune / Jam (Jam & Spoon) / Kai Tracid / Siasia / Taucher / Tom WaxMayday Poland 2025 Tickets\nStandard & VIP Tickets from PLN329.00 (€77.02) are on sale:\nTicketsMayday Poland\nvia Official SiteBookAccommodation\nThe city of Katowice offers a wide range of accommodation options. Book your stay for Mayday Poland using the map below or visit booking.com \nBook Hotels & Airbnbs near the Venue at the Lowest Price online!\n\nTravel Info\nBY CAR\nGet DirectionsBY TRAIN\nThe best station to head to is Katowice. This is well connected to most of Poland and central Europe.\nOstrava – Katowice (1 hour 45 minutes)\nWarsaw – Katowice (2 hours 32 minutes)\nBratislava – Katowice (4 hours 22 minutes) irregular times 3 times a week\nPrague – Katowice (4 hours 36 minutes) irregular times 3 times a week \nBY PLANE\nThe nearest airport is Krakow (KRK). From here you can take a bus to Katowice (1 hour). The festival site is a short walk from the bus stop (9 minutes). \nBook FlightsAirport TransfersCar RentalsTrain/Bus Tickets\nGallery\nRelated Festivals\nDGTL Amsterdam\n3 Apr – 5 Apr | Amsterdam\, Netherlands\nFree Your Mind Festival\n6 Jun – 7 Jun | Utrecht\, Netherlands\n		\n			\n\n				\n				\n					Search for:
URL:https://europebookings.com/festival/mayday-poland/
LOCATION:Spodek\, Spodek\, Aleja Korfantego 35\, Katowice\, 40-005\, Poland
CATEGORIES:Electronic,Techno
ATTACH;FMTTYPE=image/jpeg:https://europebookings.com/wp-content/uploads/mayday-poland-stage-laser-show.jpg
END:VEVENT
BEGIN:VEVENT
DTSTART;VALUE=DATE:20251121
DTEND;VALUE=DATE:20251130
DTSTAMP:20260424T023307
CREATED:20230911T135523Z
LAST-MODIFIED:20251112T221023Z
UID:73414-1763683200-1764460799@europebookings.com
SUMMARY:Polaris Festival
DESCRIPTION:Get TicketsAccommodationTravel Info\nPolaris Festival will be extending to two weekends\, covering both the 21-23 & 27-29 November \nPolaris Festival 2025 returns for its milestone 10th anniversary in the Swiss Alps at Espace Saint‑Marc\, Le Châble / Verbier\, spread across two breathtaking weekends: 21-23 November and 27-29 November 2025. \nRooted deeply in the world of high-end electronic music\, Polaris has spent a decade curating immersive experiences where sound\, scenography and mountain energy collide. For 2025\, the festival reinvents itself with a new venue\, elite production and a gondola ride into the heart of the Alps included in your ticket. \nThe line-up is stacked with legends and innovators: expect sets from Carl Craig\, DJ Koze\, Marcel Dettmann (live)\, Honey Dijon\, Nina Kraviz\, Laurent Garnier (special 5-hour set)\, Moodymann\, Jayda G and more — a deep dive through house\, techno and everything in between. \nAs you twist up the mountain in the gondola and enter the transformed alpine venue\, you’ll find major production upgrades\, immersive light installations by Kinetic Lights and scenography designed to complement the majestic mountain setting. Tickets include lift access and are entirely cashless\, with VIP zones offering elevated views and exclusive access. \nFor lovers of electronic music who want more than just a festival — an experience in altitude\, art and sound — Polaris 2025 is one to mark deeply. \n\nPolaris Festival 2025 Lineup\nAll ArtistsCarl Craig / Danilo Plessow aka MCDE / Dj Deep / Dj Koze / Eva May / Flo Real / Honey Dijon / Jayda G Laolu / Laurent Garnier / Marcel Dettmann / Marie Montexier / Mirko Loko / Moodymann / Nina Kraviz / Omar S / Sven Väth / Suze ijó / Tereza / Toy Tonics KrewPolaris Festival 2025 Tickets\nTicketsPolaris Festival\nvia Official SiteBookAccommodation\nThe city of Verbier offers a wide range of accommodation options. Book your stay using the map below or visit booking.com \nBook Hotels & Airbnbs near the Venue at the Lowest Price online!\n\nTravel Info\nBY CAR\nGet DirectionsBY SHUTTLE\nThe festival will be running a free local shuttle bus service for festival-goers with stops at Périn\, Place Centrale\, Brunet\, Savoleyres and Carrefour. More details to be announced soon. \nBY PLANE\nGeneva Airport (GVA) is the closest to the festival. From there you can take the train to Martigny and then transfer to another train to Le Châble. From there you can reach Verbier by gondola or Car Postal (bus). \nBook FlightsAirport TransfersCar RentalsTrain/Bus Tickets\nGallery\nRelated Festivals\nRise Festival\n6 Dec – 13 Dec | Les Deux Alpes\, France\nTomorrowland Winter\n21 Mar – 28 Mar | L’Alpe-d’Huez\, France\n		\n			\n\n				\n				\n					Search for:
URL:https://europebookings.com/festival/polaris-festival/
LOCATION:Verbier\, Verbier\, Switzerland
CATEGORIES:Electronic,House,Techno
ATTACH;FMTTYPE=image/jpeg:https://europebookings.com/wp-content/uploads/polaris-festival-performing.jpg
END:VEVENT
END:VCALENDAR