BEGIN:VCALENDAR
VERSION:2.0
PRODID:-//Europebookings - ECPv6.15.20//NONSGML v1.0//EN
CALSCALE:GREGORIAN
METHOD:PUBLISH
X-ORIGINAL-URL:https://europebookings.com
X-WR-CALDESC:Events for Europebookings
REFRESH-INTERVAL;VALUE=DURATION:PT1H
X-Robots-Tag:noindex
X-PUBLISHED-TTL:PT1H
BEGIN:VTIMEZONE
TZID:Asia/Nicosia
BEGIN:DAYLIGHT
TZOFFSETFROM:+0200
TZOFFSETTO:+0300
TZNAME:EEST
DTSTART:20250330T010000
END:DAYLIGHT
BEGIN:STANDARD
TZOFFSETFROM:+0300
TZOFFSETTO:+0200
TZNAME:EET
DTSTART:20251026T010000
END:STANDARD
BEGIN:DAYLIGHT
TZOFFSETFROM:+0200
TZOFFSETTO:+0300
TZNAME:EEST
DTSTART:20260329T010000
END:DAYLIGHT
BEGIN:STANDARD
TZOFFSETFROM:+0300
TZOFFSETTO:+0200
TZNAME:EET
DTSTART:20261025T010000
END:STANDARD
BEGIN:DAYLIGHT
TZOFFSETFROM:+0200
TZOFFSETTO:+0300
TZNAME:EEST
DTSTART:20270328T010000
END:DAYLIGHT
BEGIN:STANDARD
TZOFFSETFROM:+0300
TZOFFSETTO:+0200
TZNAME:EET
DTSTART:20271031T010000
END:STANDARD
END:VTIMEZONE
BEGIN:VEVENT
DTSTART;VALUE=DATE:20260220
DTEND;VALUE=DATE:20260222
DTSTAMP:20260423T202308
CREATED:20181029T203223Z
LAST-MODIFIED:20251113T180939Z
UID:15986-1771545600-1771718399@europebookings.com
SUMMARY:Let It Roll Winter
DESCRIPTION:Get TicketsAccommodationTravel Info\nPrepare for a sonic storm this February as Let It Roll Winter 2026 explodes into Prague\, Czech Republic\, bringing the world’s finest drum & bass artists under one roof for a mind-blowing indoor edition of the planet’s biggest DnB festival. This winter gathering transforms Prague’s industrial arenas into a thundering universe of lasers\, basslines and pure underground energy. \nA spin-off of the legendary Let It Roll Open Air\, the winter edition delivers all the intensity of summer’s iconic drum & bass celebration — but concentrated into two nights of unrelenting rhythm and immersive production. Expect jaw-dropping visuals\, next-level stage design and a crowd of ravers from across Europe united by one thing: their devotion to bass music. \nThe 2026 line-up promises to be nothing short of monumental. Past editions have seen headline sets from the genre’s biggest names including Andy C\, Dimension\, Sub Focus\, Noisia\, Hybrid Minds\, Wilkinson\, Metrik\, Camo & Krooked\, The Prototypes\, AMC\, K Motionz\, and Netsky — and this year is set to follow suit with a massive mix of DnB titans and fresh talent. From the soulful liquid of Hybrid Minds to the razor-sharp neuro of Black Sun Empire\, and the electrifying high-energy sets of Kanine\, Friction\, and Delta Heavy\, every corner of the drum & bass spectrum will be represented in full force. \nKnown for its unparalleled visuals and immersive worlds\, Let It Roll’s winter edition offers two nights of back-to-back performances\, custom light rigs\, 3D mapping\, and stage designs that rival the summer festival’s legendary robotic motifs. Expect themed stages\, massive sound systems\, and unforgettable back-to-back sessions that push the limits of live electronic performance. \nConveniently located in Prague’s Exhibition Grounds (Výstaviště Praha)\, the venue is easily accessible by metro and tram\, with affordable hotels and vibrant nightlife just minutes away. For ravers who crave pure bass energy in the heart of winter\, Let It Roll Winter 2026 delivers the ultimate fix — an immersive\, high-voltage escape where the beats are relentless\, and the dancefloor never cools down. \n\nLet it Roll Winter 2026 Lineup\nAll ArtistsArcando / Bou / Fred V / Hybrid Minds / and many moreLet it Roll Winter 2026 Tickets\nTickets\nLet it Roll Wintervia Official Site \nBookLet It Roll Festival30 Jul – 1 Aug | Milovice\, Czech RepublicTICKETS ON SALE\nAccommodation\nThe city of Prague offers a wide range of accommodation options. Book your stay using the interactive map below or visit booking.com \nBook Hotels & Airbnbs near the Venue at the Lowest Price online!\n\nTravel Info\nBY CAR\nParking is available and tickets can be purchased here \nGet DirectionsBY TRAIN\nPrague is well connected by rail to the rest of the Czech Republic and neighbouring cities in Europe. \nBY PLANE\nIf you are flying into Prague\, the Airport Express shuttle bus service will take you into the city centre in approximately 35 minutes. Alternatively\, it will take 20 minutes by taxi but will cost more. \nBook FlightsAirport TransfersCar RentalsTrain/Bus Tickets\nGallery\nRelated Festivals\nEl Dorado Festival\nDates TBA | Ledbury\, UK\nOutlook Origins Festival\nDates TBA | Tisno\, Croatia\n		\n			\n\n				\n				\n					Search for:
URL:https://europebookings.com/festival/let-it-roll-winter/
LOCATION:O2 Universum\, Českomoravská 2345/17\, Prague\, 190 00\, Czech Republic
CATEGORIES:Drum & Bass,Electronic
ATTACH;FMTTYPE=image/jpeg:https://europebookings.com/wp-content/uploads/let-it-roll-winter-festival-lights-show.jpg
END:VEVENT
BEGIN:VEVENT
DTSTART;VALUE=DATE:20260227
DTEND;VALUE=DATE:20260301
DTSTAMP:20260423T202309
CREATED:20230622T211456Z
LAST-MODIFIED:20251112T174444Z
UID:71034-1772150400-1772323199@europebookings.com
SUMMARY:A State of Trance
DESCRIPTION:Get TicketsAccommodationTravel Info\nA State of Trance 2026: Enter the World of Pure Trance Bliss \nA State of Trance 2026 marks a quarter-century of euphoric trance with a landmark two-night takeover of Rotterdam Ahoy on 27–28 February 2026. Expect the brand’s trademark blend of widescreen production\, laser-etched storytelling and a sea of flags as fans from across the globe converge on the Netherlands for a celebration 25 years in the making. \nBorn in 2001 as Armin van Buuren’s radio show\, ASOT has grown into a world-spanning movement\, and this anniversary weekend promises to honour that journey in style. Dutch and international media report a multi-stage programme across both nights\, including a special showcase charting “25 Years of Trance\,” with Armin set for a marathon headline set — the kind of once-in-a-generation moment that turns dancefloor memories into mythology. \nInside Ahoy\, you’ll find the meticulous staging and lighting design that ASOT devotees know by heart: crisp\, enveloping sound\, panoramic LEDs\, pyro flourishes and a crowd that surges as one when the breakdowns hit. Whether your heart beats faster to progressive swells\, hands-up anthems or darker late-night drive\, the programming typically threads every shade of trance into a seamless\, high-energy narrative. And with Rotterdam’s effortless hospitality — efficient entry flows\, lockers\, cashless bars and accessible facilities — the practical side stays as smooth as the mixes. \nMake a weekend of it with the official ASOT hotel packages\, which bundle your festival tickets with a curated stay\, late check-out\, handy perks like fast-lane access to the Mainstage and even a daytime pool party — perfect for resetting before night two. If you’re rolling DIY\, Rotterdam’s compact centre and excellent transport make it easy: fly into Amsterdam Schiphol or Rotterdam The Hague\, hop a direct train to Rotterdam Centraal\, and you’re a short metro ride from Ahoy. \nWith milestone dates locked\, pre-registration open and hype building fast\, A State of Trance 2026 looks set to deliver an unforgettable salute to the past and a bold signal of where trance goes next — two nights\, one mission: turn the world into a dancefloor. \n\nA State of Trance 2026 Lineup\nAll Artists & Program\nFri 27 Feb\nArmin van Buuren (5-Hour Set)\nAly & Fila / Estiva / Ferry Corsten / Giuseppe Ottaviani / John O’Callaghan / Luvstruck / Matty Ralph / Mauro Picotto / NRG2000 / Ruben de Ronde / Sarah de Warren / Superstrings / Will Atkinson \nSat 28 Feb\nArmin van Buuren B3B Oliver Heldens B3B Maddix\nAmber Revival / Ammara / Andrew Rayel Presents Extasia / Armin van Buuren / Avalan Rokston / Benwal / Billy Gillies / Cosmic Gate / Dan Sushi / Dart B2B Inafekt / David Forbes / Ebenezer / Ginchy / Hannah Laing / Jesabel / Joa / Jorn van Deynhoven \nDate TBA\nJ Ribbon / Korolova / Kyau & Albert / Laura van Dam / MaRLo / Matt Fax / Mrphlndr / Newtone / Nifra / Olivia Lensen / Ørjan Nilsen / Ottagon / Push / Rank 1 / Richard Durand / Sean Tyas / Signum / Super8 & Tab / TjadeA State of Trance 2026 Tickets\nTicketsA State of Trance\nvia Official SiteBookAccommodation\nThe city of Rotterdam offers a wide range of accommodation options. Book your stay using the map below or visit booking.com \nBook Hotels & Airbnbs near the Venue at the Lowest Price online!\n\nTravel Info\nBY CAR\nGet DirectionsBY BUS\nFrom Rotterdam’s central bus terminal\, you can take bus line 44 or 72 which will drop you off near Ahoy Rotterdam. \nBY METRO\nFrom Rotterdam Central Station take Metro line D (towards De Akkers) or line E (towards Slinge) and after a 15-minute ride\, get off at the Zuidplein stop\, just a short 5 min walk to the venue. \nBY TRAIN\nRotterdam Central Station is easily reachable in the Netherlands and major European cities. Once in the Central Station take Metro line D (towards De Akkers) or line E (towards Slinge) and get off at the Zuidplein stop\, just a short 5 min walk to the venue. \nBY PLANE\nFrom Schiphol Airport\, you will first need to take a train to Rotterdam Central Station. Trains leave regularly\, and the journey typically takes around 25-30 minutes via an Intercity Direct train\, or around 50 minutes if you take a regular Intercity train. \nOnce you arrive at Rotterdam Central Station\, take Metro line D (towards De Akkers) or line E (towards Slinge) and get off at the Zuidplein stop\, just a short 5 min walk to the venue. \nBook FlightsAirport TransfersCar RentalsTrain/Bus Tickets\nGallery\nRelated Festivals\nParookaville Festival\n17 Jul – 19 Jul | Weeze\, Germany\nUntold Festival\nDates TBA | Cluj-Napoca\, Romania\n		\n			\n\n				\n				\n					Search for:
URL:https://europebookings.com/festival/a-state-of-trance/
LOCATION:Rotterdam Ahoy\, Ahoyweg 10\, Rotterdam\, 3084 BA\, Netherlands
CATEGORIES:Electronic,Trance
ATTACH;FMTTYPE=image/jpeg:https://europebookings.com/wp-content/uploads/a-state-of-trance-2025.jpg
END:VEVENT
END:VCALENDAR