BEGIN:VCALENDAR
VERSION:2.0
PRODID:-//Europebookings - ECPv6.15.20//NONSGML v1.0//EN
CALSCALE:GREGORIAN
METHOD:PUBLISH
X-ORIGINAL-URL:https://europebookings.com
X-WR-CALDESC:Events for Europebookings
REFRESH-INTERVAL;VALUE=DURATION:PT1H
X-Robots-Tag:noindex
X-PUBLISHED-TTL:PT1H
BEGIN:VTIMEZONE
TZID:Asia/Nicosia
BEGIN:DAYLIGHT
TZOFFSETFROM:+0200
TZOFFSETTO:+0300
TZNAME:EEST
DTSTART:20230326T010000
END:DAYLIGHT
BEGIN:STANDARD
TZOFFSETFROM:+0300
TZOFFSETTO:+0200
TZNAME:EET
DTSTART:20231029T010000
END:STANDARD
BEGIN:DAYLIGHT
TZOFFSETFROM:+0200
TZOFFSETTO:+0300
TZNAME:EEST
DTSTART:20240331T010000
END:DAYLIGHT
BEGIN:STANDARD
TZOFFSETFROM:+0300
TZOFFSETTO:+0200
TZNAME:EET
DTSTART:20241027T010000
END:STANDARD
BEGIN:DAYLIGHT
TZOFFSETFROM:+0200
TZOFFSETTO:+0300
TZNAME:EEST
DTSTART:20250330T010000
END:DAYLIGHT
BEGIN:STANDARD
TZOFFSETFROM:+0300
TZOFFSETTO:+0200
TZNAME:EET
DTSTART:20251026T010000
END:STANDARD
END:VTIMEZONE
BEGIN:VEVENT
DTSTART;VALUE=DATE:20240208
DTEND;VALUE=DATE:20240325
DTSTAMP:20260425T192337
CREATED:20200916T105539Z
LAST-MODIFIED:20231208T092914Z
UID:41200-1707350400-1711324799@europebookings.com
SUMMARY:The 1975 Concert Tickets
DESCRIPTION:Get TicketsAccommodationTravel Info\nThe 1975 announce details of the North America\, UK and Europe leg of their “Still… At Their Very Best” tour in Autumn 2023 and February – March 2024. \nThe newly announced dates\, including two nights at London’s The O2\, represent the band’s biggest ever shows in Europe and will be the final shows of the ‘Being Funny In A Foreign Language’ campaign. \nFormed in Manchester in 2002\, The 1975 have firmly established themselves as an act at the forefront of their generation. The band has been crowned ‘Best Group’ at the BRIT Awards twice and their fifth album Being Funny in a Foreign Language was their fifth consecutive no.1 album in the UK. \nThe 1975’s five-album career has encompassed glossy pop\, punk\, garage rock\, electro-funk\, country and so much more. The English rockers have designed a unique approach to songwriting and amassed an incredible following and ardent fanbase through their music which explores mental health\, addiction\, climate change and nihilism – to reference just a few songs. \nLatest album\, 2002’s Being Funny In A Foreign Language\, was praised for its enigmatic and ‘contradictory’ songcraft and their viral At Their Very Best tour not only executed a show-within-a-show concept whilst delivering a tirade of hits\, but featured Taylor Swift as a surprise guest at one London show. \n\nThe 1975 Concert Tickets Europe\n08 Feb @ OVO Hydro\, Glasgow\, UK\nBuy Tickets\n09 Feb @ OVO Hydro\, Glasgow\, UK\nBuy Tickets\n12 Feb @ The O2\, London\, UK\nBuy Tickets\n13 Feb @ The O2\, London\, UK\nBuy Tickets\n14 Feb @ The O2\, London\, UK\nBuy Tickets\n17 Feb @ AO Arena\, Manchester\, UK\nBuy Tickets\n18 Feb @ AO Arena\, Manchester\, UK\nBuy Tickets\n21 Feb @ Resorts World Arena\, Birmingham\, UK\nBuy Tickets\n26 Feb @ Sagres Campo Pequeno\, Lisbon\, PortugalBuy Tickets27 Feb @ WiZink Center\, Madrid\, SpainBuy Tickets01 Mar @ Le Zénith\, Paris\, FranceBuy Tickets02 Mar @ AFAS Live\, Amsterdam\, NetherlandsBuy Tickets03 Mar @ Forest National\, Brussels\, BelgiumBuy Tickets05 Mar @ Barclays Arena\, HamburgBuy Tickets07 Mar @ Oslo Spektrum\, Oslo\, NorwayBuy Tickets08 Mar @ Annexet\, Stockholm\, SwedenBuy Tickets10 Mar @ KB Hallen\, Copenhagen\, DenmarkBuy Tickets12 Mar @ Verti Music Hall\, Berlin\, GermanyBuy Tickets13 Mar @ Torwar Hall\, Warsaw\, PolandBuy Tickets14 Mar @ Fortuna Hall\, Prague\, CzechiaBuy Tickets16 Mar @ Hallenstadion Zurich\, Zürich\, SwitzerlandBuy Tickets18 Mar @ Zenith\, Munich\, GermanyBuy Tickets19 Mar @ Mediolanum Forum\, Milan\, ItalyBuy Tickets21 Mar @ Jahrhunderthalle\, Frankfurt\, GermanyBuy Tickets22 Mar @ Palladium\, Cologne\, GermanyBuy Tickets24 Mar @ AFAS Live\, Amsterdam\, NetherlandsBuy TicketsAccommodation\nBook your accommodation in London (or type destination & add dates) using the map below or visit booking.com \nBooking.comBook Hotels & Airbnbs near the Venue at the Lowest Price online!\n\nBook FlightsAirport TransfersCar RentalsTrain/Bus Tickets\nGallery\nRelated Concerts\nGuns N’ Roses World Tour Tickets\n5 Jun – 16 Oct | Europe\nMadonna Concert Tickets \n14 Oct – 5 Dec | Europe\n		\n			\n\n				\n				\n					Search for:
URL:https://europebookings.com/festival/the-1975-concert-tickets/
LOCATION:Various Venues
CATEGORIES:Concerts,Electronic,Pop,Rock
ATTACH;FMTTYPE=image/jpeg:https://europebookings.com/wp-content/uploads/the-1975-concert-tickets-tour-dates-2024.jpg
END:VEVENT
END:VCALENDAR