BEGIN:VCALENDAR
VERSION:2.0
PRODID:-//Europebookings - ECPv6.15.20//NONSGML v1.0//EN
CALSCALE:GREGORIAN
METHOD:PUBLISH
X-ORIGINAL-URL:https://europebookings.com
X-WR-CALDESC:Events for Europebookings
REFRESH-INTERVAL;VALUE=DURATION:PT1H
X-Robots-Tag:noindex
X-PUBLISHED-TTL:PT1H
BEGIN:VTIMEZONE
TZID:Asia/Nicosia
BEGIN:DAYLIGHT
TZOFFSETFROM:+0200
TZOFFSETTO:+0300
TZNAME:EEST
DTSTART:20230326T010000
END:DAYLIGHT
BEGIN:STANDARD
TZOFFSETFROM:+0300
TZOFFSETTO:+0200
TZNAME:EET
DTSTART:20231029T010000
END:STANDARD
BEGIN:DAYLIGHT
TZOFFSETFROM:+0200
TZOFFSETTO:+0300
TZNAME:EEST
DTSTART:20240331T010000
END:DAYLIGHT
BEGIN:STANDARD
TZOFFSETFROM:+0300
TZOFFSETTO:+0200
TZNAME:EET
DTSTART:20241027T010000
END:STANDARD
BEGIN:DAYLIGHT
TZOFFSETFROM:+0200
TZOFFSETTO:+0300
TZNAME:EEST
DTSTART:20250330T010000
END:DAYLIGHT
BEGIN:STANDARD
TZOFFSETFROM:+0300
TZOFFSETTO:+0200
TZNAME:EET
DTSTART:20251026T010000
END:STANDARD
END:VTIMEZONE
BEGIN:VEVENT
DTSTART;VALUE=DATE:20240918
DTEND;VALUE=DATE:20240923
DTSTAMP:20260425T004326
CREATED:20220904T165303Z
LAST-MODIFIED:20240908T155534Z
UID:60659-1726617600-1727049599@europebookings.com
SUMMARY:Reworks Festival
DESCRIPTION:Get TicketsAccommodationTravel Info\nReworks Festival 2024\, celebrating its 20th anniversary\, is set to transform Thessaloniki into a hub of advanced electronic music from September 18-22. This iconic festival honors the rich heritage of club culture\, presenting a diverse selection of artists and sounds that highlight the evolution of DJs as cultural symbols in electronic music. \nThis year’s lineup includes an impressive array of international and local talent\, featuring renowned artists such as Solomun\, Nina Kraviz\, Amelie Lens\, and Adriatique. Attendees can expect an eclectic mix of electronic music genres\, ranging from techno to house\, all set against the vibrant backdrop of Thessaloniki’s urban landscape. \nReworks Festival stands out for its immersive atmosphere\, combining live performances\, DJ sets\, and visual arts to create a holistic cultural experience. The festival not only showcases music but also promotes creative thinking and progressive ideas through its Reworks Agora segment\, featuring talks and workshops. \nThis unique blend of music\, art\, and intellectual engagement makes Reworks Festival a must-visit for anyone passionate about electronic music and culture. \n\nReworks Festival 2024 Lineup\nAll Artists & ProgramARTBAT / Ben Klock / Ehohroma / Fjaak / Indi Skullmors / Ison / KiNK / Maceo Plex / Mano Le Tough / Momery / Myrophora / Pablo Bozzi / Pinelopi / Richie Hawtin / Royksopp DJ / Solomun / VaJohn / and many moreReworks Festival 2024 Tickets\n1-Day & 4-Day Pass Tickets are on sale:\nTicketsReworks Festival\nvia Official SiteBookAccommodation\nThe city of Thessaloniki offers a wide range of accommodation options. Book your stay for Reworks Festival using the map below or visit booking.com \nBooking.comBook Hotels & Airbnbs near the Venue at the Lowest Price online!\n\nafTravel Info\nBY CAR\nGet DirectionsBY PLANE\nFrom Thessaloniki International Airport (SKG) you can take the Bus line\, with connections to the Central Railway Station and the “Makedonia” Regional Coach Terminal (KTEL). The bus stop is located at the departures area\, in front of entrance 3 of T1. Tickets can be purchased by the bus driver. Taxis outside the terminal will cost around €25.00 to the centre of Thessaloniki. \nBY TAXI\nThe easiest and most convenient way to get around in Thessaloniki is by taxi. You can easily grab a cab by hailing one from the street\, walking to one of the official taxi ranks or calling for a radio taxi.\nBase fare – €1.30\nRate per km – €0.74 \nBook FlightsAirport TransfersCar RentalsTrain/Bus Tickets\nGallery\nRelated Festivals\nDownload Festival\n12 Jun – 14 Jun | Derby\, UK\nLytham Festival\n1 Jul – 5 Jul | Lytham Green\, UK\n		\n			\n\n				\n				\n					Search for:
URL:https://europebookings.com/festival/reworks-festival/
LOCATION:Thessaloniki\, Thessaloniki\, Greece
CATEGORIES:Electronic,House,Techno
ATTACH;FMTTYPE=image/jpeg:https://europebookings.com/wp-content/uploads/reworks-festival-stage-view-dancing.jpg
END:VEVENT
END:VCALENDAR