BEGIN:VCALENDAR
VERSION:2.0
PRODID:-//Europebookings - ECPv6.15.20//NONSGML v1.0//EN
CALSCALE:GREGORIAN
METHOD:PUBLISH
X-WR-CALNAME:Europebookings
X-ORIGINAL-URL:https://europebookings.com
X-WR-CALDESC:Events for Europebookings
REFRESH-INTERVAL;VALUE=DURATION:PT1H
X-Robots-Tag:noindex
X-PUBLISHED-TTL:PT1H
BEGIN:VTIMEZONE
TZID:Asia/Nicosia
BEGIN:DAYLIGHT
TZOFFSETFROM:+0200
TZOFFSETTO:+0300
TZNAME:EEST
DTSTART:20230326T010000
END:DAYLIGHT
BEGIN:STANDARD
TZOFFSETFROM:+0300
TZOFFSETTO:+0200
TZNAME:EET
DTSTART:20231029T010000
END:STANDARD
BEGIN:DAYLIGHT
TZOFFSETFROM:+0200
TZOFFSETTO:+0300
TZNAME:EEST
DTSTART:20240331T010000
END:DAYLIGHT
BEGIN:STANDARD
TZOFFSETFROM:+0300
TZOFFSETTO:+0200
TZNAME:EET
DTSTART:20241027T010000
END:STANDARD
BEGIN:DAYLIGHT
TZOFFSETFROM:+0200
TZOFFSETTO:+0300
TZNAME:EEST
DTSTART:20250330T010000
END:DAYLIGHT
BEGIN:STANDARD
TZOFFSETFROM:+0300
TZOFFSETTO:+0200
TZNAME:EET
DTSTART:20251026T010000
END:STANDARD
END:VTIMEZONE
BEGIN:VEVENT
DTSTART;VALUE=DATE:20241207
DTEND;VALUE=DATE:20241208
DTSTAMP:20260424T205746
CREATED:20200210T192208Z
LAST-MODIFIED:20241006T162411Z
UID:32670-1733529600-1733615999@europebookings.com
SUMMARY:Electric Sea Festival
DESCRIPTION:Get TicketsAccommodationTravel Info\nElectric Sea Festival 2024 is set to return to the beautiful Hanseatic city of Rostock on December 7. This festival\, known as the “little sister” of the Airbeat One Festival\, promises an exhilarating night at the HanseMesse\, bringing the vibrant summer festival atmosphere indoors. \nThis year’s edition continues the tradition of delivering an outstanding experience with a lineup featuring renowned DJs and performers in the electronic music scene. Attendees can expect a spectacular laser and pyro show\, immersive LED walls\, and powerful CO2 cannons that will transform the venue into a pulsating hub of energy and excitement. The festival’s commitment to high-quality production ensures that every moment is filled with visual and auditory delights. \nElectric Sea Festival is not just a music event; it’s a full sensory experience that makes the cold winter days disappear\, transporting attendees back to the peak of festival season. This indoor festival offers the perfect escape for electronic music lovers\, making it a must-attend event on the Baltic Sea coast. \n\nElectric Sea Festival 2024 Lineup\nAll ArtistsAlfred Heinrich / Bass Jackers / Gestört aber GeiL / Harris & Ford / Kyanu / Neelix / Uwe WorlitzerElectric Sea Festival 2024 Tickets\nRegular & VIP Tickets from €34.99 are on sale:\nTickets\nElectric Sea Festivalvia Official Site \nBookAccommodation\nThe city of Rostock offers a wide range of accommodation options. Book your stay using the map below or visit booking.com \nBook Hotels & Airbnbs near the Venue at the Lowest Price online!\n\nTravel Info\nBY CAR\nFrom Berlin\, take the A19\, B105\, and the Warnow Tunnel (toll)\, exit at the first HanseMesse exit\, and follow the HanseMesse parking guidance system.\nFrom Hamburg\, take the A20 and the western feeder road (B103)\, and follow the HanseMesse parking guidance system. \nParking: There are 1\,332 paid parking spaces available at HanseMesse \nGet DirectionsBY TRAIN\nFrom Rostock Central Station\, take the S-Bahn (towards Warnemünde) to Lütten Klein Station (approx. 5 min). \nBY FERRY\nFrom Scandinavia\, take the route from the Overseas Port via the B105 and Warnow Tunnel (toll)\, exit at the first “HanseMesse” exit\, and follow the HanseMesse parking guidance system. \nBY PLANE\nThe nearest international airport is Hamburg Airport (HAM). From the airport take the subway to Hamburg (Hbf) Main Train Station (24 min journey) and from there get a direct train out to Rostock (Hbf) Main Train Station (1h 55 min journey). From here take the train to Rostock-Luetten Klein Station and then a short taxi ride to the venue. \nBook FlightsAirport TransfersCar RentalsTrain/Bus Tickets\nGallery\nRelated Festivals\nDGTL Amsterdam\n3 Apr – 5 Apr | Amsterdam\, Netherlands\nFree Your Mind Festival\n6 Jun – 7 Jun | Utrecht\, Netherlands\n		\n			\n\n				\n				\n					Search for:
URL:https://europebookings.com/festival/electric-sea-festival/
LOCATION:HanseMesse Rostock\, HanseMesse Rostock\, Zur Hansemesse 1-2\, Rostock\, 18106\, Germany
CATEGORIES:EDM,Electronic,House
ATTACH;FMTTYPE=image/jpeg:https://europebookings.com/wp-content/uploads/electric-sea-festival-laser-show.jpg
END:VEVENT
END:VCALENDAR