BEGIN:VCALENDAR
VERSION:2.0
PRODID:-//Europebookings - ECPv6.15.20//NONSGML v1.0//EN
CALSCALE:GREGORIAN
METHOD:PUBLISH
X-WR-CALNAME:Europebookings
X-ORIGINAL-URL:https://europebookings.com
X-WR-CALDESC:Events for Europebookings
REFRESH-INTERVAL;VALUE=DURATION:PT1H
X-Robots-Tag:noindex
X-PUBLISHED-TTL:PT1H
BEGIN:VTIMEZONE
TZID:Asia/Nicosia
BEGIN:DAYLIGHT
TZOFFSETFROM:+0200
TZOFFSETTO:+0300
TZNAME:EEST
DTSTART:20240331T010000
END:DAYLIGHT
BEGIN:STANDARD
TZOFFSETFROM:+0300
TZOFFSETTO:+0200
TZNAME:EET
DTSTART:20241027T010000
END:STANDARD
BEGIN:DAYLIGHT
TZOFFSETFROM:+0200
TZOFFSETTO:+0300
TZNAME:EEST
DTSTART:20250330T010000
END:DAYLIGHT
BEGIN:STANDARD
TZOFFSETFROM:+0300
TZOFFSETTO:+0200
TZNAME:EET
DTSTART:20251026T010000
END:STANDARD
BEGIN:DAYLIGHT
TZOFFSETFROM:+0200
TZOFFSETTO:+0300
TZNAME:EEST
DTSTART:20260329T010000
END:DAYLIGHT
BEGIN:STANDARD
TZOFFSETFROM:+0300
TZOFFSETTO:+0200
TZNAME:EET
DTSTART:20261025T010000
END:STANDARD
END:VTIMEZONE
BEGIN:VEVENT
DTSTART;VALUE=DATE:20250604
DTEND;VALUE=DATE:20250609
DTSTAMP:20260424T124450
CREATED:20200313T161326Z
LAST-MODIFIED:20250318T154522Z
UID:34512-1748995200-1749427199@europebookings.com
SUMMARY:Distortion Festival
DESCRIPTION:Get TicketsAccommodationTravel Info\nDistortion Festival 2025: Copenhagen’s Ultimate Street Party \nFrom 4th to 8th June 2025\, Copenhagen will once again transform into a pulsating epicenter of music\, art\, and unbridled celebration as it hosts the renowned Distortion Festival. Celebrated for its unique fusion of street life and contemporary dance music\, Distortion has evolved into one of Europe’s most anticipated annual events\, drawing over 100\,000 visitors eager to immerse themselves in the city’s vibrant culture. \nThe festival’s dynamic structure offers a diverse array of experiences:• Street Parties: Kicking off in the lively districts of Nørrebro and Vesterbro\, these daytime events transform city streets into open-air dance floors\, featuring multiple stages and a plethora of genres. Local businesses\, residents\, and artists collaborate to create an atmosphere that is both communal and electrifying.• Distortion Club: As night falls\, the festivities transition into Copenhagen’s premier nightclubs and unique venues\, showcasing cutting-edge performances from both emerging talents and established artists in the electronic and club music scenes.• Distortion Ø: The festival culminates in a two-day grand finale on Refshaleøen\, an industrial island repurposed into a massive rave arena. With multiple stages and immersive art installations\, Distortion Ø stands as Scandinavia’s largest electronic music event\, offering attendees an unparalleled sensory experience. \nWhile the full lineup for 2025 is yet to be announced\, past editions have featured an eclectic mix of international and local artists\, ensuring a rich and varied musical journey for all attendees. \nFor those planning to join this extraordinary celebration\, early ticket purchase is highly recommended due to the festival’s growing popularity. Tickets and additional information are available on the official Distortion website. \nWhether you’re a seasoned festival-goer or a curious newcomer\, Distortion Festival 2025 promises an unforgettable fusion of music\, culture\, and community spirit in the heart of Copenhagen.Distortion Festival 2025: Copenhagen’s Ultimate Street Party. \n\nDistortion Festival 2025 Lineup\nAll ArtistsAdam Ten B2B Mita Gami / Aisha / Alignment / Andrés Solar / Aja Gulris / Ata / Axel Boman / Bad Boombox / Bashkka / Caleesi & Sarah Kreis / Carlo & Selma / Cerj / Christian Sanchez / Clara Cuvé / Denis Horvat / Franziska Berns / Freya Rose / Funk Tribu / Gavnløg / Gina Sabatini / Goasis / Gæo / Innellea / Isolée Live / Jorkes / Kardinal Bertram / Ki/Ki / Kobosil / Kotoe / Lucy Headburn / Lund & Rønde / Mari To The Future / Marlon Hoffstadt / Maruwa / Massimiliano Pagliara / Matriark / Milo Makua / Monkey Safari / Nandu / Neri J / Pai-Lin / Peggy Gou / Phloem / Sally C / Salome / Scano / Traskel / Uro Gai / WendyDistortion Festival 2025 Tickets\nWeekend & Festival Tickets from DKK 780.00 (€104.45) are on sale:\nTicketsDistortion Festival\nvia TicketmasterBookAccommodation\nCamping during the festival requires a Camping Pass. All you need is basic camping gear\, like a tent\, a camping pad and a head torch (so useful in the night). \nAlternatively\, you can book nearby hotels and apartments using the map below or visit booking.com \nBook Hotels & Airbnbs near the Venue at the Lowest Price online!\n\nTravel Info\nBY CAR\nGet DirectionsBY BUS\nFrom “Christianshavn” Metro Station take the bus line 9A \nBY BIKE\n9 minutes from Knippelbro\n7 minutes from Inderhavnsbroen \nBY PLANE\nCopenhagen Airport is south of the city centre. The best way to make the journey is by Copenhagen Metro. Line M2 departs every 10 minutes\, taking 12 minutes to arrive at Nørreport station. \nBook FlightsAirport TransfersCar RentalsTrain/Bus Tickets\nGallery\nRelated Festivals\nDGTL Amsterdam\n3 Apr – 5 Apr | Amsterdam\, Netherlands\nFree Your Mind Festival\n6 Jun – 7 Jun | Utrecht\, Netherlands\n		\n			\n\n				\n				\n					Search for:
URL:https://europebookings.com/festival/distortion-festival/
LOCATION:Nørrebro\, Nørrebro\, Copenhagen\, Denmark
CATEGORIES:Electronic,House,Techno
ATTACH;FMTTYPE=image/jpeg:https://europebookings.com/wp-content/uploads/distortion-festival-stage-lights-show.jpg
END:VEVENT
BEGIN:VEVENT
DTSTART;VALUE=DATE:20250605
DTEND;VALUE=DATE:20250611
DTSTAMP:20260424T124450
CREATED:20211210T123031Z
LAST-MODIFIED:20250212T205958Z
UID:51566-1749081600-1749599999@europebookings.com
SUMMARY:UNUM Festival
DESCRIPTION:Get TicketsAccommodationTravel InfoUnum Festival 2025: An Intimate Escape to the Albanian Riviera \nUnum Festival returns to the stunning coastline of Rana e Hedhun in Albania\, promising a five-day celebration of music\, nature\, and pure bliss. Nestled between pristine beaches and lush pine forests\, this boutique festival offers an intimate experience that’s as much about the breathtaking scenery as it is about the music. \nKnown for its underground and minimalist vibe\, Unum Festival attracts electronic music lovers from around the globe. Expect a carefully curated line-up featuring some of the best in house\, techno\, and deep electronic beats. Past editions have seen sets from artists like Ricardo Villalobos\, Seth Troxler\, and Margaret Dygas\, and 2025 is set to deliver another impressive roster of both established icons and emerging talents. With stages placed directly on the beach and within the pine woods\, every performance is elevated by the festival’s natural surroundings. \nBeyond the music\, Unum embraces a laid-back vibe where festival-goers can swim in the crystal-clear Adriatic Sea by day and dance under the stars by night. The festival offers a variety of food vendors\, serving local Albanian dishes alongside international flavours\, and chill-out areas perfect for catching a breath between sets. \nWith its intimate atmosphere\, beautiful setting\, and a crowd that’s as diverse as it is passionate\, Unum Festival 2025 promises an unforgettable escape into the heart of the Albanian Riviera\, blending music\, nature\, and culture in perfect harmony. \n\nUNUM Festival 2025 Lineup\nAll ArtistsAltin Boshnjaku / Always Late / Anitë / Antares / Arapu / Auric Balzar / Bila / Boris Werner / Cameron Jack / Cap / Carlita / Cezar / Chklte / Cristi Cons / Damian Lazarus / Dan Ghenacia / Dixon / Fell Reis / Franco Cinelli / Francesco Maddelena / Gescu / Hardt Antoine / Hartley / Hot Oasis / Jnjs / John Dimas / Jonny N Travis / Jonn / Jordan Diston / Josh Baker / Lekë / Liburn / Lvpica / Maher Daniel / Marlie / Marlon Baleci / Nandu / Pach / Praslea / Priku / Quest / Raresh Vs Ricardo Villalobos / Rhadoo / Rich Nxt / Rupert Ellis / Sahar / Scacco / Scott Streak / Seko / Seth Troxler / Sonja Moonear / State / Timanti / Tobi Neumann / Will DavisonUNUM Festival 2025 Tickets\nFestival Tickets from €115.00 are on sale:\nTicketsUNUM Festival\nvia Official SiteBookAccommodation\nThe city of Shengjin offers a wide range of accommodation options. Book your stay using the interactive map below or visit booking.com \nBook Hotels & Airbnbs near the Venue at the Lowest Price online!\n\nTravel Info\nBY CAR\nThe festival is located in the northwest corner of Albania. By land\, the closest borders to the location are Montenegro and Kosovo. It is easy to find the festival location using your onboard navigation system:\nDriving from the North-East\,  take route E851.\nDriving from the North\, take route E65\, E71 or M18.\nDriving from the South\, take route SH3. \nGet DirectionsBY BUS\nAlbania is bordered by Montenegro and Kosovo on the North\, by Macedonia on the East\, by Greece on the South\, and Italy on the West. Bus Partners contact information coming soon. \nBY FERRY\nAlbania is bordered by Montenegro and Kosovo on the North\, by Macedonia on the East\, by Greece on the South\, and Italy on the West. If you are driving from Western European countries\, the fastest route to the festival is through the ferryboat from the city of Bari in Italy that makes daily travels to the port of Durrës (1 hour and 11 min drive from Shëngjin). \nBY PLANE\nTirana International Airport (TIA) is merely an hour away from the town of Shengjin. Flights from all over Europe arrive at TIA\, with Italy\, Austria\, Istanbul\, Greece\, UK\, and Belgium making daily landings.\nDistance from Podgorica Airport (TGD): 108 km\, 2 hour drive\nDistance from Pristina Airport (PRN): 217 km\, 2 hour 45 min drive \nBook FlightsAirport TransfersCar RentalsTrain/Bus Tickets\nGallery\nRelated Festivals\nDGTL Amsterdam\n3 Apr – 5 Apr | Amsterdam\, Netherlands\nFree Your Mind Festival\n6 Jun – 7 Jun | Utrecht\, Netherlands\n		\n			\n\n				\n				\n					Search for:
URL:https://europebookings.com/festival/unum-festival/
LOCATION:Rana e Hedhun\, Rana e Hedhun\, Shengjin\, Albania
CATEGORIES:Electronic,House,Techno
ATTACH;FMTTYPE=image/jpeg:https://europebookings.com/wp-content/uploads/unum-festival-dj-box-view.jpg
END:VEVENT
BEGIN:VEVENT
DTSTART;VALUE=DATE:20250606
DTEND;VALUE=DATE:20250609
DTSTAMP:20260424T124450
CREATED:20200309T141422Z
LAST-MODIFIED:20250213T133249Z
UID:34287-1749168000-1749427199@europebookings.com
SUMMARY:Earth Garden Festival
DESCRIPTION:Get TicketsAccommodationTravel Info\nEarth Garden Festival 2025: Malta’s Eco-Friendly Music Celebration \nExperience the magic of Earth Garden Festival 2025\, happening from 6th to 8th June at the scenic Ta’ Qali National Park in Malta. As the island’s premier alternative festival\, Earth Garden brings together an eclectic mix of world music\, electronic beats\, and reggae across multiple stages. Known for its vibrant community and eco-conscious ethos\, the festival attracts thousands of music lovers looking for a unique\, feel-good atmosphere in a stunning natural setting. \nThe 2025 edition will once again offer a rich lineup of local and international artists\, combining genres like psychedelic trance\, house\, and folk to create a diverse musical journey. Previous headliners have included Hilight Tribe and SKÁLD\, so expect this year’s roster to bring even more world-class performances. But Earth Garden is more than just music; it’s a holistic experience featuring wellness workshops\, healing fields\, and eco-friendly initiatives aimed at promoting sustainability and community spirit. \nWith options for camping\, glamping\, and pet-friendly areas\, Earth Garden offers something for everyone\, from families to seasoned festival-goers. Don’t miss this immersive blend of music\, art\, and nature\, where festival vibes and environmental awareness come together in perfect harmony! \n\nEarth Garden Festival 2025 Lineup\nAll ArtistsAcidulant / Alien Montesin / Alpha Steppa / Amped Out / Banjo Rancho / Barefoot Lions / Basement Jaxx (DJ Set) / Bloom / Boom Shankar / Brodu / Brian Pedersen / Cain / Calle Mambo / CeepHax / Chakana Collective / Chris Goa / Cushion / Danjeli / Dashka / Davvy_P / DJ Lumes / DJ Pimp / Dolls For Idols / Double Escola De Samba Roma-Rio / Dru Lavigne / Fun Lovin’ Criminals / Fresh Prince / Gorobot / Hilight Tribe / Henge / Hunee / Jaguar Skills / Jake Opaque / Jay Rize / Jean Aquilina / Justyn Robez / Junior Dread / Kerg / KTNTRL / Lenny / Louie G / Luca Maaks / Mamolo Inc / Manthrax / Mari Mars / Marsela / Mato / Memphis Mac / Milenaria Feat. Maracuja Jazz / Morgan Mae / Mr. Oasis / Mundo Muzika / Narciss / Neil Landstrumm / New Even / Nicky Bomba & The Reggae-Ska Experience / Ogazón / Presence-BMSS Rec. / Prince Fatty / Pudiña / Reload / Rod Minus / Rudimental / Salimata / Sandwell District / Sean Rickett / Shay Who / Skald / Soul Kontakt / Swing Nuages / Taxi Vaders / The Marmalades / The Quasars / The Shine / The Trancemancer / Throes / Total Eclipse / Tribali / Vinyl Paradise / Volph / Volume A / Wildte / Yan Valer / Zion Not ZeeyonEarth Garden Festival 2025 Tickets\nFestival Pass Tickets from €55.00 are on sale:\nTicketsEarth Garden Festival\nvia Official SiteBookAccommodation\nCamping during the festival requires a Festival Pass + Camping Ticket purchased here. All you need is basic camping gear\, like a tent\, a camping pad and a head torch (so useful in the night). If you don’t want to bring your own tent\, the festival offers Premium Camping options here \nAlternatively\, you can book nearby hotels and apartments using the map below or visit booking.com \nBook Hotels & Airbnbs near the Venue at the Lowest Price online!\n\nTravel Info\nBY CAR\nGet DirectionsBY BUS\nThe Ta’ Qali National Park is a 40 min bus ride or 12 min taxi journey away from Malta’s international airport. Take either Bus line X7 or X4 to Marsa\, before taking bus number X3 onto Ta’ Qali Park. \nBY TAXI\ninstall the Bolt app for a quick taxi service at reasonable prices. \nBY PLANE\nMalta International Airport (MLA) is well connected with all European major cities. Follow the instructions above to get to the festival. \nBook FlightsAirport TransfersCar RentalsTrain/Bus Tickets\nGallery\nRelated Festivals\nLytham Festival\n2 Jul – 6 Jul | Lytham Green\, UK\nLeeds Festival\n21 Aug – 24 Aug | Leeds\, UK\n		\n			\n\n				\n				\n					Search for:
URL:https://europebookings.com/festival/earth-garden-festival/
LOCATION:Ta’ Qali National Park\, Ta' Qali National Park\, Attard\, Malta
CATEGORIES:Electronic,Multi-Genre
ATTACH;FMTTYPE=image/jpeg:https://europebookings.com/wp-content/uploads/earth-garden-festival-roots-stage.jpg
END:VEVENT
BEGIN:VEVENT
DTSTART;VALUE=DATE:20250606
DTEND;VALUE=DATE:20250609
DTSTAMP:20260424T124451
CREATED:20230703T190846Z
LAST-MODIFIED:20250207T154350Z
UID:71188-1749168000-1749427199@europebookings.com
SUMMARY:World Club Dome
DESCRIPTION:Get TicketsAccommodationTravel Info\nWorld Club Dome 2025: The Biggest Club in the World Returns! \nGet ready for World Club Dome 2025 from 6th to 8th June in Frankfurt\, Germany. Known as the “biggest club in the world\,” this legendary event transforms the Deutsche Bank Park into a 700\,000 square metre party paradise with more than 25 stages and 180\,000 fans from over 80 nations. This year’s edition promises a stellar lineup across genres\, from techno\, hardstyle\, and EDM to hip-hop and trance\, making it one of Europe’s top electronic music events. \nIn 2025\, the festival will feature headliners like David Guetta\, Steve Aoki\, and Robin Schulz\, with performances from rising stars and returning legends. The breathtaking stage designs\, mind-blowing light shows\, and 1.8 million watts of sound ensure an unforgettable experience for every festival-goer. Whether you’re vibing to the beats at the Main Stage or cooling off at the famous WCD Pool Sessions\, World Club Dome offers something for every kind of electronic music fan. \nBeyond the music\, festival-goers can enjoy an immersive\, futuristic atmosphere with art installations\, massive visuals\, and a vibrant global community. Don’t miss your chance to be part of this electrifying event! \n\nWorld Club Dome 2025 Lineup\nAll ArtistsAngerfist / Anna Tur B2B Tini Gessler / Boris Brejcha / Brennan Heart / D-Block & S-TE-Fan / Dimitri Vegas & Like Mike / Don Diablo / Dual Damage / Felix Kröcher / Fisher / Haaland 936 / Holy Priest / Hugel / Jamie Jones / Jaxomy / Kurd Maverick / Le Shuuk / Lil Texas B2B Dr. Donk / Lovra / Miss K8 / Moritz Hofbauer — Live / Negitive / Nervo / Paul Elstak / Rita Ora / Sam Paganini / Stella Bossi / STVW — Live / Unicorn on K / and many moreWorld Club Dome 2025 Tickets\n1-Day & 3-Day Club Tickets from €99.00 are on sale:\nTickets\nWorld Club Dome\nvia Official Site \nBookAccommodation\nCamping is available and 5-Day Camping Tickets at €89.00 can be purchased here. All you need is basic camping gear\, like a tent\, a camping pad and a head torch (so useful in the night). \nAlternatively you can book nearby hotels & apartments using the map below or visit booking.com \nBook Hotels & Airbnbs near the Venue at the Lowest Price online!\n\nTravel Info\nBY CAR\nGet DirectionsBY TRAIN\nS-Bahn lines S8 and S9 depart from the airport every 10 minutes. The journey to ‘Frankfurt am Main – Stadion’ is only 4 minutes. \nBY BUS\nThe Bus line 61 departs every 25 minutes and takes around the same time to reach the stadium. \nBY COACH\nTravel by Coach Buses will be available from Dusseldorf\, Freiburg\, Hamburg\, Karlsruhe\, Koln\, Mannheim\, Munich and Stuttgart. More to be announced soon… \nBY PLANE\nFrankfurt International Airport (FRA) is the closest to the festival. From the airport take the train to Frankfurt Am Main – Stadion (6 min journey). The venue is a 10 min walk away. \nBook FlightsAirport TransfersCar RentalsTrain/Bus Tickets\nGallery\nRelated Festivals\nAirbeat One Festival\n9 Jul – 13 Jul | Neustadt-Glewe\, Germany\nNature One Festival\n31 Jul – 3 Aug | Kastellaun\, Germany\n		\n			\n\n				\n				\n					Search for:
URL:https://europebookings.com/festival/world-club-dome/
LOCATION:Deutsche Bank Park\, Deutsche Bank Park\, Mörfelder Landstr. 362\, Frankfurt\, 60528\, Germany
CATEGORIES:EDM,Electronic,Hardstyle,Techno,Trance
ATTACH;FMTTYPE=image/jpeg:https://europebookings.com/wp-content/uploads/world-club-dome-stage-fireworks.jpg
END:VEVENT
BEGIN:VEVENT
DTSTART;VALUE=DATE:20250606
DTEND;VALUE=DATE:20250609
DTSTAMP:20260424T124451
CREATED:20230915T160033Z
LAST-MODIFIED:20241230T190551Z
UID:73726-1749168000-1749427199@europebookings.com
SUMMARY:We Love Green
DESCRIPTION:Get TicketsAccommodationTravel Info\nWe Love Green Festival 2025: An Eco-Conscious Celebration of Music in Paris \nMark your calendars for We Love Green Festival 2025\, taking place from 6th to 8th June in the lush surroundings of Bois de Vincennes in Paris. As one of France’s most iconic eco-conscious festivals\, We Love Green stands out for its fusion of music\, art\, and environmental activism. Known for championing sustainability\, the festival blends diverse music with innovative green initiatives\, offering a unique experience for those passionate about both sound and nature. \nThis year’s edition promises an eclectic lineup spanning pop\, electronic\, indie\, and urban music genres. Past editions have featured world-renowned artists such as Gorillaz\, Christine and the Queens\, and Rosalía\, and 2025 is set to follow suit with a carefully curated roster of both international stars and rising talent. With its five stages\, We Love Green not only provides unforgettable musical experiences but also hosts inspiring talks\, art installations\, and a comedy stage to engage festival-goers. \nBut it’s more than just music; We Love Green creates a vibrant space where innovative ideas\, sustainability\, and creativity thrive. From organic food stalls to eco-friendly initiatives\, this festival is the perfect weekend escape for music lovers and eco-enthusiasts alike! \n\nWe Love Green 2025 Lineup\nAll Artists & Program\nFri 6 Jun 2025\nKavinsky / Laylow / Paul Kalkbrenner / SDM / Sublime Live / Tiakola / Yseult \nSat 7 Jun 2025\nAir / Amelie Lens / Charli XCX / Ezra Collective / Gesaffelstein / Horsegiirl / JolaGreen23 / Magdalena Bay / Marcel Dettmann / Maureen / Parcels / Snow Strippers / Spill Tab / Theodora \nSun 8 Jun 2025\nAvalon Emerson / Beach House / Bicep / Clara Luciani / DJ Koze / Fcukers / FKA Twigs / Jimi Jules / Judeline / LCD Soundsystem / Lucky Love / Polo & Pan / Zamdane \n+ more artists TBAWe Love Green 2025 Tickets\n1-Day\, 2-Day & 3-Day Tickets from €64.00 are on sale:\nTicketsWe Love Green\nvia Official SiteBookAccommodation\nCamping area is 10 min away and there will be free shuttles to and from the festival area. All you need is basic camping gear\, like a tent\, a camping pad and a head torch (so useful in the night). \nAlternatively\, you can book nearby hotels & apartments using the map below or visit booking.com \nBook Hotels & Airbnbs near the Venue at the Lowest Price online!\n\nTravel Info\nBY CAR\nGet DirectionsBY TRAIN\nParis is easily accessible via rail from the rest of the country and neighbouring European cities. \nBY PLANE\nIf you are flying into Paris\, you can reach the city centre from the airport either by taking an RER train\, or by bus. \nBook FlightsAirport TransfersCar RentalsTrain/Bus Tickets\nGallery\nRelated Festivals\nMarvellous Island\n7 Jun – 8 Jun | Paris\, France\n Les Plages Électroniques \n8 Aug – 10 Aug | Cannes\, France\n		\n			\n\n				\n				\n					Search for:
URL:https://europebookings.com/festival/we-love-green/
LOCATION:Bois de Vincennes\, Bois de Vincennes\, Paris\, 75012\, France
CATEGORIES:Alternative,Electronic,Multi-Genre,Rock
ATTACH;FMTTYPE=image/jpeg:https://europebookings.com/wp-content/uploads/we-love-green-festival-stage-lights.jpg
END:VEVENT
END:VCALENDAR