BEGIN:VCALENDAR
VERSION:2.0
PRODID:-//Europebookings - ECPv6.15.20//NONSGML v1.0//EN
CALSCALE:GREGORIAN
METHOD:PUBLISH
X-WR-CALNAME:Europebookings
X-ORIGINAL-URL:https://europebookings.com
X-WR-CALDESC:Events for Europebookings
REFRESH-INTERVAL;VALUE=DURATION:PT1H
X-Robots-Tag:noindex
X-PUBLISHED-TTL:PT1H
BEGIN:VTIMEZONE
TZID:Asia/Nicosia
BEGIN:DAYLIGHT
TZOFFSETFROM:+0200
TZOFFSETTO:+0300
TZNAME:EEST
DTSTART:20240331T010000
END:DAYLIGHT
BEGIN:STANDARD
TZOFFSETFROM:+0300
TZOFFSETTO:+0200
TZNAME:EET
DTSTART:20241027T010000
END:STANDARD
BEGIN:DAYLIGHT
TZOFFSETFROM:+0200
TZOFFSETTO:+0300
TZNAME:EEST
DTSTART:20250330T010000
END:DAYLIGHT
BEGIN:STANDARD
TZOFFSETFROM:+0300
TZOFFSETTO:+0200
TZNAME:EET
DTSTART:20251026T010000
END:STANDARD
BEGIN:DAYLIGHT
TZOFFSETFROM:+0200
TZOFFSETTO:+0300
TZNAME:EEST
DTSTART:20260329T010000
END:DAYLIGHT
BEGIN:STANDARD
TZOFFSETFROM:+0300
TZOFFSETTO:+0200
TZNAME:EET
DTSTART:20261025T010000
END:STANDARD
END:VTIMEZONE
BEGIN:VEVENT
DTSTART;VALUE=DATE:20250613
DTEND;VALUE=DATE:20250615
DTSTAMP:20260424T135540
CREATED:20250219T164926Z
LAST-MODIFIED:20250227T163006Z
UID:83264-1749772800-1749945599@europebookings.com
SUMMARY:Afterlife Festival
DESCRIPTION:Get TicketsAccommodationTravel Info\nPrepare to embark on an unparalleled auditory and visual journey at the Afterlife Festival 2025\, set to take place on June 13 and 14 at the renowned Circuit de Barcelona-Catalunya. This groundbreaking event marks a new chapter in Afterlife’s evolution\, seamlessly blending its rich heritage with forward-thinking innovation to create an immersive festival experience like no other. \nFounded by the visionary Italian duo Tale Of Us\, Afterlife has transcended its origins as an event series and record label to become a global movement\, celebrated for its deep\, emotive soundscapes and mesmerizing live performances. The 2025 festival in Barcelona promises to elevate this legacy\, offering attendees a meticulously curated lineup that embodies the essence of the Afterlife ethos. \nEach day of the festival will be uniquely curated by the individual members of Tale Of Us\, with Anyma (Matteo Milleri) overseeing one day and MRAK (Carmine Conte) the other. This dual curation ensures a diverse yet cohesive exploration of sound\, guiding festival-goers through a spectrum of electronic music that ranges from hauntingly melodic techno to pulsating\, high-energy beats. \nThe choice of Circuit de Barcelona-Catalunya as the festival venue adds a distinctive dimension to the event. Known primarily as a world-class motorsport track\, this iconic location will be transformed into a haven for music enthusiasts\, featuring state-of-the-art sound systems\, immersive light installations\, and avant-garde stage designs that reflect Afterlife’s commitment to pushing creative boundaries. \nJoin in Barcelona for a transcendent festival experience where music\, art\, and technology converge\, inviting you to lose yourself in the profound world of Afterlife. \n\nAfterlife Festival 2025 Lineup\nAll Artists & Program\nFri 13 Jun 2025\nMRAK / more TBA \nSat 14 Jun 2025\nAnyma / more TBAAfterlife Festival 2025 Tickets\nFriday\, Saturday & Weekend Tickets from €69.00 are on sale:\nTicketsAfterlife Festival\nFriday & Weekend\nvia Official SiteBookTicketsAfterlife Festival\nSaturday & Weekend\nvia Official SiteBookAccommodation\nThe city of Barcelona offers a wide range of accommodation options. Book your stay using the map below or visit booking.com \nBook Hotels & Airbnbs at the lowest Price online!\n\nTravel Info\nBY CAR\nGet DirectionsBY BUS\nBuses depart from Estació del Nord bus station in Barcelona city centre to the circuit. \nBY TRAIN\nTake the R2 Nord (R2N) line from Barcelona Sants or Passeig de Gràcia stations to Montmeló station. \nBY PLANE\nBarcelona-El Prat Airport (BCN) is the nearest airport to the venue\, and you can easily reach the center of Barcelona using public transport. \nBook FlightsAirport TransfersCar RentalsTrain/Bus Tickets\nGallery\nRelated Festivals\nKappa Futur Festival\n4 Jul – 6 Jul | Turin\, Italy\nUltra Europe Festival\n11 Jul – 13 Jul | Split\, Croatia\n		\n			\n\n				\n				\n					Search for:
URL:https://europebookings.com/festival/afterlife-festival/
LOCATION:Circuit de Barcelona-Catalunya\, Circuit de Barcelona-Catalunya\, Carretera de Granollers a Parets\, Carrer Mas Moreneta\, s/n\, PKM 2.5\, Barcelona\, 08160\, Spain
CATEGORIES:Electronic,Techno
ATTACH;FMTTYPE=image/jpeg:https://europebookings.com/wp-content/uploads/afterlife-festival-2025.jpg
END:VEVENT
BEGIN:VEVENT
DTSTART;VALUE=DATE:20250613
DTEND;VALUE=DATE:20250615
DTSTAMP:20260424T135540
CREATED:20190417T172127Z
LAST-MODIFIED:20250211T155605Z
UID:19279-1749772800-1749945599@europebookings.com
SUMMARY:Marsatac Festival
DESCRIPTION:Get TicketsAccommodationTravel Info\nMarsatac Festival 2025: The Heartbeat of Marseille’s Music Scene \nGet ready for Marsatac 2025\, where the pulsating beats of electronic\, hip-hop\, and rock music converge in the vibrant city of Marseille. Set against the stunning backdrop of Parc Borély\, this iconic festival\, scheduled for June\, promises an unforgettable experience for music lovers. From its roots in Marseille’s underground hip-hop scene\, Marsatac has evolved into a globally recognized event\, drawing top-tier DJs and cutting-edge artists from around the world. \nMarsatac offers more than just music; it’s an immersive experience that captures the essence of Marseille’s cultural diversity and creative spirit. As you dance under the Mediterranean stars\, surrounded by the energy of thousands of fans\, you’ll understand why Marsatac has become a must-attend event on the European festival circuit. Whether you’re a die-hard electronic music fan or just looking for an extraordinary weekend\, Marsatac 2025 is where you want to be. \n\nMarsatac Festival 2025 Lineup\nAll Artists & Program\nFri 14 Jun 2025\nBrutalismus 3000 / Cera Khin / Kalash / Kepler Invite Laze / Laylow / Maureen / ØTTA / TH / Vybz Sound System \nSat 15 Jun 2025\nAdés The Planet / Eloi / Fonky Family / Jean-Paul Groove / Jeune Mort / La Frappe All Stars / Marc Rebillet / Saint Levant / Wallace CleaverMarsatac Festival 2025 Tickets\n1-Day & 2-Day Pass Tickets from €37.86 are on sale:\nTicketsMarsatac Festival\nvia Official SiteBookAccommodation\nThe city of Marseille offers a wide range of accommodation options. Book your stay for Marsatac Festival using the map below or visit booking.com \nBook Hotels & Airbnbs near the Venue at the Lowest Price online!\n\nTravel Info\nBY CAR\nGet DirectionsBY TRAIN\nMarseille is well connected by rail to much of France and to neighbouring countries. From the city’s biggest station\, Gare de Marseille St Charles\, you can reach the venue in less than 20 minutes by metro. The closest stop to Parc Chanot is Rond Pont du Prado. \nBY PLANE\nFrom Marseille Airport take a bus to St Charles station\, from there you can reach the venue by metro. \nBook FlightsAirport TransfersCar RentalsTrain/Bus Tickets\nGallery\nRelated Festivals\nHeroes Festival\n20 Jun – 21 Jun | Geiselwind\, Germany\nMarsatac Festival\n13 Jun – 15 Jun | Marseille\, France\n		\n			\n\n				\n				\n					Search for:
URL:https://europebookings.com/festival/marsatac/
LOCATION:Parc Borély\, Parc Borély\, Av. du Parc Borély\, Marseille\, 13008\, France
CATEGORIES:Electronic,Hip Hop,Urban
ATTACH;FMTTYPE=image/jpeg:https://europebookings.com/wp-content/uploads/marsatac-festival-main-stage-view.jpg
END:VEVENT
END:VCALENDAR