BEGIN:VCALENDAR
VERSION:2.0
PRODID:-//Europebookings - ECPv6.15.20//NONSGML v1.0//EN
CALSCALE:GREGORIAN
METHOD:PUBLISH
X-WR-CALNAME:Europebookings
X-ORIGINAL-URL:https://europebookings.com
X-WR-CALDESC:Events for Europebookings
REFRESH-INTERVAL;VALUE=DURATION:PT1H
X-Robots-Tag:noindex
X-PUBLISHED-TTL:PT1H
BEGIN:VTIMEZONE
TZID:Asia/Nicosia
BEGIN:DAYLIGHT
TZOFFSETFROM:+0200
TZOFFSETTO:+0300
TZNAME:EEST
DTSTART:20240331T010000
END:DAYLIGHT
BEGIN:STANDARD
TZOFFSETFROM:+0300
TZOFFSETTO:+0200
TZNAME:EET
DTSTART:20241027T010000
END:STANDARD
BEGIN:DAYLIGHT
TZOFFSETFROM:+0200
TZOFFSETTO:+0300
TZNAME:EEST
DTSTART:20250330T010000
END:DAYLIGHT
BEGIN:STANDARD
TZOFFSETFROM:+0300
TZOFFSETTO:+0200
TZNAME:EET
DTSTART:20251026T010000
END:STANDARD
BEGIN:DAYLIGHT
TZOFFSETFROM:+0200
TZOFFSETTO:+0300
TZNAME:EEST
DTSTART:20260329T010000
END:DAYLIGHT
BEGIN:STANDARD
TZOFFSETFROM:+0300
TZOFFSETTO:+0200
TZNAME:EET
DTSTART:20261025T010000
END:STANDARD
END:VTIMEZONE
BEGIN:VEVENT
DTSTART;VALUE=DATE:20250619
DTEND;VALUE=DATE:20250622
DTSTAMP:20260424T113524
CREATED:20200107T233946Z
LAST-MODIFIED:20250207T162045Z
UID:31168-1750291200-1750550399@europebookings.com
SUMMARY:Metronome Festival Prague
DESCRIPTION:Get TicketsAccommodationTravel Info\nMetronome Festival Prague 2025: A Must-Attend Urban Music Experience \nGet ready for Metronome Festival Prague 2025\, happening from June 19-21 in the heart of Prague at Výstaviště Holešovice. Known for its blend of international stars and local Czech talent\, Metronome offers an eclectic lineup spanning rock\, pop\, and electronic genres\, making it one of the city’s most exciting cultural events. \nPast editions have seen unforgettable performances from acts like Iggy Pop\, Foals\, and Massive Attack\, and 2025 promises even more iconic artists and up-and-coming talents. With multiple stages\, interactive art installations\, and a dynamic programme of both music and arts\, there’s something for every festival-goer at Metronome. \nWhat sets Metronome apart is its urban setting\, allowing festival-goers to enjoy world-class music while being minutes away from Prague’s historical and cultural landmarks. Whether you’re a Prague local or visiting from afar\, this festival offers an unmatched opportunity to combine music with exploring one of Europe’s most beautiful cities. Secure your tickets now for an unforgettable weekend! \n\nMetronome Festival Prague 2025 Lineup\nAll ArtistsAlanis Morissette / Rag’n’Bone Man / Die Antwoord / Aneta Langerová / Barbora Poláková / Klára Vytisková / Rufus Miller / Sara James / Peach Tinted / Maella / and many moreMetronome Festival Prague 2025 Tickets\n1-Day & 3-Day Pass Tickets from €69.00 are on sale:\nTicketsMetronome Festival\nvia Official SiteBookAccommodation\nThe city of Prague offers a wide range of accommodation options. Book your stay for Metronome Festival using the map below or visit booking.com \nBook Hotels & Airbnbs near the Venue at the Lowest Price online!\n\nTravel Info\nBY CAR\nGet DirectionsBY TRAIN\nPrague is well connected via rail to the rest of the Czech Republic and neighbouring Europe. You can reach the venue via tram lines 12 or 17. \nBY PLANE\nThe nearest airport is Václav Havel Airport Prague (PRG). Upon arrival take the Airport Express shuttle bus service to the city centre (35 min journey). Tram lines 12 or 17 will take you near the Venue. \nBook FlightsAirport TransfersCar RentalsTrain/Bus Tickets\nGallery\nRelated Festivals\nDownload Festival\n12 Jun – 14 Jun | Derby\, UK\nLytham Festival\n1 Jul – 5 Jul | Lytham Green\, UK\n		\n			\n\n				\n				\n					Search for:
URL:https://europebookings.com/festival/metronome-festival-prague/
LOCATION:Výstaviště Praha Holešovice\, Výstaviště 67\, Prague\, 170 90\, Czech Republic
CATEGORIES:Electronic,Multi-Genre,Rock
ATTACH;FMTTYPE=image/jpeg:https://europebookings.com/wp-content/uploads/metronome-festival-prague-fans-dancing.jpg
END:VEVENT
BEGIN:VEVENT
DTSTART;VALUE=DATE:20250620
DTEND;VALUE=DATE:20250622
DTSTAMP:20260424T113524
CREATED:20190913T171821Z
LAST-MODIFIED:20250207T163154Z
UID:23398-1750377600-1750550399@europebookings.com
SUMMARY:A Summer Story
DESCRIPTION:Get TicketsAccommodationTravel Info\nA Summer Story 2025: Where EDM Dreams Come to Life in Spain \nPrepare for two days of pure euphoria at A Summer Story 2025\, taking place on 20th and 21st June at the iconic Ciudad del Rock in Madrid. This electrifying festival is a must for electronic music lovers\, offering an unforgettable experience under the sun-soaked Spanish skies. Whether you’re a fan of techno\, house\, EDM\, or hardstyle\, A Summer Story boasts a lineup that promises to satisfy every electronic craving\, all with breathtaking stage designs and world-class production. \nFrom sunset until dawn\, dance to the beats of the world’s top DJs and experience why A Summer Story has cemented its place as one of Europe’s premier EDM festivals. Previous years have seen legendary performances by the likes of Armin van Buuren\, David Guetta\, and Carl Cox. With multiple stages and genres to explore\, it’s the ultimate weekend to kick off your summer in style. Expect a vibrant atmosphere filled with music\, light shows\, and an international crowd ready to party. \nLocated just outside Madrid\, the festival also offers great amenities including cashless systems for easy transactions\, food trucks\, and plenty of rest zones. Don’t miss out on the festival where summer truly begins! \n\nA Summer Story 2025 Lineup\nAll ArtistsAfrojack / Alexxandra / Alignment / Brian Cross / Daria Kolosova / Fatima Hajji / Hardwell / Hector Oaks / Jan / Jouyse / Nicky Romero / Quintino / Reinier Zonneveld / Seth Hills / and many moreA Summer Story 2025 Tickets\n2-Day Pass Tickets from €64.00 are on sale:\nTickets\nA Summer Storyvia Official Site \nBookAccommodation\nThe city of Madrid offers a wide range of accommodation options. Book your stay for A Summer Story Festival using the map below or visit booking.com \nBook Hotels & Airbnbs near the Venue at the Lowest Price online!\n\nTravel Info\nBY CAR\nGet DirectionsBY METRO\nThe best way to to get to Arganda del Rey from Madrid city centre is by metro; Arganda del Rey station is on Metro Line 9. \nBY PLANE\nThe nearest airport is Madrid Airport (MAD). Upon arrival take Train from Madrid Airport to Atocha (30 min journey) and then take the Bus from Ronda Atocha-Estación De to Ctra.N3-Estación (1 hour journey). The venue is 2km away. \nBook FlightsAirport TransfersCar RentalsTrain/Bus Tickets\nGallery\nRelated Festivals\nParookaville Festival\n17 Jul – 19 Jul | Weeze\, Germany\nUntold Festival\nDates TBA | Cluj-Napoca\, Romania\n		\n			\n\n				\n				\n					Search for:
URL:https://europebookings.com/festival/a-summer-story/
LOCATION:Ciudad del Rock\, Ciudad del Rock\, Madrid\, Spain
CATEGORIES:EDM,Electronic,House,Techno
ATTACH;FMTTYPE=image/jpeg:https://europebookings.com/wp-content/uploads/a-summer-story-festival-stage-lights-show.jpg
END:VEVENT
BEGIN:VEVENT
DTSTART;VALUE=DATE:20250620
DTEND;VALUE=DATE:20250623
DTSTAMP:20260424T113524
CREATED:20200316T220351Z
LAST-MODIFIED:20250205T220023Z
UID:34624-1750377600-1750636799@europebookings.com
SUMMARY:Hurricane Festival
DESCRIPTION:Get TicketsAccommodationTravel Info\nHurricane Festival 2025: A Legendary Rock and Alternative Music Event \nJoin the excitement at Hurricane Festival 2025\, taking place from June 20-22 at the iconic Eichenring in Scheeßel\, Germany. This renowned festival has become a staple in the European music scene\, drawing tens of thousands of fans for a weekend filled with rock\, indie\, punk\, and electronic music. Known for its diverse lineup\, Hurricane Festival promises an epic experience for music lovers of all genres. \nThe 2025 edition is expected to feature an impressive mix of international superstars and emerging talents\, continuing the tradition of past headliners like Ed Sheeran\, Bring Me The Horizon\, and The Offspring. With performances spread across multiple stages\, festival-goers can immerse themselves in a wide variety of musical styles\, from high-energy rock to laid-back electronic vibes. \nBeyond the music\, Hurricane Festival is famous for its vibrant atmosphere\, expansive camping grounds\, and unparalleled community spirit. Secure your tickets now and prepare to be part of one of Europe’s biggest and best music festivals! \n\nHurricane Festival 2025 Lineup\nAll Aritists & Program\nFri 20 Jun 2025\nAlligatoah / Annenmaykantereit / Apashe & Brass Orchestra / Biffy Clyro / Big Special / Dayseeker / DJO / Girl in Red / Hot Water Music / Lagwagon / Landmvrks / Motionless in White / Querbeat / The Backseat Lovers / Tiefbasskommando / Thrice / Von Wegen Lisbeth \nSat 21 Jun 2025\n01099 / 070 Shake / Apache 207 / Antilopen Gang / Bad Nerves / Bibiza / Blond / Circa Waves / Creed / Deftones / Electric Callboy / Flogging Molly / Freddie Dredd / Friedberg / Jimmy Eat World / Mehnersmoos / Nova Twins / Pretty Pink / Sam Fender / Souly / The Murder Capital / The Prodigy / The Wombats / Turbostaat / Wet Leg / Zartmann \nSun 22 Jun 2025\n102 Boyz / Amyl & The Sniffers / Bennett / Berq / Blackout Problems / Green Day / Ikkimel / Kadavar / Nina Chuba / Parcels / Royal Republic / SDP / Swiss & Die Andern / The Kiffness / Yellowcard / Zeal & ArdorHurricane Festival 2025 Tickets\nFestival Pass Tickets from €249.00 are on sale:\nTickets\nHurricane Festivalvia Official Site \nBookAccommodation\nCamping during the festival is included with the Festivalpass Ticket. All you need is basic camping gear\, like a tent\, a camping pad and a head torch (so useful in the night). If you don’t want to bring your own tent\, the festival offers Pre-pitched tents with extra comfort purchased here \nAlternatively\, you can book nearby hotels and apartments using the map below or visit booking.com \nBook Hotels & Airbnbs near the Venue at the Lowest Price online!\n\nTravel Info\nBY CAR\nGet DirectionsBY TRAIN\nYou will be able to travel on all trains of the metronom railway company from June 20\, 2019 until June 24\, 2019 to the Hurricane Festival. Simply show your festival ticket/ribbon on the train. You can find the route network of the metronom and timetables at www.der-metronom.com \nBY PLANE\nThe closest airport to Scheeßel is Bremen Airport (BRE). From the airport take the tram to Bremen Hauptbahnhof (21 min journey) and the hourly Metronom line train to Scheeßel (37 min journey). \nBook FlightsAirport TransfersCar RentalsTrain/Bus Tickets\nGallery\nRelated Festivals\nDownload Festival\n12 Jun – 14 Jun | Derby\, UK\nLytham Festival\n1 Jul – 5 Jul | Lytham Green\, UK\n		\n			\n\n				\n				\n					Search for:
URL:https://europebookings.com/festival/hurricane-festival/
LOCATION:Eichenring\, Eichenring\, Schessel\, 27383\, Germany
CATEGORIES:Electronic,Pop,Rock
ATTACH;FMTTYPE=image/jpeg:https://europebookings.com/wp-content/uploads/hurricane-festival-stage-fireworks.jpg
END:VEVENT
END:VCALENDAR