BEGIN:VCALENDAR
VERSION:2.0
PRODID:-//Europebookings - ECPv6.15.20//NONSGML v1.0//EN
CALSCALE:GREGORIAN
METHOD:PUBLISH
X-WR-CALNAME:Europebookings
X-ORIGINAL-URL:https://europebookings.com
X-WR-CALDESC:Events for Europebookings
REFRESH-INTERVAL;VALUE=DURATION:PT1H
X-Robots-Tag:noindex
X-PUBLISHED-TTL:PT1H
BEGIN:VTIMEZONE
TZID:Asia/Nicosia
BEGIN:DAYLIGHT
TZOFFSETFROM:+0200
TZOFFSETTO:+0300
TZNAME:EEST
DTSTART:20240331T010000
END:DAYLIGHT
BEGIN:STANDARD
TZOFFSETFROM:+0300
TZOFFSETTO:+0200
TZNAME:EET
DTSTART:20241027T010000
END:STANDARD
BEGIN:DAYLIGHT
TZOFFSETFROM:+0200
TZOFFSETTO:+0300
TZNAME:EEST
DTSTART:20250330T010000
END:DAYLIGHT
BEGIN:STANDARD
TZOFFSETFROM:+0300
TZOFFSETTO:+0200
TZNAME:EET
DTSTART:20251026T010000
END:STANDARD
BEGIN:DAYLIGHT
TZOFFSETFROM:+0200
TZOFFSETTO:+0300
TZNAME:EEST
DTSTART:20260329T010000
END:DAYLIGHT
BEGIN:STANDARD
TZOFFSETFROM:+0300
TZOFFSETTO:+0200
TZNAME:EET
DTSTART:20261025T010000
END:STANDARD
END:VTIMEZONE
BEGIN:VEVENT
DTSTART;VALUE=DATE:20250626
DTEND;VALUE=DATE:20250630
DTSTAMP:20260424T141445
CREATED:20230917T115843Z
LAST-MODIFIED:20250207T163728Z
UID:73801-1750896000-1751241599@europebookings.com
SUMMARY:OpenAir St.Gallen
DESCRIPTION:Get TicketsAccommodationTravel Info\nOpenAir St.Gallen 2025: Switzerland’s Iconic Music Festival \nExperience the magic of OpenAir St.Gallen 2025\, happening from 26th to 29th June in the picturesque Sittertobel valley. As one of Switzerland’s largest and longest-running music festivals\, OpenAir St.Gallen blends an incredible lineup with the stunning natural surroundings of forests\, rivers\, and meadows. With over 40 performances across multiple stages\, you can expect a diverse musical offering\, from rock and pop to hip-hop and electronic\, ensuring there’s something for every festival-goer. \nThis festival has hosted some of the biggest global acts\, including The Chainsmokers\, Queens of the Stone Age\, and Tom Odell. In 2025\, the tradition continues with an exciting array of artists set to deliver unforgettable performances\, keeping fans entertained across four days of nonstop music. From intimate stages to epic headliners\, OpenAir St.Gallen creates a perfect balance between energetic vibes and scenic beauty. \nNot just about music\, OpenAir St.Gallen offers an immersive experience with eco-friendly camping\, sustainable initiatives\, and plenty of food and drink options to enjoy. Whether you’re a returning fan or a first-time visitor\, this festival promises an incredible summer adventure in the heart of Switzerland’s natural beauty! \n\nOpenAir St.Gallen 2025 Lineup\nAll ArtistsAlanis Morissette / AnnenMayKantereit / Beatsteaks / Berq / Bibiza / Bunt. / Brutalismus 3000 / Claire My Flair / Deadletter / Dilla / Die Antwoord / Edb / Edwin Rosen / Faber / Gigi / Grossstadtgeflüster / Jere​mias / JOLLE / Joya Marleen / Jule X / Kasi / Kings of Leon / L’Impératrice / Linda Elys / Lost in Lona / Malummi / Marc Rebillet / Mark Ambor / Mother Mother / NEMO / NGHTMRE / OG Keemo / Pashanim / Paula Dalla Corte / RAG’N’BONE MAN / Riana / Royel Otis / Rufus Miller / SALÒ / Sara James / Siegfried & Joy / Ski Aggu / Zimmer90 / We Are Ava / and many moreOpenAir St.Gallen 2025 Tickets\n1-Day\, 2-Day\, 3-Day & 4-Day Tickets from CHF111\,50 (€118.63) are on sale:\nTicketsOpenAir St.Gallen\nvia Official SiteBookAccommodation\nCamping during the festival is included in the festival ticket\, so all you need is basic camping gear\, like a tent\, a camping pad and a head torch (so useful in the night). If you don’t want to bring your own tent\, the festival offers pre-built tents (TIPI). \nAlternatively\, you can book nearby hotels and apartments using the map below or visit booking.com \nBook Hotels & Airbnbs near the Venue at the Lowest Price online!\n\nTravel Info\nBY CAR\nGet DirectionsBY TRAIN\nSt. Gallen is a major hub in northeastern Switzerland\, and therefore many train services run to and from the city. \nBY PLANE\nZurich International Airport (ZRH) is the closest international airport to St. Gallen. Direct trains between St. Gallen and the airport run twice an hour and take approximately an hour. \nBook FlightsAirport TransfersCar RentalsTrain/Bus Tickets\nGallery\nRelated Festivals\nDownload Festival\n12 Jun – 14 Jun | Derby\, UK\nLytham Festival\n1 Jul – 5 Jul | Lytham Green\, UK\n		\n			\n\n				\n				\n					Search for:
URL:https://europebookings.com/festival/openair-st-gallen/
LOCATION:Sittertobel\, Sittertobel\, St. Gallen\, 9014 ST\, Switzerland
CATEGORIES:Electronic,Pop,Rock
ATTACH;FMTTYPE=image/jpeg:https://europebookings.com/wp-content/uploads/openair-st-gallen-festival-stage-lights-show.jpg
END:VEVENT
END:VCALENDAR