BEGIN:VCALENDAR
VERSION:2.0
PRODID:-//Europebookings - ECPv6.15.20//NONSGML v1.0//EN
CALSCALE:GREGORIAN
METHOD:PUBLISH
X-ORIGINAL-URL:https://europebookings.com
X-WR-CALDESC:Events for Europebookings
REFRESH-INTERVAL;VALUE=DURATION:PT1H
X-Robots-Tag:noindex
X-PUBLISHED-TTL:PT1H
BEGIN:VTIMEZONE
TZID:Asia/Nicosia
BEGIN:DAYLIGHT
TZOFFSETFROM:+0200
TZOFFSETTO:+0300
TZNAME:EEST
DTSTART:20240331T010000
END:DAYLIGHT
BEGIN:STANDARD
TZOFFSETFROM:+0300
TZOFFSETTO:+0200
TZNAME:EET
DTSTART:20241027T010000
END:STANDARD
BEGIN:DAYLIGHT
TZOFFSETFROM:+0200
TZOFFSETTO:+0300
TZNAME:EEST
DTSTART:20250330T010000
END:DAYLIGHT
BEGIN:STANDARD
TZOFFSETFROM:+0300
TZOFFSETTO:+0200
TZNAME:EET
DTSTART:20251026T010000
END:STANDARD
BEGIN:DAYLIGHT
TZOFFSETFROM:+0200
TZOFFSETTO:+0300
TZNAME:EEST
DTSTART:20260329T010000
END:DAYLIGHT
BEGIN:STANDARD
TZOFFSETFROM:+0300
TZOFFSETTO:+0200
TZNAME:EET
DTSTART:20261025T010000
END:STANDARD
END:VTIMEZONE
BEGIN:VEVENT
DTSTART;VALUE=DATE:20250626
DTEND;VALUE=DATE:20250630
DTSTAMP:20260424T113751
CREATED:20230917T115843Z
LAST-MODIFIED:20250207T163728Z
UID:73801-1750896000-1751241599@europebookings.com
SUMMARY:OpenAir St.Gallen
DESCRIPTION:Get TicketsAccommodationTravel Info\nOpenAir St.Gallen 2025: Switzerland’s Iconic Music Festival \nExperience the magic of OpenAir St.Gallen 2025\, happening from 26th to 29th June in the picturesque Sittertobel valley. As one of Switzerland’s largest and longest-running music festivals\, OpenAir St.Gallen blends an incredible lineup with the stunning natural surroundings of forests\, rivers\, and meadows. With over 40 performances across multiple stages\, you can expect a diverse musical offering\, from rock and pop to hip-hop and electronic\, ensuring there’s something for every festival-goer. \nThis festival has hosted some of the biggest global acts\, including The Chainsmokers\, Queens of the Stone Age\, and Tom Odell. In 2025\, the tradition continues with an exciting array of artists set to deliver unforgettable performances\, keeping fans entertained across four days of nonstop music. From intimate stages to epic headliners\, OpenAir St.Gallen creates a perfect balance between energetic vibes and scenic beauty. \nNot just about music\, OpenAir St.Gallen offers an immersive experience with eco-friendly camping\, sustainable initiatives\, and plenty of food and drink options to enjoy. Whether you’re a returning fan or a first-time visitor\, this festival promises an incredible summer adventure in the heart of Switzerland’s natural beauty! \n\nOpenAir St.Gallen 2025 Lineup\nAll ArtistsAlanis Morissette / AnnenMayKantereit / Beatsteaks / Berq / Bibiza / Bunt. / Brutalismus 3000 / Claire My Flair / Deadletter / Dilla / Die Antwoord / Edb / Edwin Rosen / Faber / Gigi / Grossstadtgeflüster / Jere​mias / JOLLE / Joya Marleen / Jule X / Kasi / Kings of Leon / L’Impératrice / Linda Elys / Lost in Lona / Malummi / Marc Rebillet / Mark Ambor / Mother Mother / NEMO / NGHTMRE / OG Keemo / Pashanim / Paula Dalla Corte / RAG’N’BONE MAN / Riana / Royel Otis / Rufus Miller / SALÒ / Sara James / Siegfried & Joy / Ski Aggu / Zimmer90 / We Are Ava / and many moreOpenAir St.Gallen 2025 Tickets\n1-Day\, 2-Day\, 3-Day & 4-Day Tickets from CHF111\,50 (€118.63) are on sale:\nTicketsOpenAir St.Gallen\nvia Official SiteBookAccommodation\nCamping during the festival is included in the festival ticket\, so all you need is basic camping gear\, like a tent\, a camping pad and a head torch (so useful in the night). If you don’t want to bring your own tent\, the festival offers pre-built tents (TIPI). \nAlternatively\, you can book nearby hotels and apartments using the map below or visit booking.com \nBook Hotels & Airbnbs near the Venue at the Lowest Price online!\n\nTravel Info\nBY CAR\nGet DirectionsBY TRAIN\nSt. Gallen is a major hub in northeastern Switzerland\, and therefore many train services run to and from the city. \nBY PLANE\nZurich International Airport (ZRH) is the closest international airport to St. Gallen. Direct trains between St. Gallen and the airport run twice an hour and take approximately an hour. \nBook FlightsAirport TransfersCar RentalsTrain/Bus Tickets\nGallery\nRelated Festivals\nDownload Festival\n12 Jun – 14 Jun | Derby\, UK\nLytham Festival\n1 Jul – 5 Jul | Lytham Green\, UK\n		\n			\n\n				\n				\n					Search for:
URL:https://europebookings.com/festival/openair-st-gallen/
LOCATION:Sittertobel\, Sittertobel\, St. Gallen\, 9014 ST\, Switzerland
CATEGORIES:Electronic,Pop,Rock
ATTACH;FMTTYPE=image/jpeg:https://europebookings.com/wp-content/uploads/openair-st-gallen-festival-stage-lights-show.jpg
END:VEVENT
BEGIN:VEVENT
DTSTART;VALUE=DATE:20250627
DTEND;VALUE=DATE:20250630
DTSTAMP:20260424T113751
CREATED:20190504T165712Z
LAST-MODIFIED:20250201T134745Z
UID:19975-1750982400-1751241599@europebookings.com
SUMMARY:Solidays Festival
DESCRIPTION:Get TicketsAccommodationTravel Info\nHolidays Festival 2025: Paris Welcomes a Star-Studded Celebration \nGet ready for an unforgettable experience as Holidays Festival 2025 lights up Paris on 28th and 29th June 2025. Set in the vibrant capital of France\, this two-day event promises to bring together a stellar lineup of global icons and beloved French artists\, making it one of the summer’s most anticipated musical gatherings. \nThis year’s lineup is nothing short of spectacular. Fans of urban and pop music can revel in the lyrical genius of Damso and the charismatic energy of MC Solaar\, two legends in the French-speaking music scene. International star Sean Paul is set to heat up the stage with his dancehall anthems\, while electronic music fans can look forward to an exhilarating set from Fisher\, known for his infectious house beats. \nRap enthusiasts will be thrilled by performances from SCH\, whose gritty rhymes captivate audiences\, and rising star Werenoi\, representing the new wave of French rap. The festival also features the soulful stylings of Zaho de Sagazan\, the tropical vibes of Kalash\, and the electrifying collaboration of Lamomali\, blending world music with a modern twist. Pop sensation GIMS rounds out the lineup\, bringing his signature hits to the Parisian stage. \nHolidays Festival takes place in a stunning outdoor venue in Paris\, offering a perfect summer atmosphere for music lovers to come together. The festival grounds will also include interactive zones\, art installations\, and spaces for relaxation\, creating a complete sensory experience. \nTickets for Holidays Festival 2025 are now available and expected to sell out quickly given the star-studded lineup. Whether you’re a local or travelling to Paris for the summer\, this is an event not to be missed. \nJoin thousands of fans and experience two days of incredible performances\, cultural celebration\, and unforgettable vibes at Holidays Festival 2025 in Paris!Solidays Festival attracts more than 150\,000 festival-goers\, with over 80 concerts and with the likes of Black Eyed Peas\, Boris Brejcha\, Justice and OrelSan among this year’s headliners. \nThe festival is sponsored by the Solidarité Sida association\, which has been working since 1992 to prevent AIDS and support patients in more than twenty countries around the world. The association is actively supported by Antoine de Caunes\, Honorary President of the Association. \n\nSolidays Festival 2025 Lineup\nAll ArtistsDamso / Fisher / Gims / High Fade / James Hype / Jersey / Kalash / Kompromat / L’Impératrice / Lamomali / Leto / Meute / MC Solaar / Perceval / SCH / Sean Paul / Werenoi / Yoa / Zaho de Sagazan / more TBASolidays Festival 2025 Tickets\n1-Day & 3-Day Tickets from €59.00 are on sale:\nTicketsSolidays Festival\nvia TicketmasterBookAccommodation\nCamping during the festival requires a 3-Day Pass. All you need is basic camping gear\, like a tent\, a camping pad and a head torch (so useful in the night). \nAlternatively\, you can book nearby hotels and apartments using the map below or visit booking.com \nBook Hotels & Airbnbs near the Venue at the Lowest Price online!\n\nTravel Info\nBY CAR\nBooking.comBY TRAIN\nIf you are arriving into the city centre by train or coach\, then a taxi will take around 15-25 minutes and cost roughly €30. Alternatively\, make your way to Porte Maillot and catch the festival’s shuttle bus service. \nBY PLANE\nIf you are flying into Charles de Gaulle\, bus numbers 2\, 732\, 757\, 802\, 742\, 755\, 709\, N769 and N709 will take you to Porte Maillot\, where the festival will be operating a shuttle bus service to the festival site.\nAlternatively\, a taxi straight to the site from the airport will take around 40 minutes\, but could cost around €80. \nBook FlightsAirport TransfersCar RentalsTrain/Bus Tickets\nGallery\nRelated Festivals\nMarvellous Island\n7 Jun – 8 Jun | Paris\, France\n Les Plages Électroniques \n8 Aug – 10 Aug | Cannes\, France\n		\n			\n\n				\n				\n					Search for:
URL:https://europebookings.com/festival/solidays/
LOCATION:Hippodrome\, Hippodrome de Longchamp\, Paris\, France
CATEGORIES:Electronic,Hip Hop,Multi-Genre,Pop
ATTACH;FMTTYPE=image/jpeg:https://europebookings.com/wp-content/uploads/solidays-festival-stage-view-fans.jpg
END:VEVENT
BEGIN:VEVENT
DTSTART;VALUE=DATE:20250627
DTEND;VALUE=DATE:20250630
DTSTAMP:20260424T113751
CREATED:20191203T190137Z
LAST-MODIFIED:20250207T164107Z
UID:28696-1750982400-1751241599@europebookings.com
SUMMARY:Sunrise Festival Belgium
DESCRIPTION:Sunrise Festival 2025: A Weekend of EDM Bliss in Belgium \nGet ready for an unforgettable experience at Sunrise Festival 2025\, happening from June 27-29 at De Lilse Bergen\, Belgium. As one of the country’s premier electronic dance music festivals\, Sunrise offers three days of non-stop beats\, vibrant performances\, and a breathtaking lakeside setting. With multiple stages and genres ranging from house to techno\, the festival promises something for every dance music lover. \nThe 2025 edition is expected to feature an exciting lineup\, bringing both international stars and emerging talent to the stage. Past performers have included giants like Armin van Buuren\, Martin Garrix\, and Headhunterz\, ensuring that this year’s festival will continue the tradition of epic performances. The scenic location\, combined with world-class sound and visuals\, creates a unique atmosphere that makes Sunrise Festival a must-attend event. \nWhether you’re soaking up the sun by the lake or dancing under the stars\, Sunrise Festival 2025 guarantees an exhilarating weekend of music\, community\, and unforgettable moments. Get your tickets now and join the celebration! \n\nSunrise Festival Belgium 2025 Lineup\nAll Artists & Program\nFri 27 Jun 2025\n$Hirak / Aphøtic / Da Tweekaz / FØss / Frenna / Jan Vercauteren / Jebroer / Luna Fields / Maze / Ronny Retro / STUK \nSat 28 Jun 2025\n5NAPBACK / Aversion / Boef / Coone / DJ Licious / Karakals / Lil Kleine / Lil Texas / MANDY / Michael Amani / Mutilator / Pat B / Radical Redemption / Roxy Dekker \nSaun 29 Jun 2025\nAndromedik / Bankzitters / Bizzey / Dimitri K / DJ Ghost / Dual Damage / FabioW / Mark With a K & MC Chucky / Nachtdienst / Nina Black / Omdat Het Kan & Average Rob / Sam Hofman / VolTrackSunrise Festival Belgium 2025 Tickets\n1-Day & Weekend Tickets from €59.50 are on sale:\nTicketsSunrise Festival Belgium\nvia Official SiteBookAccommodation\nCamping during the festival is included only with Weekend Tickets. If you’d like to camp you need to purchase a Camping ticket purchased here. All you need is basic camping gear\, like a tent\, a camping pad and a head torch (so useful in the night). If you don’t want to bring your own tent the festival offers Premium Camping options purchased here \nAlternatively\, you can book nearby hotels and apartments using the map below or visit booking.com \nBook Hotels & Airbnbs near the Venue at the Lowest Price online!\n\nTravel Info\nBY CAR\nDay & Weekend Parking tickets purchased here \nGet DirectionsBY TRAIN\nFrom Amsterdam Centraal Station you can take the train to Roermond (2 hours journey). \nBY SHUTTLE BUS\nThe festival provides a shuttle service from Herentals to Sunrise Festival. Tickets will cost you 10 EUR\, including the return transfer\, and can be bought online or when entering the bus. \nBY PLANE\nBrussels National Airport (BRU) or Charleroi Airport (CRL) are close to the festival. You can take the public transport from both airports to Herentals and then take the shuttle bus to the festival. \nBook FlightsAirport TransfersCar RentalsTrain/Bus Tickets\nGallery\nRelated Festivals\nAirbeat One Festival\n8 Jul – 12 Jul | Neustadt-Glewe\, Germany\nSea You Festival\n17 Jul – 19 Jul | Freiburg\, Germany\n		\n			\n\n				\n				\n					Search for:
URL:https://europebookings.com/festival/sunrise-festival-belgium/
LOCATION:De Lilse Bergen\, De Lilse Bergen\, Strandweg 6\, Lille\, 2275\, Belgium
CATEGORIES:Electronic,House,Techno
ATTACH;FMTTYPE=image/jpeg:https://europebookings.com/wp-content/uploads/sunrise-festival-belgium-stage-lake-view.jpg
END:VEVENT
BEGIN:VEVENT
DTSTART;VALUE=DATE:20250627
DTEND;VALUE=DATE:20250630
DTSTAMP:20260424T113751
CREATED:20191220T181222Z
LAST-MODIFIED:20241008T105259Z
UID:30376-1750982400-1751241599@europebookings.com
SUMMARY:Instytut Festival
DESCRIPTION:Get TicketsAccommodationTravel Info\nInstytut Festival 2025: Poland’s Electronic Music Spectacle \nGet ready for the fifth edition of the Instytut Festival\, taking place from 27th to 29th June 2025 at the awe-inspiring Modlin Fortress in Poland. This historic location\, renowned for its rich history and unique architecture\, will once again be transformed into a pulsating hub of electronic music. With three stages – the Open Stage\, Rave Stage\, and Panorama Stage – festival-goers can expect an unforgettable experience filled with electrifying sounds and mind-blowing visuals. \nThis year\, Instytut Festival promises to deliver even more energy\, surprises\, and unforgettable performances from the world’s top electronic music artists. The event has become synonymous with vibrant energy\, where music lovers from around the globe unite to dance for hours\, share smiles\, and embrace the positive vibes. As always\, the festival will feature cutting-edge visual artists to create a mesmerizing\, immersive experience that elevates the music to new heights. \nSet within the breathtaking Modlin Fortress\, the festival’s location adds to the magic. Surrounded by forests\, rivers\, and historic ruins\, the atmosphere is as captivating as the music itself. Don’t miss this extraordinary celebration of electronic music in one of Europe’s most unique settings! Secure your tickets and join the global rave family in 2025! \n\nInstytut Festival 2025 Lineup\nLineup to be announced soon: \n2023 LineupAngelo Mike / Antigone / Arnaud Rebotini / Britta Arnold / Carnal / Clara Cuvé / Deaf Can Dance / Dr. Rubinstein / Gooral / kEczuP / KLANGPHONICS (Live) / LASY / Mall Grab / Michal Zietara / Narciss / Partiboi69 / Paula Temple / Rebekah / Sassafras Tree / SHDW & Obscure Shape / Stanislav Tolkachev / Stef Mendesidis (Live) / TAAHLIAH / Truant / ZAMILSKA (Live)Instytut Festival 2025 Tickets\nTickets to be announced soon:\nTicketsInstytut Festival\nComing SoonBookAccommodation\nCamping is available and the campsite is located in the Modlin Fortress in the immediate vicinity of the festival town. All you need is basic camping gear\, like a tent\, a camping pad and a head torch (so useful in the night). If you don’t want to bring your own tent the festival offers Premium Camping to be announced soon: \nAlternatively\, the city of Nowy Dwór Mazowiecki offers a wide range of accommodation options. Book your stay for Instytut Festival using the map below or visit booking.com \nBook Hotels & Airbnbs near the Venue at the Lowest Price online!\n\nTravel Info\nBY CAR\nGet DirectionsBY TRAIN\nNowy Dwór Mazowiecki is located on the Warsaw – Gdańsk railway route. From Warsaw\, trains depart from the West Railway Station (platform 9). \nBY SHUTTLE BUS\nShuttle Bus will take you from the Młociny metro station to Modlin during the festival. \nBY PLANE\nThe nearest airport is Warsaw Modlin Airport (WMI) just ten minutes by bus from the city centre. \nBook FlightsAirport TransfersCar RentalsTrain/Bus Tickets\nGallery\nRelated Festivals\nDGTL Amsterdam\n3 Apr – 5 Apr | Amsterdam\, Netherlands\nFree Your Mind Festival\n6 Jun – 7 Jun | Utrecht\, Netherlands\n		\n			\n\n				\n				\n					Search for:
URL:https://europebookings.com/festival/instytut-festival/
LOCATION:Modlin Garrison\, Modlin Garrison\, Nowy Dwór Mazowiecki\, Poland
CATEGORIES:Electronic,Techno
ATTACH;FMTTYPE=image/jpeg:https://europebookings.com/wp-content/uploads/instytut-festival-stage-lights-show.jpg
END:VEVENT
BEGIN:VEVENT
DTSTART;VALUE=DATE:20250627
DTEND;VALUE=DATE:20250630
DTSTAMP:20260424T113751
CREATED:20230917T120721Z
LAST-MODIFIED:20250207T173405Z
UID:73808-1750982400-1751241599@europebookings.com
SUMMARY:Lisb-ON Jardim Sonoro
DESCRIPTION:Get TicketsAccommodationTravel Info\nLisb-ON Jardim Sonoro 2025: Lisbon’s Urban Sound Oasis \nImmerse yourself in the heart of Lisbon’s vibrant music scene at the Lisb-ON Jardim Sonoro 2025\, a festival that seamlessly blends urban energy with the tranquillity of nature. Set against the lush backdrop of Jardim Keil do Amaral in Monsanto\, this event offers a unique experience for music enthusiasts seeking both relaxation and rhythm. \nSince its inception\, Lisb-ON Jardim Sonoro has established itself as a cornerstone of Lisbon’s cultural calendar. Celebrated for its eclectic line-ups and commitment to sustainability\, the festival has grown into a beloved gathering that attracts both locals and international visitors. Its emphasis on environmental responsibility and cultural diversity sets it apart\, making each edition a harmonious blend of music and mindful celebration. \nPast editions have featured a diverse array of genres\, including house\, techno\, disco\, funk\, and soul. Attendees can anticipate performances from both renowned international artists and emerging local talents\, ensuring a dynamic musical journey throughout the festival. \nLisb-ON Jardim Sonoro is renowned for its vibrant and inclusive atmosphere. With multiple stages\, the festival integrates some of the most powerful international artists of indie rock\, world music\, reggae\, electronic music\, and hip-hop. The scenic surroundings of Monsanto\, combined with the city’s warm climate\, create a perfect setting for festival-goers to enjoy both the performances and the natural beauty of Lisbon. \nDon’t miss the chance to be part of this extraordinary event. Stay tuned for the official dates and prepare for a weekend filled with music\, culture\, and unforgettable memories at Lisb-ON Jardim Sonoro 2025! \n\nLisb-ON Jardim Sonoro 2025 Lineup\nAll ArtistsAdam Purnell / Adiel / ANOTR / Ben Böhmer / Berllioz / Claudio PRC / Daria / Daria Kolosova / Dede / Dennis Cruz / DJ Pete / DJ Tool / Gabrielle Kwarteng / Jean Mauj / Kaesar / Luisa / Maceo Plex / Maki / Mardel / Speedy J / Sugar Free / The Lady Machine / Tiago Cruz / Tijana T / and many moreLisb-ON Jardim Sonoro 2025 Tickets\n3-Day Pass Tickets from €€118\,80 are on sale:\nTickets\nLisb-ON Jardim Sonorovia See Tickets \nBookAccommodation\nThe city of Lisbon offers a wide range of accommodation options. Book your stay for Lisb-ON Jardim Sonoro Festival using the map below or visit booking.com \nBook Hotels & Airbnbs near the Venue at the Lowest Price online!\n\nTravel Info\nBY CAR\nGet DirectionsBY METRO & BUS\nTake the Metro to the “Sete Rios” station. From “Sete Rios”\, catch a bus heading towards Monsanto. You should inquire locally or check schedules to identify which bus route will get you closest to Keil do Amaral. \nBY TRAIN\nIf you’re traveling to Lisbon by train\, it’s likely that you’ll arrive at either “Santa Apolónia” or “Oriente” stations\, both being major international train stations in Lisbon. \nFrom Santa Apolónia: Take the Metro Blue Line from “Santa Apolónia” to “Jardim Zoológico” (Sete Rios) station. From “Sete Rios”\, you can catch a bus heading towards Monsanto. \nFrom Oriente: Take the Metro Red Line from “Oriente” to “São Sebastião” station.\nSwitch to the Blue Line at “São Sebastião” and travel to “Jardim Zoológico” (Sete Rios) station. Then\, from “Sete Rios”\, take a bus to Monsanto. \nFor both scenarios\, taxis and ride-sharing services are readily available at train stations if you prefer a more direct route. \nRemember to always check schedules for potential changes or delays. And if you’re using public transport\, the Viva Viagem card can be handy as it’s usable on buses\, trams\, and the metro. \nBY PLANE\nFrom Lisbon Airport (LIS) take the Metro Red Line to “São Sebastião” station. Switch to the Blue Line at “São Sebastião” and travel to “Jardim Zoológico” (also known as Sete Rios) station. From “Sete Rios”\, you can catch a bus heading towards Monsanto. \nTaxi or Ride-Sharing Services: From the airport\, you can easily find a taxi. Alternatively\, use ride-sharing services like Uber\, Bolt\, or Kapten. It’s roughly a 15-20 minute drive to Monsanto from the airport without traffic. \nAerobus has a line that goes from the airport to Sete Rios. From there\, you can take a bus to Monsanto. \nBook FlightsAirport TransfersCar RentalsTrain/Bus Tickets\nGallery\nRelated Festivals\nDGTL Amsterdam\n3 Apr – 5 Apr | Amsterdam\, Netherlands\nFree Your Mind Festival\n6 Jun – 7 Jun | Utrecht\, Netherlands\n		\n			\n\n				\n				\n					Search for:
URL:https://europebookings.com/festival/lisb-on-jardim-sonoro/
LOCATION:LISB-ON FESTIVAL\, LISB-ON FESTIVAL\, Estrada do Penedo\, Lisbon\, 1300-651\, Portugal
CATEGORIES:Electronic,House,Techno
ATTACH;FMTTYPE=image/jpeg:https://europebookings.com/wp-content/uploads/lisb-on-jardim-sonoro-festival-main-stage-view.jpg
END:VEVENT
END:VCALENDAR