BEGIN:VCALENDAR
VERSION:2.0
PRODID:-//Europebookings - ECPv6.15.20//NONSGML v1.0//EN
CALSCALE:GREGORIAN
METHOD:PUBLISH
X-ORIGINAL-URL:https://europebookings.com
X-WR-CALDESC:Events for Europebookings
REFRESH-INTERVAL;VALUE=DURATION:PT1H
X-Robots-Tag:noindex
X-PUBLISHED-TTL:PT1H
BEGIN:VTIMEZONE
TZID:Asia/Nicosia
BEGIN:DAYLIGHT
TZOFFSETFROM:+0200
TZOFFSETTO:+0300
TZNAME:EEST
DTSTART:20240331T010000
END:DAYLIGHT
BEGIN:STANDARD
TZOFFSETFROM:+0300
TZOFFSETTO:+0200
TZNAME:EET
DTSTART:20241027T010000
END:STANDARD
BEGIN:DAYLIGHT
TZOFFSETFROM:+0200
TZOFFSETTO:+0300
TZNAME:EEST
DTSTART:20250330T010000
END:DAYLIGHT
BEGIN:STANDARD
TZOFFSETFROM:+0300
TZOFFSETTO:+0200
TZNAME:EET
DTSTART:20251026T010000
END:STANDARD
BEGIN:DAYLIGHT
TZOFFSETFROM:+0200
TZOFFSETTO:+0300
TZNAME:EEST
DTSTART:20260329T010000
END:DAYLIGHT
BEGIN:STANDARD
TZOFFSETFROM:+0300
TZOFFSETTO:+0200
TZNAME:EET
DTSTART:20261025T010000
END:STANDARD
END:VTIMEZONE
BEGIN:VEVENT
DTSTART;VALUE=DATE:20250701
DTEND;VALUE=DATE:20250709
DTSTAMP:20260424T101049
CREATED:20200227T201501Z
LAST-MODIFIED:20250207T173734Z
UID:33674-1751328000-1752019199@europebookings.com
SUMMARY:Hospitality on the Beach
DESCRIPTION:Get TicketsAccommodationTravel Info\nHospitality on the Beach 2025: The Ultimate Drum & Bass Getaway in Croatia \nPrepare for a week of drum & bass bliss at Hospitality on the Beach 2025\, happening from 1st – 8th July at the stunning Garden Resort in Tisno\, Croatia. This festival offers a unique\, intimate experience\, combining world-class DnB music with breathtaking Adriatic views. With stages set against the backdrop of a sun-soaked private beach\, you’ll enjoy days spent raving under clear blue skies and nights dancing until dawn. \nThe 2025 edition promises an extraordinary lineup\, featuring some of the most celebrated names in the drum & bass scene\, curated by leading labels and artists. Expect immersive performances on multiple stages\, boat parties on the crystal-clear waters\, and legendary after-parties at Barbarella’s Discotheque. \nWhat sets Hospitality on the Beach apart is its combination of music\, relaxation\, and local exploration. Whether you’re looking to rave\, unwind by the beach\, or explore the town of Tisno\, this festival delivers the perfect summer holiday experience. Join like-minded music lovers in a week of unparalleled energy and unforgettable moments. \n\nHospitality On The Beach 2025 Lineup\nAll ArtistsAnaïs / Arcturius / Artemis / B-Complex / Bop / Camo & Krooked / Danny Byrd / Dazee / Degs / DJ Ron / Doktor Feat. Kanobie / EMZ / Eva Lazarus / Flava D / Fred V / Grafix / Hoax / Hugh Hardie / Hybrid Minds / IMO-LU / Kings Of The Rollers / Lens / London Elektricity / Makoto / Metrik / Netsky / Nu:Tone / P Money X Whiney / S.P.Y / Solah / Stay-C / Unglued / Urbandawn / Winslow / and many moreHospitality On The Beach 2025 Tickets\nFull Week Festival Tickets from €211.24 are on sale:\nTickets\nHospitality On The Beachvia Official Site \nBookAccommodation\nThe city of Tisno offers a wide range of accommodation options. Book your stay using the interactive map below or visit booking.com \nBook Hotels & Airbnbs near the Venue at the Lowest Price online!\n\nTravel Info\nBY CAR\nGet DirectionsBY PLANE\nBoth Zadar and Split airports are close to Tisno\, around 60 minutes away. The festival will be running airport transfers from both airports. These will be on-sale shortly. \nBook FlightsAirport TransfersCar RentalsTrain/Bus Tickets\nGallery\nRelated Festivals\nLand Beyond Festival\n2 May – 4 May | Brighton\, UK\nLet It Roll Festival\n31 Jul – 2 Aug | Milovice\, Czechia\n		\n			\n\n				\n				\n					Search for:
URL:https://europebookings.com/festival/hospitality-on-the-beach/
LOCATION:The Garden Resort\, The Garden Resort\, Tisno\, Croatia (Local Name: Hrvatska)
CATEGORIES:Drum & Bass,Electronic
ATTACH;FMTTYPE=image/jpeg:https://europebookings.com/wp-content/uploads/hospitality-on-the-beach-festival-stage-lights-show.jpg
END:VEVENT
BEGIN:VEVENT
DTSTART;VALUE=DATE:20250704
DTEND;VALUE=DATE:20250707
DTSTAMP:20260424T101049
CREATED:20200128T102738Z
LAST-MODIFIED:20250225T210115Z
UID:31920-1751587200-1751846399@europebookings.com
SUMMARY:Rampage Open Air
DESCRIPTION:Get TicketsAccommodationTravel Info\nRampage Open Air Festival 2025 is set to return to Lommel\, Belgium\, from July 4-6\, transforming the picturesque Kristalpark into the ultimate hub for drum and bass and dubstep enthusiasts. Renowned as the biggest drum and bass and dubstep festival in the world\, Rampage promises an unparalleled auditory and visual experience. \nOver three days\, attendees can immerse themselves in the high-energy performances of top-tier artists and emerging talents across multiple stages. While the lineup for 2025 is yet to be announced\, past editions have featured renowned acts such as Pendulum\, Noisia\, and Andy C\, ensuring a stellar musical journey. \nWhat sets Rampage Open Air apart is its dedication to creating an immersive festival atmosphere with cutting-edge light shows\, booming sound systems\, and a vibrant community spirit. The festival also offers a variety of activities\, including fair rides and food markets\, making it a comprehensive and exciting event for all music lovers. \n\nRampage Open Air 2025 Lineup\nAll ArtistsAC13 B2B Murdock / Akov B2B TR Tactics / Alycia Bezozo / A.M.C / Amplify B2B Premium / Andy C (3 Hours Set) / Annix / Arcando / Atmos / Atmos B2B Pablo / Audio / Bad Habitz Showcase (Para Rampage) / Badklaat B2B Subfiltronik / Basslayerz / Beastboi / Becky Hill / Bennie B2B Titan / Bianca Oblivion / Bizo / Black Sun Empire / Blankface / Blatemate / Blanko B2B Robitops / Bloodlust / BootyRave / Bossfight / Brendan Casey / Camo & Krooked / Captain Bass / Catz B2B Sync / Ceejay / Changing Faces / Chubby Analog / C-Kid / Codd Dubz B2B Pyke (Live At The Dome) / Darkzy / Daxta / Diagnostix / Dimension / Disrupta / Dirtyphonics / Dirtyphonics B2B Murdock / DLR / DJ Donk / Doctor P / Don Diablo Presents Ctrl Alt Delete / Donkey Rolla / D-Skid / Drumsound & Bassline Smith / Dubtendo / Duke & Bass / Eatbrain 10Y / Ekko & Sidetrack / Emperor / Enei / Eprom / Excision / Explorers Of The Internet / Fade Black / Flavour D / Flashzoe / Flux Pavilion / Gino / Gladde Paling / Georgia Riot / GFP / Glitchterrize / Gray / Hizzleguy / Hixxy / Hoax / HOL! / Hybrid Minds / Imanu B2B What So Not / Infekt / Ironfist B2B Gino / Itsy / [IVY] / J Booker / Jakes / Jeanie / Joker B2B Sir Spyro / Jon Casey / Jub B2B Rof / K Motionz / Kanine / Koven / Lattex / Latte / Levity / Liquid Stranger (Throwback Set) / Little Warrior / Lorna B2B Cyclane / Lowrance / Lucify / Lurka / Macky Gee / Mad Dubz / Mad Habitz Showcase / Madken / Madster / Madstorm / Malaa / Maze / Mc Buju / Mc Mitch / Mc Mota / Mc Mush / Mc Nice / Mc Skywalker / Mc Wolf Pax / Mefjus / Murdock / Mozey / Nativ Visstick / NCT / Neuroheads / Ninja / Nitptpunk / Nokota / Ntox / N-Skid / Original Sin / P0sic / Panka / P0sic / Poke / Primate / Primate Pythius / Prunk / Pythius / Ranja / Ray Volpe / Reaper / Rendah & Jakka / Rezz / Riva / Rivo / Rova / Ruth Royale / S-Dodge / Samplifire / S&D / Sefski / Skepsis / Skantia / Sl8r / Slogans / Solvth / Sound Rush / Sound Rush Presents Journey Through Sound / Stomp / Sub Zero / Subsonic / Sullivan King / Super Glitch / Tailor Jae / Tattond / The Cabal Project / The Reflex / The Saints / The Shapeshifters / The Viper / T & Sugah / T & Sugah B2B Hamro B2B Solvth / Teshnaa / Tins / TNC / T & Sugah / Toktok / Toxate / Trinist / Turno / Upgrade B2B Limited / Vastive / Vegas / Vibe Chemistry / Villain / Vtokk / Volunt Barbariat / Vortex / Wraith / XRTN / Zany / Zero / ZorzaRampage Open Air 2025 Tickets\n1-Day & Weekend Tickets from €38.00 are on sale:\nTickets\nRampage Open Air\nvia Official Site \nBookAccommodation\nCamping during the festival requires a Camping Ticket purchased here. You will need basic camping gear\, like a tent\, a camping pad and a head torch (so useful in the night). \nAlternatively\, you can book nearby hotels and apartments using the map below or visit booking.com \nBook Hotels & Airbnbs near the Venue at the Lowest Price online!\n\nTravel Info\nBY CAR\nGet DirectionsBY TRAIN\nMol Train station is accessible from most European countries. From here\, a shuttle bus will take you to the festival and campsite. \nBY SHUTTLE BUS\nShuttle Bus tickets from Mol Train Station to the Festival site will be available. More info soon: \nBY PLANE\nThe nearest airport is Brussels Airport (BRU). Upon arrival take the IC train to Hasselt (1 hour journey and from there take the 180 bus to Lommel Kerk (50 min journey). \nBook FlightsAirport TransfersCar RentalsTrain/Bus Tickets\nGallery\nRelated Festivals\nEl Dorado Festival\nDates TBA | Ledbury\, UK\nOutlook Origins Festival\nDates TBA | Tisno\, Croatia\n		\n			\n\n				\n				\n					Search for:
URL:https://europebookings.com/festival/rampage-open-air/
LOCATION:Kristalpark\, Balendijk\, Lommel\, 3920\, Belgium
CATEGORIES:Drum & Bass,Dubstep,Electronic
ATTACH;FMTTYPE=image/jpeg:https://europebookings.com/wp-content/uploads/rampage-open-air-festival-main-stage-view.jpg
END:VEVENT
BEGIN:VEVENT
DTSTART;VALUE=DATE:20250704
DTEND;VALUE=DATE:20250707
DTSTAMP:20260424T101049
CREATED:20200311T180015Z
LAST-MODIFIED:20250105T162132Z
UID:34391-1751587200-1751846399@europebookings.com
SUMMARY:RFM SOMNII
DESCRIPTION:Get TicketsAccommodationTravel Info\nRFM SOMNII 2025: The Ultimate Beach Party Experience in Portugal \nPrepare to immerse yourself in the electrifying atmosphere of RFM SOMNII 2025\, Portugal’s premier electronic music festival\, set to take place from 4th to 6th July 2025 at the stunning Praia do Relógio in Figueira da Foz. \nCelebrating its 11th edition\, RFM SOMNII has earned its reputation as “The Biggest Sunset Ever\,” attracting music enthusiasts from around the globe to the sun-kissed beaches of Portugal. This year’s festival promises an unforgettable experience with a stellar line-up of world-renowned DJs and producers. \nKicking off the festivities on 4th July\, Dutch DJ and producer Maddix\, known as the “Techno-Rave King\,” will make his debut at RFM SOMNII\, delivering his signature high-energy techno beats that have captivated audiences worldwide. \nOn 5th July\, the legendary Steve Aoki takes the stage\, bringing his electrifying performance style and chart-topping hits to the Portuguese shores. Aoki’s dynamic sets are renowned for their energy and crowd interaction\, making him a festival favourite. \nConcluding the festival on 6th July\, the hardstyle duo Rebelion will make their first appearance at RFM SOMNII\, promising to deliver a powerful and unforgettable performance that will leave attendees craving more. \nSet against the breathtaking backdrop of Figueira da Foz’s pristine beaches\, RFM SOMNII offers more than just music. Attendees can indulge in a variety of beach activities during the day\, including beach volleyball and surfing\, before dancing the night away to the pulsating beats of their favourite artists. \nJoin thousands of music lovers for three days of sun\, sea\, and sensational sounds at RFM SOMNII 2025. Experience the magic of “The Biggest Sunset Ever” and create memories that will last a lifetime. \n\nRFM SOMNII 2025 Lineup\nAll ArtistsSteve Aoki /  Rebellion / Maddix / more TBARFM SOMNII 2025 Tickets\n3-Day GA & VIP Tickets from €74.90 are on sale:\nTicketsRFM SOMNII\nvia Official SiteBookAccommodation\nCamping during the festival requires a Camping Ticket purchased here. All you need is basic camping gear\, like a tent\, a camping pad and a head torch (so useful in the night). \nAlternatively\, you can book nearby hotels and apartments using the map below or visit booking.com \nBook Hotels & Airbnbs near the Venue at the Lowest Price online!\n\nTravel Info\nBY CAR\nGet DirectionsBY BUS\nFrom Lisboa Oriente station take the bus to Figueira da Foz Station (2h 15min journey).\nFrom Porto Batalha Station take the bus to Figueira da Foz Station (1h 15min journey).\nThe venue is a short walk away from Figueira da Foz Station. \nBY TRAIN\nFrom Lisboa Oriente station\, take the train to Coimbra-B (1h 35min journey)\, followed by another to Figueira da Foz Station (1 hour journey).\nFrom Porto Campanha take the train to take the train to Coimbra-B (1 hour journey)\, and then another to Figueira da Foz Station (1 hour journey)\nThe venue is a short walk away from Figueira da Foz Station. \nBY PLANE\nFrom Lisbon Airport (LIS) take the subway from Aeroporto to Oriente (6 min journey). From Lisboa Oriente station\, take the train to Coimbra-B (1h 35min journey)\, followed by another to Figueira da Foz Station (1 hour journey) a short walk away from the venue. \nFrom Porto Airport (OPO) take the subway to Senhora da Hora station (14 min journey) and then change the subway to Campanha Station (19 min journey). From Porto Campanha take the train to take the train to Coimbra-B (1 hour journey)\, and then another to Figueira da Foz Station (1 hour journey) a short walk away from the venue. \nBook FlightsAirport TransfersCar RentalsTrain/Bus Tickets\nGallery\nRelated Festivals\nAirbeat One Festival\n9 Jul – 13 Jul | Neustadt-Glewe\, Germany\nNature One Festival\n31 Jul – 3 Aug | Kastellaun\, Germany\n		\n			\n\n				\n				\n					Search for:
URL:https://europebookings.com/festival/rfm-somnii-festival/
LOCATION:Praia Do Relógio\, Praia Do Relógio\, Figueira da Foz\, 3080\, Portugal
CATEGORIES:EDM,Electronic,House
ATTACH;FMTTYPE=image/jpeg:https://europebookings.com/wp-content/uploads/rfm-somnii-festival-stage-fireworks-1.jpg
END:VEVENT
BEGIN:VEVENT
DTSTART;VALUE=DATE:20250706
DTEND;VALUE=DATE:20250712
DTSTAMP:20260424T101049
CREATED:20210830T151359Z
LAST-MODIFIED:20241028T112652Z
UID:47461-1751760000-1752278399@europebookings.com
SUMMARY:Dropzone Festival
DESCRIPTION:Get TicketsAccommodationTravel Info\nDropzone is a one of a kind gathering on Croatia’s Pag Island for Harder Styles fans from all over the world. \nGet ready for 6 days of outdoor pool parties\, boat raves\, crazy extra activities & insane main stage shows up close and personal with all your favourite artists\, live-acts\, hosting & more. Join thousands of international fanatics from sunset to sunrise! \nDropzone will\, without a doubt\, be the highlight of your summer in 2025. Pag’s iconic stretch of coastline and nightlife\, Zrće Beach\, has a deep-seated history of Hard Dance parties and will leave you speechless. \n\nDropzone Festival 2025 Lineup\nAll ArtistsAbaddon / Anderex / Art of Fighters / Aversion / Code Black / Chaotic Hostility / Cyber / D-Block & S-te-fan – Dr. Percock / Dual Damage / Jay Reeve / Joey riot / Kruelty / Partyraiser / Pie Star / Sparkz / Spiady / The Straikerz / Villain / Yoshiko / more TBADropzone Festival 2025 Tickets\nTickets & Packages from €139.00 are on sale:\nTicketsDropzone Festival\nvia Official SiteBookAccommodation\nThe city of Novalja and the island of Pag offer a wide range of accommodation options. Book your stay for Dropzone Festival using the map below or visit booking.com \nBook Hotels & Airbnbs near the Venue at the Lowest Price online!\n\nTravel Info\nBY CAR\nGet DirectionsBY BUS FROM ZADAR\nThere are a handful of buses running this route per day. It’s a shorter journey\, about 1hr 30 mins and BusCroatia will cost €10-15. \nFROM SPLIT\nThe best route from Split to Novalja is to take a taxi to nearby town of Trogir (approx. €25-30) and then take the bus to Zadar with BusCroatia (approx. €12-19). The journey lasts around 2 hrs 40 mins. From Zadar\, you will need take the bus to Novalja. \nBY PLANE\nThe nearest airport to the festival is Zadar Airport\, around 50km away\, and is served by destinations across much of Europe. Split airport is the largest in the south of Croatia\, just a few hours further down the coast. \nBook FlightsAirport TransfersCar RentalsTrain/Bus Tickets\nGallery\nRelated Festivals\nHideout Festival\n22 Jun – 26 Jun | Zrće Beach\, Novalja\, Croatia\nSonus Festival\n17 Aug – 21 Aug | Zrće Beach\, Novalja\, Croatia\n		\n			\n\n				\n				\n					Search for:
URL:https://europebookings.com/festival/dropzone-festival/
LOCATION:Zrće Beach\, Zrće Beach\, Novalja\, 53291\, Croatia (Local Name: Hrvatska)
CATEGORIES:Electronic,Hardstyle
ATTACH;FMTTYPE=image/jpeg:https://europebookings.com/wp-content/uploads/dropzone-festival-stage-lights-show.jpg
END:VEVENT
END:VCALENDAR