BEGIN:VCALENDAR
VERSION:2.0
PRODID:-//Europebookings - ECPv6.15.20//NONSGML v1.0//EN
CALSCALE:GREGORIAN
METHOD:PUBLISH
X-ORIGINAL-URL:https://europebookings.com
X-WR-CALDESC:Events for Europebookings
REFRESH-INTERVAL;VALUE=DURATION:PT1H
X-Robots-Tag:noindex
X-PUBLISHED-TTL:PT1H
BEGIN:VTIMEZONE
TZID:Asia/Nicosia
BEGIN:DAYLIGHT
TZOFFSETFROM:+0200
TZOFFSETTO:+0300
TZNAME:EEST
DTSTART:20240331T010000
END:DAYLIGHT
BEGIN:STANDARD
TZOFFSETFROM:+0300
TZOFFSETTO:+0200
TZNAME:EET
DTSTART:20241027T010000
END:STANDARD
BEGIN:DAYLIGHT
TZOFFSETFROM:+0200
TZOFFSETTO:+0300
TZNAME:EEST
DTSTART:20250330T010000
END:DAYLIGHT
BEGIN:STANDARD
TZOFFSETFROM:+0300
TZOFFSETTO:+0200
TZNAME:EET
DTSTART:20251026T010000
END:STANDARD
BEGIN:DAYLIGHT
TZOFFSETFROM:+0200
TZOFFSETTO:+0300
TZNAME:EEST
DTSTART:20260329T010000
END:DAYLIGHT
BEGIN:STANDARD
TZOFFSETFROM:+0300
TZOFFSETTO:+0200
TZNAME:EET
DTSTART:20261025T010000
END:STANDARD
END:VTIMEZONE
BEGIN:VEVENT
DTSTART;VALUE=DATE:20250706
DTEND;VALUE=DATE:20250712
DTSTAMP:20260424T113746
CREATED:20210830T151359Z
LAST-MODIFIED:20241028T112652Z
UID:47461-1751760000-1752278399@europebookings.com
SUMMARY:Dropzone Festival
DESCRIPTION:Get TicketsAccommodationTravel Info\nDropzone is a one of a kind gathering on Croatia’s Pag Island for Harder Styles fans from all over the world. \nGet ready for 6 days of outdoor pool parties\, boat raves\, crazy extra activities & insane main stage shows up close and personal with all your favourite artists\, live-acts\, hosting & more. Join thousands of international fanatics from sunset to sunrise! \nDropzone will\, without a doubt\, be the highlight of your summer in 2025. Pag’s iconic stretch of coastline and nightlife\, Zrće Beach\, has a deep-seated history of Hard Dance parties and will leave you speechless. \n\nDropzone Festival 2025 Lineup\nAll ArtistsAbaddon / Anderex / Art of Fighters / Aversion / Code Black / Chaotic Hostility / Cyber / D-Block & S-te-fan – Dr. Percock / Dual Damage / Jay Reeve / Joey riot / Kruelty / Partyraiser / Pie Star / Sparkz / Spiady / The Straikerz / Villain / Yoshiko / more TBADropzone Festival 2025 Tickets\nTickets & Packages from €139.00 are on sale:\nTicketsDropzone Festival\nvia Official SiteBookAccommodation\nThe city of Novalja and the island of Pag offer a wide range of accommodation options. Book your stay for Dropzone Festival using the map below or visit booking.com \nBook Hotels & Airbnbs near the Venue at the Lowest Price online!\n\nTravel Info\nBY CAR\nGet DirectionsBY BUS FROM ZADAR\nThere are a handful of buses running this route per day. It’s a shorter journey\, about 1hr 30 mins and BusCroatia will cost €10-15. \nFROM SPLIT\nThe best route from Split to Novalja is to take a taxi to nearby town of Trogir (approx. €25-30) and then take the bus to Zadar with BusCroatia (approx. €12-19). The journey lasts around 2 hrs 40 mins. From Zadar\, you will need take the bus to Novalja. \nBY PLANE\nThe nearest airport to the festival is Zadar Airport\, around 50km away\, and is served by destinations across much of Europe. Split airport is the largest in the south of Croatia\, just a few hours further down the coast. \nBook FlightsAirport TransfersCar RentalsTrain/Bus Tickets\nGallery\nRelated Festivals\nHideout Festival\n22 Jun – 26 Jun | Zrće Beach\, Novalja\, Croatia\nSonus Festival\n17 Aug – 21 Aug | Zrće Beach\, Novalja\, Croatia\n		\n			\n\n				\n				\n					Search for:
URL:https://europebookings.com/festival/dropzone-festival/
LOCATION:Zrće Beach\, Zrće Beach\, Novalja\, 53291\, Croatia (Local Name: Hrvatska)
CATEGORIES:Electronic,Hardstyle
ATTACH;FMTTYPE=image/jpeg:https://europebookings.com/wp-content/uploads/dropzone-festival-stage-lights-show.jpg
END:VEVENT
BEGIN:VEVENT
DTSTART;VALUE=DATE:20250710
DTEND;VALUE=DATE:20250714
DTSTAMP:20260424T113747
CREATED:20180608T175248Z
LAST-MODIFIED:20250130T135947Z
UID:13798-1752105600-1752451199@europebookings.com
SUMMARY:Noisily Festival
DESCRIPTION:Get TicketsAccommodationTravel Info\nNoisily Festival is an electronic music and arts festival inside Leicestershire’s intimate Coney Woods\, each year curating a weekend of hedonism and escapism in the company of musicians\, artists\, performers and dancers. \nJump into this wild woodland wonderland and find a musical lineup that ranges from bassline to psytrance via house and techno\, all showcased amongst innovative art installations\, immersive workshops\, surreal visuals\, and quirky bars and stages. \nNoisily Festival doesn’t take itself too seriously\, and neither do the 4\,000 people who descend on The Coney Woods each July. It’s fun in all its forms\, pure and unadulterated. Offering an alternative to mainstream festival culture\, an inclusive haven where underground music thrives and self expression flourishes. \nWhilst rooted in the electronic music scenes\, Noisily Festival is a holistic environment which feeds the mind\, body and soul. It’s a celebration of psychedelic culture in a society which is increasingly looking within for happiness and fulfilment\, and away from material goods and money as the definition of success. \n\nNoisily Festival 2025 Lineup\nAll Artists & Stages\nNoisily Stage\nAlan fitzpatrick / Anonynous funk Odyssey / Beyong The Struttosphere / Britta Arnold / Chris Liberator b2b D.A.V.E. The Drummer / D-Nox & Beckers / Dave Seaman / Hannes Bieger / Judith Van Waterkant / Just Emma / Just Her / Khainz / Lize / MHA IRI / Nanoplex / Redfreya / Teenage Mutants / Victor Ruiz b2b Alex Stein / Zigmon \nLiquid Stage\nAardvarkk / Altruism / Atia / Burn in Noise / Digoa / Evil Oil Man / Fernana Pistelli / Florescence / Hamish / Hyperdrine / John OO Fleming / Kellartrax / Martian Arts / Miles From Anywhere / Montez / Neutron / OOOD / Phobos / Pogo / Rinkadink / Sensient / Typeone / Zen Mechanics \nTreehouse Stage\nANT TC1 / Bakey / Bazuka / Benny L / Breakfake / Bubski / Capo Lee / Central Beatz X Intuition Music / Chinese Daughter / Dawsons Kriek / Dj Love / Dj Storm / Donsurf b2b Kasia / D’Itch / Exodus / Freshta / Goldie / Iration Steppas / Krotone / License To Jungle / Lioness Power / MC GQ / Medic MC / Mixtress / Nancy June b2b Buckley / Rea b2b Burna / Samurai Breaks / Silva Bumpa / Silva Snipa / Sir Hiss b2b Harpriya / Skeptical / Speed Wax / VXRGONoisily Festival 2025 Tickets\nFestival Tickets from £230.00 (€274.58) are on sale:\nPayment Plan Available\nTicketsNoisily Festival\nvia TicketmasterBookAccommodation\nCamping during the festival is included with your festival ticket\, so all you need is basic camping gear\, like a tent\, a camping pad and a head torch (so useful in the night). If you don’t want to bring your own tent\, the festival offers Boutique Camping options. \nAlternatively\, you can book nearby hotels & apartments using the map below or visit booking.com. \nBook Hotels & Airbnbs near the Venue at the Lowest Price online!\n\nTravel Info\nBY CAR\nParking is available and tickets can be purchased here \nGet DirectionsBY TRAIN\nIf you plan to travel by rail either from (or via) London\, you can take an East Midland service from St. Pancras to Market Harborough. It’s then a 20 minute taxi ride on to the festival site. \nIf travelling from north of Leicester\, you can either travel into Birmingham or Leicester. The latter is a 25 minute taxi ride away. \nBY PLANE\nIf you plan to fly\, the nearest international airport is Birmingham. From the airport\, you should take a train into Birmingham New Street station before boarding a CrossCountry service out South Wigston. The festival site is then a 25 minute taxi ride away. \nBook FlightsAirport TransfersCar RentalsTrain/Bus Tickets\nGallery\nRelated Festivals\nBurning Mountain Festival\n25 Jun – 28 Jun | Zernez\, Switzerland\nIndian Spirit Festival\n26 Aug – 31 Aug | Eldena\, Germany\n		\n			\n\n				\n				\n					Search for:
URL:https://europebookings.com/festival/noisily-festival/
LOCATION:Noseley Hall\, Noseley Hall\, Leicester\, LE7 9EH\, United Kingdom
CATEGORIES:Electronic,House,Psytrance,Techno,Trance
ATTACH;FMTTYPE=image/jpeg:https://europebookings.com/wp-content/uploads/noisily-festival-fans-dancing.jpg
END:VEVENT
BEGIN:VEVENT
DTSTART;VALUE=DATE:20250710
DTEND;VALUE=DATE:20250714
DTSTAMP:20260424T113747
CREATED:20190503T152446Z
LAST-MODIFIED:20250205T150515Z
UID:19925-1752105600-1752451199@europebookings.com
SUMMARY:EXIT Festival
DESCRIPTION:Get TicketsAccommodationTravel Info\nExit Festival 2025 is set to ignite the historic Petrovaradin Fortress in Novi Sad\, Serbia\, from July 10-13. Celebrated as one of Europe’s most iconic music festivals\, Exit seamlessly blends a diverse lineup with a rich cultural experience\, drawing music enthusiasts from around the globe. \nThis year’s edition marks a milestone\, celebrating the festival’s enduring legacy of bringing world-class music to a unique setting. The lineup features an eclectic mix of genres\, with headliners spanning rock\, pop\, electronic\, and hip-hop. Previous editions have seen performances by acts like The Cure\, David Guetta\, and Solomun\, ensuring an unforgettable experience for attendees. \nWhat sets Exit apart is its commitment to combining music with activism\, promoting social change and sustainability. The festival’s breathtaking location\, coupled with its top-tier production and vibrant atmosphere\, creates an immersive experience that resonates with all who attend. Whether you’re dancing under the stars or exploring the fortress’s hidden corners\, Exit Festival offers a unique blend of music\, history\, and culture. \n\nEXIT Festival 2025 Lineup\nAll ArtistsCosmic G / Dejan Milićević / Drop Sensei / Dyen b2b Nico Moreno / Džoni Midnajt Trio / Eric Prydz / Gloryhammer / Hobin Rude / Hurts / Indira Paganotto / KI/KI / Loreen / Lower Parts of Human Sludge / Meryl Streek / Ocean of Another / Public Serpents / Runy / Sara Landry / Sex Pistols featuring Frank Carter / The Boomtown Rats / The Drowns / Tiësto / Total Chaos / VLKN / more TBAEXIT Festival 2025 Tickets\nRegular & VIP Tickets from €100.00 are on sale:\nTicketsEXIT Festival\nvia Official SiteBookAccommodation\nCamping during the festival requires a Camping Pass purchased here. All you will need is basic camping gear\, like a tent\, a camping pad and a head torch (so useful in the night). If you don’t want to bring your own tent\, the festival offers Pre-pitched tens & Glamping options here \nAlternatively\, you can book nearby hotels and apartments using the map below or visit booking.com \nBook Hotels & Airbnbs near the Venue at the Lowest Price online!\n\nTravel Info\nBY CAR\nGet DirectionsBY TRAIN\nThere is an efficient and good value train service from Belgrade direct to Novi Sad\, with journeys taking around 2 hours. \nBY SHUTTLE\nShuttles to EXIT from Belgrade and Budapest Airports can be purchased via the official website here \nBY PLANE\nNikola Tesla Airport (BEG) is well served with international and domestic flights and is 80km away from Novi Sad. You can then take the bus or taxi to Belgrade Train Station and from there take the train to Novi Sad. \nBook FlightsAirport TransfersCar RentalsTrain/Bus Tickets\nGallery\nRelated Festivals\nParklife Festival\n13 – 15 Jun | Manchester\, UK\nIsle of Wight Festival\n19 Jun – 22 Jun | Newport\, UK\n		\n			\n\n				\n				\n					Search for:
URL:https://europebookings.com/festival/exit-festival/
LOCATION:Petrovaradin Fortress\, Petrovaradin Fortress\, Novi Sad\, 21131\, Serbia
CATEGORIES:EDM,Electronic,Hip Hop,Multi-Genre,Rock
ATTACH;FMTTYPE=image/jpeg:https://europebookings.com/wp-content/uploads/exit-festival-fireworks.jpg
END:VEVENT
BEGIN:VEVENT
DTSTART;VALUE=DATE:20250711
DTEND;VALUE=DATE:20250713
DTSTAMP:20260424T113747
CREATED:20210112T182825Z
LAST-MODIFIED:20250314T173834Z
UID:42618-1752192000-1752364799@europebookings.com
SUMMARY:Peacock Society Festival
DESCRIPTION:Get TicketsAccommodationTravel Info\nThe Peacock Society Festival 2025 is set to electrify Paris on 11th and 12th July 2025 at the historic Hippodrome Paris-Vincennes. This iconic venue\, established in 1863\, will transform into a vibrant playground for electronic music enthusiasts\, offering over 40\,000 square meters of immersive experiences. \nThe festival boasts an impressive lineup\, featuring renowned acts such as Underworld (live) and Brutalismus 3000 (live) on Friday\, followed by Parcels\, Charlotte de Witte\, and Joy Orbison on Saturday. In total\, more than 30 artists will perform over the two days\, showcasing a diverse range of electronic music genres from techno to disco. \nAttendees can look forward to a comprehensive festival experience that includes not only stellar musical performances but also engaging talks\, delectable food offerings\, captivating art installations\, and even comedy acts. The event is committed to creating a safe and inclusive environment for all participants. For detailed information on the lineup\, ticketing\, and practicalities\, visit the official festival website. \nJoin the Peacock Society Festival 2025 for an unforgettable weekend celebrating the best of electronic music and culture in the heart of Paris. \n\nThe Peacock Society 2025 Lineup\nAll Artists & Program\nFri 11 Jul 2025\nBelaria b2b Olympe4000 / Brutalismus 3000 (Live) / Underworld (Live) / ¥ØU$UK€ ¥UK1MAT$U \nSat 12 Jul 2025\nAmne / Badsista / Camporeale / Carista / Charlotte / Charlotte de Witte / DJ Heartstring / DJ Travella / Erna b2b Egna / François X (A/V Show) / Job Jobse / Joy Orbison / Kaba & Hyas (Live) / KI/KI / Melody / MZA / Nene H / Pureblast (Live) / Tatie Dee (Live) / Vel (Live)Peacock Society 2025 Tickets\n1-Day & 2-Day Tickets from €44.00 are on sale:\nTicketsThe Peacock Society\nvia Official SiteBookAccommodation\nThe city of Paris offers a wide range of accommodation options. Book your stay using the map below or visit booking.com \nBook Hotels & Airbnbs near the Venue at the Lowest Price online!\n\nTravel Info\nBY CAR\nGet DirectionsBY TRAIN\nParis is well connected by rail in France and major European cities. From Gare du Nord take the subway to Place d’Italie (20 min journey). Parc de Choisy is 600 meters away. \nBY PLANE\nFrom Paris-Charles de Gaulle (CDG) take the train to Denfert Rochereau (46 min journey) and from there take the subway to Place d’Italie (5 min journey). Parc de Choisy is 600 meters away.\nFrom Paris Orly Airport (ORY) take the tram to Villejuif – Louis Aragon (48 min journey) and from there take the subway to Tolbiac (9 min journey). Parc de Choisy is 400 meters away. \nBook FlightsAirport TransfersCar RentalsTrain/Bus Tickets\nGallery\nRelated Festivals\nKappa Futur Festival\n4 Jul – 6 Jul | Turin\, Italy\nUltra Europe Festival\n11 Jul – 13 Jul | Split\, Croatia\n		\n			\n\n				\n				\n					Search for:
URL:https://europebookings.com/festival/the-peacock-society/
LOCATION:Parc de Choisy\, Parc de Choisy\, Paris\, 75013\, France
CATEGORIES:Electronic,House,Techno
ATTACH;FMTTYPE=image/jpeg:https://europebookings.com/wp-content/uploads/the-peacock-society-festival-stage-lights-show.jpg
END:VEVENT
BEGIN:VEVENT
DTSTART;VALUE=DATE:20250711
DTEND;VALUE=DATE:20250714
DTSTAMP:20260424T113747
CREATED:20230314T211239Z
LAST-MODIFIED:20250219T123118Z
UID:68967-1752192000-1752451199@europebookings.com
SUMMARY:Wireless Festival
DESCRIPTION:Get TicketsAccommodationTravel Info\nWireless Festival 2025: Celebrating 20 Years of Urban Music Excellence \nMarking its 20th anniversary\, the Wireless Festival is set to return to London’s Finsbury Park from 11th to 13th July 2025. Over the past two decades\, Wireless has established itself as the UK’s premier urban music festival\, consistently delivering a dynamic mix of hip-hop\, R&B\, and grime. \nWhile the official line-up for 2025 remains under wraps\, the festival’s history of featuring top-tier artists such as Drake\, Rihanna\, Jay-Z\, and Kendrick Lamar sets high expectations for another stellar roster. Fans are eagerly anticipating announcements\, with hopes for performances by contemporary icons like Drake\, Kendrick Lamar\, and PinkPantheress. \nSet within the expansive grounds of Finsbury Park\, Wireless offers an immersive experience with multiple stages\, each showcasing a blend of international superstars and emerging talents. The festival’s urban setting provides easy access via public transport\, making it a convenient destination for music enthusiasts from across the UK and beyond. \nJoin thousands of music lovers in celebrating two decades of Wireless Festival—a journey that has shaped the UK’s urban music landscape and continues to set the standard for live music experiences. Stay tuned for forthcoming announcements and prepare to be part of this historic event in July 2025. \n\nWireless Festival 2025 Lineup\nAll Artists & Program\nFri 11 Jul 2025\nDrake / Summer Walker / PARTYNEXTDOOR \nSat 12 Jul 2025\nDrake / The Mandem \nSun 13 Jul 2025\nDrake / Burna Boy / VYBZ KartelWireless Festival 2025 Tickets\nDay\, 2-Day & 3-Day Tickets from £157.00 (€189.49) are on sale:\nTicketsWireless Festival\nvia TicketmasterBookAccommodation\nThe city of London offers a wide range of accommodation options. Book your stay for Wireless Festival using the map below or visit booking.com \nBook Hotels & Airbnbs near the Venue at the Lowest Price online!\n\nTravel Info\nBY CAR\nThere is no public car parking at Wireless Festival Finsbury Park. Use public transport where possible. \nGet DirectionsBY TRAIN\nFinsbury Park Underground Station will be very busy with long queues. Use Manor House Station or take National Rail Services from Finsbury Park Station and be at Kings Cross in only 6 minutes. \nBY TUBE\nThe quickest tube/train journeys will be\n1. Piccadilly Line – Manor House Station\n2. Victoria Line – Finsbury Park Station (or Manor House where you will take Piccadilly Line one stop and change at Finsbury Park Station to avoid queues)\n3. Trains to Kings Cross/Moorgate – Finsbury Park Rail Station \nBY BUS\nBus routes 4\, 19\, 29\, 106\, 141\, 153\, 210\,236\, 253\, 254\, 259\, 279\, 341\, W3\, W7 all service Finsbury Park. However\, due to the event\, diversions will be in place and different stops will be served. \nBIG GREEN COACH\nPick-up locations: Birmingham\, Bournemouth\, Brighton\, Bristol\, Canterbury\, Chelmsford\, Colchester\, Coventry\, Crawley\, Dover\, Gillingham\, Guildford\, Ipswich\, Norwich\, Portsmouth\, Reading\, Southampton\, Swindon. Tickets to be announced soon: \nBY UBER\nDownload and open the Uber app\, type ‘Finsbury Park’ into the ‘Where to?’ section\, and your ride will be with you in minutes. No cash needed. If you’re with your whole crew\, you can select UberXL to get your group of 6 to Wireless Fest in style. \nBY PLANE\nAll of London’s airports have easy connections into the city. \nBook FlightsAirport TransfersCar RentalsTrain/Bus Tickets\nGallery\nRelated Festivals\nHeroes Festival\n20 Jun – 21 Jun | Geiselwind\, Germany\nMarsatac Festival\n13 Jun – 15 Jun | Marseille\, France\n		\n			\n\n				\n				\n					Search for:
URL:https://europebookings.com/festival/wireless-festival/
LOCATION:Finsbury Park\, Endymion Road\, London\, N4\, United Kingdom
CATEGORIES:Electronic,Hip Hop,Pop,Urban
ATTACH;FMTTYPE=image/jpeg:https://europebookings.com/wp-content/uploads/wireless-festival-stage-fireworks.jpg
END:VEVENT
END:VCALENDAR