BEGIN:VCALENDAR
VERSION:2.0
PRODID:-//Europebookings - ECPv6.15.20//NONSGML v1.0//EN
CALSCALE:GREGORIAN
METHOD:PUBLISH
X-ORIGINAL-URL:https://europebookings.com
X-WR-CALDESC:Events for Europebookings
REFRESH-INTERVAL;VALUE=DURATION:PT1H
X-Robots-Tag:noindex
X-PUBLISHED-TTL:PT1H
BEGIN:VTIMEZONE
TZID:Asia/Nicosia
BEGIN:DAYLIGHT
TZOFFSETFROM:+0200
TZOFFSETTO:+0300
TZNAME:EEST
DTSTART:20240331T010000
END:DAYLIGHT
BEGIN:STANDARD
TZOFFSETFROM:+0300
TZOFFSETTO:+0200
TZNAME:EET
DTSTART:20241027T010000
END:STANDARD
BEGIN:DAYLIGHT
TZOFFSETFROM:+0200
TZOFFSETTO:+0300
TZNAME:EEST
DTSTART:20250330T010000
END:DAYLIGHT
BEGIN:STANDARD
TZOFFSETFROM:+0300
TZOFFSETTO:+0200
TZNAME:EET
DTSTART:20251026T010000
END:STANDARD
BEGIN:DAYLIGHT
TZOFFSETFROM:+0200
TZOFFSETTO:+0300
TZNAME:EEST
DTSTART:20260329T010000
END:DAYLIGHT
BEGIN:STANDARD
TZOFFSETFROM:+0300
TZOFFSETTO:+0200
TZNAME:EET
DTSTART:20261025T010000
END:STANDARD
END:VTIMEZONE
BEGIN:VEVENT
DTSTART;VALUE=DATE:20250724
DTEND;VALUE=DATE:20250727
DTSTAMP:20260424T113753
CREATED:20250211T151324Z
LAST-MODIFIED:20250211T153803Z
UID:83102-1753315200-1753574399@europebookings.com
SUMMARY:B my Lake Festival
DESCRIPTION:Get TicketsAccommodationTravel Info\nB my Lake Festival 2025: A New Chapter in Hungary’s Electronic Music Scene \nFrom 24th to 26th July 2025\, electronic music enthusiasts will converge on the picturesque shores of Lake Velence in Hungary for the much-anticipated B my Lake Festival. Celebrated for its dedication to underground electronic sounds\, this festival has become a cornerstone of Europe’s summer music circuit. This year marks a significant evolution as the event relocates to Velence’s North Beach\, promising attendees a fresh and invigorating experience. \nSince its inception in 2013\, B my Lake has garnered acclaim for its meticulously curated line-ups\, featuring a blend of techno\, house\, and progressive electronic artists. While the 2025 roster is yet to be unveiled\, organisers have hinted at nearly 100 DJs gracing the stages\, including prominent international figures in the electronic music scene. Past editions have seen performances by luminaries such as Amelie Lens\, Richie Hawtin\, and Sven Väth\, setting high expectations for this year’s announcements. \nThe festival’s new setting in Velence offers a harmonious blend of natural beauty and accessibility. Located just a short drive from Budapest\, Lake Velence provides a serene backdrop for the festival’s dynamic performances. Attendees can look forward to immersive musical experiences complemented by the opportunity to relax on sandy beaches and enjoy the tranquil waters. The local community eagerly anticipates the festival’s arrival\, with expectations that it will bolster tourism and showcase Velence as a premier destination for music lovers. \nAs the festival dates approach\, excitement is building for what promises to be a landmark event in Hungary’s summer calendar. With its rich history of delivering unparalleled electronic music experiences\, B my Lake Festival 2025 is poised to offer attendees an unforgettable journey into the heart of underground sound. Stay tuned for forthcoming line-up announcements and prepare to be part of this extraordinary celebration of music and culture. \n\nB my Lake Festival 2025 Lineup\nLineup to be announced soon: \nB my Lake Festival 2025 Tickets\nLineup to be announced soon:\nTicketsB my Lake\nComing SoonBookAccommodation\nThe city of London offers a wide range of accommodation options. Book your stay for Junction 2 Festival using the map below or visit booking.com \nBook Hotels & Airbnbs at the lowest Price online!\n\nTravel Info\nBY CAR\nGet DirectionsBY TRAIN\nVelence is well-connected to Budapest by train. Hungarian State Railways (MÁV) operates hourly services from Budapest-Déli Railway Station to Velence\, with an average journey time of approximately 43 min. \nBY PLANE\nBudapest Ferenc Liszt International Airport (BUD) is the closest to the venue. From there take the bus or a taxi to Kőbánya-Kispest station and from there take the train to Velence. \nBook FlightsAirport TransfersCar RentalsTrain/Bus Tickets\nGallery\nRelated Festivals\nKappa Futur Festival\n4 Jul – 6 Jul | Turin\, Italy\nUltra Europe Festival\n11 Jul – 13 Jul | Split\, Croatia\n		\n			\n\n				\n				\n					Search for:
URL:https://europebookings.com/festival/b-my-lake-festival/
LOCATION:Velence\, Velence\, 2481\, Hungary
CATEGORIES:Electronic,Techno
ATTACH;FMTTYPE=image/jpeg:https://europebookings.com/wp-content/uploads/b-my-lake-festival-dancing.jpg
END:VEVENT
BEGIN:VEVENT
DTSTART;VALUE=DATE:20250724
DTEND;VALUE=DATE:20250728
DTSTAMP:20260424T113753
CREATED:20210405T222137Z
LAST-MODIFIED:20240317T172331Z
UID:43652-1753315200-1753660799@europebookings.com
SUMMARY:Standon Calling
DESCRIPTION:Get TicketsAccommodationTravel Info\nStandon Calling is a boutique music and arts festival. Starting life as a birthday garden party in the beautiful Hertfordshire countryside\, the event has blossomed and evolved over the years. Now held across four jam-packed days in July\, many festival goers return year after year. \nYou can always expect the Standon Calling line-up to be full of big names as well as emerging artists. Past years have brought headliners such as Rag’n’Bone Man\, Lewis Capaldi\, George Ezra and Grace Jones alongside the hottest newcomers. Early editions of the festival featured the likes of Florence + the Machine\, Bastille and IDLES when they were at the start of their careers. \nStandon Calling is famous for its friendly atmosphere and family programme. There are plenty of activities for everyone from babies to teens. In addition\, you’ll find top comedy acts\, interactive workshops\, inspiring talks and dancing all night. That’s not to mention an incredible array of food and carnival rides – plus hot tubs\, a swimming pool and much more! \nEnjoy the festival to its fullest with Standon Calling’s wide-ranging camping options. From general\, family and quiet campsites to boutique camping and Lavish Lands\, there’s something for every taste. \nWhat’s more\, each summer Standon Calling boasts a fun new theme and attendees are known for going all out during the annual costume parade. Dogs are welcome too\, so prepare to be charmed by the annual dog show. \n\nStandon Calling 2025 Lineup\nLineup to be announced soon: \n2023 Lineup\nThu 20 July 2023\nKT TUNSTALL / THE CUBAN BROTHERS / THE HUMAN LEAGUE \nFri 21 July 2023\nANASTACIA / DYLAN / FLOWEROVLOVE / GIRLS DON’T SYNC / JAGUAR / KATY B / QUEER HOUSE PARTY / SPRINTS / SQUID / STONE / YEARS AND YEARS \nSat 22 July 2023\nAYRTN / BOB VYLAN / CONFIDENCE MAN / FAITHLESS DJ SET / GIRLS OF THE INTERNET / HOUSE GOSPEL CHOIR / LF SYSTEM / LYNKS / SAD NIGHT DYNAMITE / SELF ESTEEM \nSun 23 July 2023\nBLOC PARTY / BOWIE DISCO BY FEELING GLOOMY / DENNIS BOVELL MBE / DJ PAULETTE / EROL ALKAN / GROOVE ARMADA DJ SET / MELANIE C \n+ more artists TBAStandon Calling 2025 Tickets\nTickets to be announced soon:\nTicketsStandon Calling\nvia TicketmasterBookAccommodation\nCamping during the festival requires a Weekend Camping Ticket purchased here. All you need is basic camping gear\, like a tent\, a camping pad and a head torch (so useful in the night). If you don’t want to bring your own tent the festival offers Premium Camping options purchased here \nAlternatively\, you can book nearby hotels & holiday rentals using the map below or visit booking.com \nBooking.comBook Hotels & Airbnbs near the Venue at the Lowest Price online!\n\nTravel Info\nBY CAR\nParking is available and tickets can be purchased here \nGet DirectionsBY TRAIN\nStandon is well connected by rail in the United Kingdom. Nearest stations include Ware\, Bishop’s Stortford\, Hertford North and Hertford East. \nBY TAXI\nThere are taxi ranks located at Bishop’s Stortford and Hertford North stations. \nBY BIKE\nThere is a bike rack situated at the main gate of the festival. \nBook FlightsAirport TransfersCar RentalsTrain/Bus Tickets\nGallery
URL:https://europebookings.com/festival/standon-calling/
LOCATION:Standon Lordship\, Standon Calling\, Standon\, SG11 1PR\, United Kingdom
CATEGORIES:Electronic,Indie,Multi-Genre,Pop,Rock
ATTACH;FMTTYPE=image/jpeg:https://europebookings.com/wp-content/uploads/standon-calling-festival-main-stage-lights-show.jpg
END:VEVENT
BEGIN:VEVENT
DTSTART;VALUE=DATE:20250725
DTEND;VALUE=DATE:20250728
DTSTAMP:20260424T113753
CREATED:20190526T212556Z
LAST-MODIFIED:20250208T100814Z
UID:20263-1753401600-1753660799@europebookings.com
SUMMARY:Liquicity Festival
DESCRIPTION:Get TicketsAccommodationTravel Info\nLiquicity Festival 2025: A Dream for Drum & Bass Lovers \nMark your calendars for Liquicity Festival 2025\, happening from July 25-27 at Geestmerambacht\, Netherlands. Known as the ultimate liquid drum & bass gathering\, this festival attracts fans from around the world with its high-energy performances\, stunning visuals\, and a welcoming atmosphere. Set against the scenic lakeside backdrop\, Liquicity Festival delivers a unique combination of euphoric beats and natural beauty. \nThe 2025 edition promises another unbeatable lineup of the biggest names in liquid drum & bass\, with past editions featuring stars like Netsky\, Wilkinson\, and Hybrid Minds. Whether you’re a seasoned festival-goer or experiencing Liquicity for the first time\, the electrifying performances across multiple stages guarantee an unforgettable experience for all attendees. \nWhat sets Liquicity apart is its inclusive\, community-driven spirit. Festival-goers can enjoy not only world-class music but also art installations\, workshops\, and countless activities to create a truly immersive experience. Don’t miss your chance to join the Liquicity family—grab your tickets now and dive into a weekend of pure drum & bass bliss! \n\nLiquicity Festival 2025 Lineup\nAll Artists1991 / A-Flex / Æonmode / Aktive / Andromedik / Arcando / Artino / Auris / Bastion / Black Sun Empire / Blossom / Camo & Krooked / Circadian / Coben / Crash Comet / Curious Mind / Dimension / Dylan Purser / Elipsa / Fade Black / Flava D / Flint & Figure / Fred V / Grafix / Hiraeth / Issey Cross / Jamezy / K Motionz / Koven / Lexurus / London Elektricity / LSB & DRS / Makoto / Method / Metrik / Miesfm / Mod / Natus / Niskerone / Oneiroi / Pendulum / Primate / Riya / Rueben / Rusko / Skeptical / Sota / Sub Focus / Surreal / Technimatic / Vibe Chemistry / Waeys / Yue / and many moreLiquicity Festival 2025 Tickets\n1-Day & Weekend Tickets from €74.99 are on sale:\nTicketsLiquicity Festival\nvia Official SiteBookAccommodation\nCamping during the festival is included in the festival ticket. All you need is basic camping gear\, like a tent\, a camping pad and a head torch (so useful in the night). If you don’t want to bring your own tent\, the festival offers pre-pitched tents with extra comfort. \nAlternatively\, you can book nearby hotels and apartments using the map below or visit booking.com \nBook Hotels & Airbnbs near the Venue at the Lowest Price online!\n\nTravel Info\nBY CAR\nParking is availabel and tickets can be purchased here \nGet DirectionsBY TRAIN\nThe easiest way to reach the festival is to get a train to Alkmaar station\, where there festival will be running shuttle buses to the festival site. Train run direct to Alkmaar from Amsterdam and Zaandam. \nBY SHUTTLE BUS\nTake the Liquicity bus from Alkmaar Station to the festival and back. The shuttle busses depart from the north side of Alkmaar Station. Tickets can be purchased here \nBY PLANE\nAmsterdam Schiphol Airport (AMS) is the closest to the festival. Take the train from Schiphol Airport to Zaandam station. Take the train from Zaandam station to Alkmaar station (45 min journey).\nFrom Eindhoven Airport (EIN) take the bus to Station Eindhoven and from there take the train to Alkmaar station (2 hours journey). \nBook FlightsAirport TransfersCar RentalsTrain/Bus Tickets\nGallery\nRelated Festivals\nLand Beyond Festival\n2 May – 4 May | Brighton\, UK\nLet It Roll Festival\n31 Jul – 2 Aug | Milovice\, Czechia\n		\n			\n\n				\n				\n					Search for:
URL:https://europebookings.com/festival/liquicity-festival/
LOCATION:Geestmerambacht\, Wagenweg 16\, Oudkarspel\, 1724 PT\, Netherlands
CATEGORIES:Drum & Bass,Electronic
ATTACH;FMTTYPE=image/jpeg:https://europebookings.com/wp-content/uploads/liquicity-festival-performing-1.jpg
END:VEVENT
END:VCALENDAR