BEGIN:VCALENDAR
VERSION:2.0
PRODID:-//Europebookings - ECPv6.15.20//NONSGML v1.0//EN
CALSCALE:GREGORIAN
METHOD:PUBLISH
X-WR-CALNAME:Europebookings
X-ORIGINAL-URL:https://europebookings.com
X-WR-CALDESC:Events for Europebookings
REFRESH-INTERVAL;VALUE=DURATION:PT1H
X-Robots-Tag:noindex
X-PUBLISHED-TTL:PT1H
BEGIN:VTIMEZONE
TZID:Asia/Nicosia
BEGIN:DAYLIGHT
TZOFFSETFROM:+0200
TZOFFSETTO:+0300
TZNAME:EEST
DTSTART:20240331T010000
END:DAYLIGHT
BEGIN:STANDARD
TZOFFSETFROM:+0300
TZOFFSETTO:+0200
TZNAME:EET
DTSTART:20241027T010000
END:STANDARD
BEGIN:DAYLIGHT
TZOFFSETFROM:+0200
TZOFFSETTO:+0300
TZNAME:EEST
DTSTART:20250330T010000
END:DAYLIGHT
BEGIN:STANDARD
TZOFFSETFROM:+0300
TZOFFSETTO:+0200
TZNAME:EET
DTSTART:20251026T010000
END:STANDARD
BEGIN:DAYLIGHT
TZOFFSETFROM:+0200
TZOFFSETTO:+0300
TZNAME:EEST
DTSTART:20260329T010000
END:DAYLIGHT
BEGIN:STANDARD
TZOFFSETFROM:+0300
TZOFFSETTO:+0200
TZNAME:EET
DTSTART:20261025T010000
END:STANDARD
BEGIN:DAYLIGHT
TZOFFSETFROM:+0200
TZOFFSETTO:+0300
TZNAME:EEST
DTSTART:20270328T010000
END:DAYLIGHT
BEGIN:STANDARD
TZOFFSETFROM:+0300
TZOFFSETTO:+0200
TZNAME:EET
DTSTART:20271031T010000
END:STANDARD
END:VTIMEZONE
BEGIN:VEVENT
DTSTART;VALUE=DATE:20250817
DTEND;VALUE=DATE:20250825
DTSTAMP:20260424T084052
CREATED:20220504T122117Z
LAST-MODIFIED:20250213T135528Z
UID:55026-1755388800-1756079999@europebookings.com
SUMMARY:Shapes Festival Zakynthos
DESCRIPTION:Get TicketsAccommodationTravel Info\nShapes Festival Zakynthos 2025: A Mediterranean Musical Odyssey \nPrepare to immerse yourself in a week-long celebration of music\, sun\, and culture at Shapes Festival Zakynthos 2025\, scheduled from 17th to 24th August 2025 on the breathtaking Greek island of Zakynthos. As part of the globe-trotting Shapes Festival series\, this event is renowned for its eclectic mix of house\, techno\, jazz\, and electronic music\, set against the stunning backdrop of the Ionian Sea. \nThe festival’s programme spans multiple venues across the island\, each offering a unique atmosphere. Beach enthusiasts can enjoy daytime parties at venues like Nōe Beach Club on Mavratzis Beach and Palm Exclusive Beach Park in Vasilikos\, where crystal-clear waters and silky white sands create a paradisiacal setting. As night falls\, the energy shifts to iconic spots such as Marlen in Argassi\, Barrage Club & Garden near Zakynthos Town\, and the hilltop Movida Sky Bar\, providing diverse environments to suit every musical taste. \nA highlight of the festival is the Sunset Boat Party\, departing from Zakynthos Town Harbour. This seafaring adventure offers attendees the chance to dance to curated sets while cruising the azure waters\, witnessing the sun dip below the horizon—a truly unforgettable experience. \nWhile the 2025 lineup is yet to be announced\, previous editions have featured acclaimed artists such as Louie Vega\, Ron Trent\, CC:DISCO!\, and Osunlade\, setting high expectations for this year’s roster. Attendees can anticipate a thoughtfully curated selection of DJs and live acts that push the boundaries of quality music and original party vibes. \nAccommodation options on the island are plentiful\, ranging from hotels and apartments to villas and studios. However\, due to the festival’s popularity and the busy tourist season\, early booking is highly recommended. Staying in Argassi or Zakynthos Town is advisable\, as most nighttime events are concentrated in these areas. \nJoin fellow music lovers from around the globe for an unforgettable week of sun-soaked days\, electrifying nights\, and the unparalleled beauty of Zakynthos at Shapes Festival 2025. \n\nShapes Festival Zakynthos 2025 Lineup\nAll ArtistsAsh Lauryn / Chez Reel / Henkrik Schwarz / Jamie 3:26 / Kristelle / Lex & Locke / Musclecars / Nickodemus & Nappy G / The Ritual with Anane Y Louie Vega / Thiago Rosa / Turntables on Hudson / and many moreShapes Festival Zakynthos 2025 Tickets\nWeekend & Festival Pass Tickets from €69.00 are on sale:\nTicketsShapes Festival Zakynthos\nvia Official SiteBookAccommodation\nThe festival recommends to stay near the city of Argasi\, which offers a wide range of accommodation options. Book your stay for Shapes Festival Zakynthos using the map below or visit booking.com \nBook Hotels & Airbnbs near the Venue at the Lowest Price online!\n\nTravel Info\nBY CAR\nGet DirectionsBY PLANE\nZakynthos is served by Zakynthos Airport (ZTH) located towards the south end of the island near Zakynthos town\, it caters for both international and domestic flights. \nBY BOAT\nZakynthos has ferry links to Kyllini on the Greek mainland from Zakynthos Town. Ferry boats depart daily every hour and the trip lasts one hour. Ferries to Kefalonia can be joined at Agios Nikolas\, on the North-East tip of the island. \nBook FlightsAirport TransfersCar RentalsTrain/Bus Tickets\nGallery\nRelated Festivals\nDownload Festival\n12 Jun – 14 Jun | Derby\, UK\nLytham Festival\n1 Jul – 5 Jul | Lytham Green\, UK\n		\n			\n\n				\n				\n					Search for:
URL:https://europebookings.com/festival/shapes-festival-zakynthos/
LOCATION:Zakynthos\, Zakinthos\, Greece
CATEGORIES:Electronic,House,Multi-Genre,Techno
ATTACH;FMTTYPE=image/jpeg:https://europebookings.com/wp-content/uploads/shapes-festival-zakynthos-boat-party.jpg
END:VEVENT
BEGIN:VEVENT
DTSTART;VALUE=DATE:20250820
DTEND;VALUE=DATE:20250825
DTSTAMP:20260424T084052
CREATED:20200211T164830Z
LAST-MODIFIED:20250217T150112Z
UID:32686-1755648000-1756079999@europebookings.com
SUMMARY:Rock en Seine
DESCRIPTION:Get TicketsAccommodationTravel Info\nRock en Seine 2025: A Premier Music Festival in Paris \nJoin the vibrant celebration of music at Rock en Seine 2025\, scheduled from 20th to 24th August 2025 at the historic Domaine National de Saint-Cloud\, just outside Paris. As one of Europe’s most esteemed music festivals\, Rock en Seine annually attracts over 100\,000 enthusiasts\, offering a diverse lineup that spans rock\, pop\, and alternative genres. \nThe festival’s opening night on Wednesday\, 20th August\, features a stellar lineup\, including the rising American pop artist Chappell Roan\, delivering her only French performance of the year. Joining her are the acclaimed British trio London Grammar\, known for their ethereal soundscapes\, and the multifaceted English singer and actress Suki Waterhouse\, who blends folk-pop with captivating stage presence. Additionally\, the indie duo Luvcat will bring their emotive melodies to the stage. \nSet within the expansive and picturesque parklands of the Domaine National de Saint-Cloud\, the festival provides a unique atmosphere where music and nature converge. With multiple stages\, art installations\, and a variety of culinary offerings\, attendees can immerse themselves in a rich cultural experience. The venue’s proximity to Paris ensures easy accessibility via public transport\, making it convenient for both local and international visitors. \nExperience the dynamic fusion of music\, art\, and community at Rock en Seine 2025. \n\nRock en Seine 2025 Lineup\nAll Artist & Program\nWed 20 Aug 2025\nChappell Roan / London Grammar \nThu 21 Aug 2025\nA$AP Rocky / Barry Can’t Swim / DoeChii / Khruangbin / Mk.gee / Montell Fish / Vampire Weekend \nFri 22 Aug 2025\nAnyma / Aurora / Caribou / Empire Of The Sun / Marc Rebillet \nSat 23 Aug 2025\nArtemas / Dabeull / Jamie XX / Jorja Smith / Justice / Luidji \nSun 24 Aug 2025\nFontaines D.C. / Last Train / Queens Of The Stone Age / Stereophonics / WallowsRock en Seine 2025 Tickets\nRegular & Garden Tickets from €79.00 are on sale:\nTicketsRock en Seine\nvia Official SiteBookAccommodation\nThe city of Paris offers a wide range of accommodation options. Book your stay for the festival using the map below or visit booking.com \nBook Hotels & Airbnbs near the Venue at the Lowest Price online!\n\nTravel Info\nBY CAR\nGet DirectionsBY PUBLIC TRANSPORT\nThe festival is easily accessible by public transport from across Paris\, either via the Metro Line 1 to Pont de Saint-Cloud or Tram Line T2 to Parc de Saint-Cloud. \nBook FlightsAirport TransfersCar RentalsTrain/Bus Tickets\nGallery
URL:https://europebookings.com/festival/rock-en-seine/
LOCATION:Domaine de Saint-Cloud\, Domaine de Saint-Cloud\, Paris\, 92210\, France
CATEGORIES:Electronic,Indie,Multi-Genre,Pop,Rock
ATTACH;FMTTYPE=image/jpeg:https://europebookings.com/wp-content/uploads/rock-en-seine-festival-fireworks.jpg
END:VEVENT
BEGIN:VEVENT
DTSTART;VALUE=DATE:20250822
DTEND;VALUE=DATE:20250825
DTSTAMP:20260424T084052
CREATED:20220927T140326Z
LAST-MODIFIED:20250902T171446Z
UID:61745-1755820800-1756079999@europebookings.com
SUMMARY:Mysteryland Festival
DESCRIPTION:Get TicketsAccommodationTravel Info\nNext Mysteryland Festival will take place in 2027\nFrom 22nd to 24th August 2025\, Mysteryland returns to the picturesque grounds of Haarlemmermeer\, just outside Amsterdam. As the world’s longest-running electronic music festival\, Mysteryland delivers an immersive experience\, blending cutting-edge electronic beats with spectacular visual art installations. With over 300 artists spanning house\, techno\, hardstyle\, and more\, every music lover will find their perfect rhythm. \nSpread across multiple stages and set against the serene lakes and lush greenery\, Mysteryland is more than a music festival—it’s a celebration of unity\, peace\, and love. Whether you’re a fan of big names like Charlotte de Witte\, Nicky Romero\, or underground acts\, this festival promises surprises at every corner. The vibrant performances\, combined with breathtaking stage designs\, create an electrifying atmosphere. \nCamping on-site adds to the adventure\, allowing festival-goers to fully embrace the weekend. Whether you opt for glamping or pitch your own tent\, Mysteryland offers a holistic festival experience that goes beyond the music! \n\nMysteryland Festival 2025 Lineup\nAll ArtistsEJOU Live / Adaro B2B B-Front / Adjust / Adriatique / AJ Christou B2B Joëlla Jackson / Alex Wann / Alisha / Aly & Fila / Amémé B2B LP Giobbi / Anders / Aphotic / Architrackz / Ares Carter / Argy / Avalan Rokston / Aversion / Ballantine B2B Dieux Père / BELLA / Ben Hemsley / Ben Nicky Presents Xtreme B2B Coone / Benja B2B Franc Fala / Benjamin Berg B2B Morgan / Benny Rodrigues / Benwal / Bevan / Bontan / Brennan Heart / Broederliefde / Cincity B2B Philou Louzolo / Cosmic Gate / Cynthia Spiering / D Stone / D-Block & S-Te-Fan / Da Tweekaz / Deepack – 35 Years Of Madness / Demi Riquísimo B2B Nyra / Devin Wild B2B Remon Verhoeve / Diff’rent B2B Milion / Dikke Baap / DIØN / DJ Tennis / Dual Damage / East End Dubs / Eatstown B2B Rooléh / Ecstatic / Eddiethehost / Eliza Rose B2B SAIDAH / Emvae / Enzo Siragusa / Eric Prydz / Farius / Fideles / Fiesta Macumba Soundsystem / FISHER / Franky Rizardo / Galactixx / Gunz For Hire / Hard Driver / Hardwell / Indira Paganotto / IZA / Jahwin B2B MELV!EE / Jamback B2B M-High / Jay De Lys / Jesse Maas / Job De Jong / Julian Anthony B2B Locklead / Kamma B2B Paramida / Kaya Imani / KETTING Live / Kleine John & Chavanté / Kölsch / LATU / Laura Van Dam / Litmus B2B Garrett David / Lola Cerise / Luna Passos / Maqossa / Marlon Hoffstadt / Michel De Hey B2B Skream B2B Prunk / Miss Monique / Mixturess / Nayla B2B Rockefellababe / NEMS / Nifra / NYAMECMPLX / OGUZ / Olive Anguz / Oliver Heldens / ONYVAA Live / Panka / Patrick Mason / Paul Van Dyk / Phuture Noize / Poke / Ran-D Presents Resonance / Rebekah / Rebelion Presents Beyond The Horizon / Remon Verhoeve / Rivo / Ronnie Flex / Rozie / Ruben De Ronde / Saar Kuus / Serzo / Shanne / SHE / Silva Bumpa / Sound Rush B2B Mystery Guest / SNTS / Solstice / Sophie Bruin / Sound Rush Presents Journey Through Sound / Spitnoise / Stephan Bodzin Live / Sub Zero Project / Surf 2 Glory / Swimming Paul / The Purge B2B The Saints / The Viper / Tins / TNT / Toza B2B Vexxed Presents Acid Reign / Vendex / Vertile / Villain / Vunzige Deuntjes Soundsystem / Warface / WEF / Zawdi MCMysteryland Festival 2025 Tickets\nSaturday\, Sunday & Weekend Tickets from €79.95 are on sale:\nTickets\nMysteryland Festival\nvia Official Site\n \nBookAccommodation\nCamping during the festival is included only with Camping + Weekend tickets purchased here. All you need is basic camping gear\, like a tent\, a camping pad and a head torch (so useful in the night). If you don’t want to bring your own tent\, the festival offers camping packages\, such as Group tent\, Comfort lodge and more purchased here \nAlternatively\, you can book nearby hotels & apartments using the map below or visit booking.com \nBook Hotels & Airbnbs near the Venue at the Lowest Price online!\n\nTravel Info\nBY CAR\nDay & Weekend Parking tickets from €25.00 can be purchased here \nGet DirectionsBY SHUTTLE BUS\nRound trip from and to Hoofddorp Train Station Tickets can be purchased here \nBY TRAIN\nIt is easiest to reach Mysteryland from Hoofddorp train station. On Saturday and Sunday\, there will be a non-stop shuttle bus service to the festival grounds and back\, departing from Hoofddorp station. \nBY PLANE\nFrom Amsterdam Schiphol Airport (AMS) take the train to Hoofddorp station (4 min journey). From there\, you can take the shuttle bus to the festival grounds. \nBook FlightsAirport TransfersCar RentalsTrain/Bus Tickets\nGallery\nRelated Festivals\nAirbeat One Festival\n9 Jul – 13 Jul | Neustadt-Glewe\, Germany\nNature One Festival\n31 Jul – 3 Aug | Kastellaun\, Germany\n		\n			\n\n				\n				\n					Search for:
URL:https://europebookings.com/festival/mysteryland/
LOCATION:Haarlemmermeerse Bos\, Paviljoenlaan 1\, Hoofddorp\, 2131 LZ\, Netherlands
CATEGORIES:Dubstep,EDM,Electronic,Hardcore,House,Techno
ATTACH;FMTTYPE=image/jpeg:https://europebookings.com/wp-content/uploads/mysteryland-festival-stage-party-show.jpg
END:VEVENT
BEGIN:VEVENT
DTSTART;VALUE=DATE:20250822
DTEND;VALUE=DATE:20250831
DTSTAMP:20260424T084052
CREATED:20200221T133455Z
LAST-MODIFIED:20240912T133820Z
UID:33182-1755820800-1756598399@europebookings.com
SUMMARY:Zurich Openair
DESCRIPTION:Get TicketsAccommodationTravel Info\nZurich Openair Festival 2025 – A Global Music Experience in Switzerland \nZurich Openair will be extending to 2 weekends\, covering both the 22-23 & 29-30 August 2025 \nFrom 22nd to 30th August 2025\, Zurich Openair Festival returns to Glattbrugg\, offering an exhilarating blend of electronic\, rock\, and pop music. As one of Switzerland’s biggest open-air events\, Zurich Openair brings a stellar line-up of international headliners like Sam Smith\, Macklemore\, and Sido\, alongside rising stars across multiple genres. Spread over two weekends\, this festival is a must for music lovers seeking unforgettable performances under the summer sky. \nThe festival is not just about music—it also boasts an impressive array of food stalls\, art installations\, and entertainment options\, creating a vibrant festival atmosphere. Conveniently located near Zurich Airport\, it’s an ideal destination for both local fans and international visitors. Its proximity to the city centre also allows festival-goers to combine the event with sightseeing or shopping in beautiful Zurich. \nWhether you’re there for the music or the festival’s lively vibe\, Zurich Openair 2025 promises an immersive experience where you can dance the night away with thousands of fellow fans! \n\nZurich Openair 2025 Lineup\nLineup to be announced soon: \n2024 Lineup & Program\nWeekend 1\nFriday\, August 23\nDabu Fantastic / Dario La Mazza / Dennis Lloyd / Eileen Alister / Giant Rooks / John Summit / Juli Lee / Krystal Klear / Martin Garrix / Naomi Lareine / Nic Fanciulli / Raye / Sam Smith / Syreeta / The Blaze / Valentino Vivace \nSaturday\, August 24\nArmin Van Buuren / Dejan / Gigi / Joris Voorn / Loyle Carner / Louis Tomlinson / Macklemore / MAU P / Milky Chance / Miss Monique / Natascha Polké / Nemo / Ronny Grauer / Stephan Bodzin / WhoMadeWho (Live) / Zoe Wees \nWeekend 2\nFriday\, August 30\nArdour / Caroline Alves / Chris Avantgarde / Jared Lembo / James Arthur / Jorja Smith / Kenya Grace / Kevin De Vries / Kölsch / Marc Rebillet / Massano / Nickless / Peggy Gou / Rin / Sam Madi / Tom Grennan \nSaturday\, August 31\nAgents of Time / Anne-Marie / Artbat / Aurora / Kaffkiez / Kygo / Lost Frequencies / Luuk / Marco Berto / Mimiks & LCone / Nici Faerber / Nora En Pure / Nto (Live) / Sido / Sugababes / TrettmannZurich Openair 2025 Tickets\nTickets to be announced soon:\nTicketsZurich Openair\nvia Official SiteBookAccommodation\nCamping during the festival requires a camping ticket. You will need basic camping gear\, like a tent\, a camping pad and a head torch (so useful in the night). \nAlternatively\, you can book nearby hotels and apartments using the map below or visit booking.com \nBook Hotels & Airbnbs near the Venue at the Lowest Price online!\n\nTravel Info\nBY CAR\nThe organisers recommend that drivers park at the airport and then take the Tram lines 10 and 12 to Bäuler station\, which is the festival site. \nGet DirectionsBY TRAIN\nGlattbrugg Bahnhof is a very short walk from the venue. \nBY BUS\nBus trips to Novalja/Zrce Beach from Germany and Austria can be conveniently booked in the packages. \nBY PLANE\nZurich Airport (ZRH) is the largest in Switzerland\, and the festival site is within touching distance of the airport’s southern corner. Tram lines 10 and 12 run from the airport every few minutes\, and it’s a 5 minute journey to Bäuler station\, which is the festival site. \nBook FlightsAirport TransfersCar RentalsTrain/Bus Tickets\nGallery\nRelated Festivals\nDownload Festival\n12 Jun – 14 Jun | Derby\, UK\nLytham Festival\n1 Jul – 5 Jul | Lytham Green\, UK\n		\n			\n\n				\n				\n					Search for:
URL:https://europebookings.com/festival/zurich-openair-festival/
LOCATION:Zurich Openair\, Flughofstrasse 21\, Zurich\, 8152\, Switzerland
CATEGORIES:Electronic,Indie,Multi-Genre,Pop,Rock
ATTACH;FMTTYPE=image/jpeg:https://europebookings.com/wp-content/uploads/zurich-openair-main-stage-lights-show.jpg
END:VEVENT
BEGIN:VEVENT
DTSTART;VALUE=DATE:20250823
DTEND;VALUE=DATE:20250824
DTSTAMP:20260424T084053
CREATED:20211105T162329Z
LAST-MODIFIED:20250105T173917Z
UID:50373-1755907200-1755993599@europebookings.com
SUMMARY:Sommertag Festival
DESCRIPTION:Get TicketsAccommodationTravel InfoSommertag Festival 2025: A Day of Techno Bliss by Epplesee \nMark your calendars for 23rd August 2025\, as the Sommertag Festival returns to the serene shores of Epplesee in Neuburg am Rhein\, Germany. Since its inception in 2016\, this festival has blossomed into a cherished event for techno enthusiasts\, offering a harmonious blend of music\, nature\, and community. \nThe 2025 edition promises an exceptional line-up\, headlined by techno luminary Len Faki\, whose dynamic sets are renowned for captivating audiences worldwide. Joining him is Berlin’s own Christoph Faust\, set to elevate the lakeside atmosphere with his innovative soundscapes. \nSet against the idyllic backdrop of Epplesee\, attendees can anticipate a day filled with immersive beats\, complemented by the natural beauty of the lake. The festival’s commitment to creating a unique atmosphere is evident in its motto: “lebe | liebe | tanze | träume” (live | love | dance | dream)\, aiming to provide an experience unlike any other. \nJoin fellow techno lovers for a day where music and nature converge\, creating memories that resonate long after the final beat. Secure your tickets and prepare to be part of the Sommertag Festival’s 9th anniversary celebration—a testament to nearly a decade of unforgettable moments and musical excellence. \n\nSommertag Festival 2025 Lineup\nAll ArtistsChristoph Faust / Len Faki / more TBASommertag Festival 2025 Tickets\nGA & Backstage Tickets from €39.90 are on sale:\nTicketsSommertag Festival\nvia Official SiteBookAccommodation\nThe nearby city of Karlsruhe offers a wide range of accommodation options. Book your stay for Sommertag Festival using the map below or visit booking.com \nBook Hotels & Airbnbs near the Venue at the Lowest Price online!\n\nTravel Info\nBY CAR\nGet DirectionsBY TRAIN\nThe nearby city of Karlsruhe is well connected by rail in Germany. From Karlsruhe central train station you can take a 15 min taxi ride to the venue. \nBY PLANE\nFrankfurt Airport (FRA) is the closest to the festival. Upon arrival take the bus to Karlsruhe (90 minutes journey). From there you can take a 15 min taxi ride to the venue. \nBook FlightsAirport TransfersCar RentalsTrain/Bus Tickets\nGallery\nRelated Festivals\nDownload Festival\n12 Jun – 14 Jun | Derby\, UK\nLytham Festival\n1 Jul – 5 Jul | Lytham Green\, UK\n		\n			\n\n				\n				\n					Search for:
URL:https://europebookings.com/festival/sommertag-festival/
LOCATION:Neuburg Am Rhein\, Neuburg Am Rhein\, Rheinland-Pfalz\, Germany
CATEGORIES:Electronic,Techno
ATTACH;FMTTYPE=image/jpeg:https://europebookings.com/wp-content/uploads/sommertag-festival-stage-lights-show.jpg
END:VEVENT
BEGIN:VEVENT
DTSTART;VALUE=DATE:20250823
DTEND;VALUE=DATE:20250825
DTSTAMP:20260424T084053
CREATED:20220223T135930Z
LAST-MODIFIED:20250306T104143Z
UID:52837-1755907200-1756079999@europebookings.com
SUMMARY:Forwards Bristol
DESCRIPTION:Get TicketsAccommodationTravel InfoForwards Festival 2025: Bristol’s Cutting-Edge Music Experience \nMark your calendars for Forwards Festival 2025\, returning to Clifton Downs\, Bristol\, in August 2025! Known for its innovative approach\, this two-day festival not only delivers top-tier international music acts but also creates a space for activism\, debate\, and positive social change. With past headliners like The Chemical Brothers and Jamie xx\, expect a diverse lineup of electronic\, pop\, and indie performances that will make Forwards a must-attend event next year. \nForwards Festival is more than just music—it brings together forward-thinking initiatives through its Forwards Thinking platform\, which offers talks\, workshops\, and discussions on cultural and social issues. Festival-goers can engage in meaningful conversations while enjoying unforgettable live performances in one of Bristol’s most iconic outdoor venues. \nWhether you’re looking to enjoy cutting-edge performances or explore the festival’s social initiatives\, Forwards Festival 2025 offers a unique blend of entertainment and activism\, making it one of the most exciting music events in the UK. Stay tuned for lineup announcements and secure your tickets early! \n\nForwards Bristol 2025 Lineup\nAll Artists & Program\nSat 23 Aug 2025\nBarry Can’t Swim / Ezra Collective / Confidence Man / Orbital / Mount Kimbie / English Teacher / Happy Mondays / Katy J Pearson / Ishmael Ensemble and The Rituals Orchestra / Mermaid Chunky \nSun 24 Aug 2025\nDoechii / Jorja Smith / The Last Dinner / Olivia Dean / Fabio & Grooverider and the Outlook Orchestra / Moonchild Sanelly / The Silhouettes Project / Alemaeda / Snapped AnklesForwards Bristol 2025 Tickets\nSaturday\, Sunday & Weekend Tickets from £63.34 (€75.56) are on sale:\nTicketsForwards Bristol\nvia See TicketsBookAccommodation\nThe city of Bristol offers a wide range of accommodation options. Book your stay for Forwards Festival using the map below or visit booking.com \nBook Hotels & Airbnbs near the Venue at the Lowest Price online!\n\nTravel Info\nBY CAR\nGet DirectionsBY SHUTTLE BUS\nThe festival will be operating a Shuttle Bus Service in partnership with First Bristol\, running to and from the Festival via a number of city centre locations to be announced soon. \nBY COACH\nThe festival is partnered with Big Green Coaches for this event and there will be coach packages available\, to be announced soon. \nBY TRAIN\nBristol is well connected by rail in the United Kingdom. From Bristol Temple Meads Station you can either take the Line 8 Bus to Clifton\, Bristol Zoo (24 min journey) 200 meters for the Venue\, or take the train to Clifton Down (13 min journey) 1.5 Km from the Venue. \nBook FlightsAirport TransfersCar RentalsTrain/Bus Tickets\nGallery
URL:https://europebookings.com/festival/forwards-bristol/
LOCATION:Clifton Downs\, Clifton Downs\, Stoke Rd\, Bristol\, BS9 1FG\, United Kingdom
CATEGORIES:Alternative,Electronic,Hip Hop,House,Indie
ATTACH;FMTTYPE=image/webp:https://europebookings.com/wp-content/uploads/forwards-bristol-festival-stage-lights-show.webp
END:VEVENT
BEGIN:VEVENT
DTSTART;VALUE=DATE:20260822
DTEND;VALUE=DATE:20260828
DTSTAMP:20260424T084053
CREATED:20190716T223220Z
LAST-MODIFIED:20251124T142051Z
UID:21129-1787356800-1787875199@europebookings.com
SUMMARY:Summer Peak Festival
DESCRIPTION:Get TicketsAccommodationTravel Info\nSummer Peak Festival 2026 returns to Croatia’s iconic Zrće Beach on the island of Pag\, delivering its 12th edition as a grand celebration of sun\, sound and seaside freedom. Set between the legendary open-air clubs of Papaya\, Kalypso\, Cocomo and Noa Beach\, this event transforms the Adriatic shoreline into a party-festival paradise where every moment pulses with energy beneath the summer sky. \nHaving grown from its early days into one of Europe’s most anticipated beach-festival experiences\, Summer Peak has come to symbolise the perfect summer send-off: long days\, late nights\, boat parties\, poolside sets\, and nonstop rhythms on one of the continent’s best party beaches. \nThe 2026 edition spans 22–27 August and promises the full festival package: house\, deep house\, techno and EDM will dominate night-time club take-overs\, while daytime vibes offer after-beach chill\, pool parties and boat cruises. With the club line-ups still to be fully revealed\, the promise of international acts and legendary DJ sets already sets the tone for what’s ahead. \nExpect a holiday-meets-festival vibe where you can dance on the sand\, hit a boat party under stars\, lounge by the pool at dawn and wake board in turquoise water by day. Accommodation options range from villas and hotels to camping\, all built around the festival’s high-energy and carefree ecosystem. \nWith its perfect blend of coastal beauty\, festival artistry and community vibe\, Summer Peak Festival 2026 stands as an essential destination for anyone looking to merge beachside escape with full-on party mode. Come for the beats\, stay for the summer. \n\nSummer Peak Festival 2026 Lineup\nLineup to be announced soon: \n2025 LineupDj One Ear / Dj Robin / Fabian Farell / Inke / Malibu Brown / Topic / Tujamo / YouNotUs / and many moreSummer Peak Festival 2026 Tickets\nTicketsSummer Peak Festival\nvia Official SiteBookAccommodation\nThe city of Novalja and the island of Pag offer a wide range of accommodation options. Book your stay for Summer Peak Festival using the map below or visit booking.com \nBook Hotels & Airbnbs near the Venue at the Lowest Price online!\n\nTravel Info\nBY CAR\nGet DirectionsBY BUS FROM ZADAR\nThere are a handful of buses running this route per day. It’s a shorter journey\, about 1hr 30 mins and BusCroatia will cost €10-15. \nFROM SPLIT\nThe best route from Split to Novalja is to take a taxi to nearby town of Trogir (approx. €25-30) and then take the bus to Zadar with BusCroatia (approx. €12-19). The journey lasts around 2 hrs 40 mins. From Zadar\, you will need take the bus to Novalja. \nBY PLANE\nThe nearest airport to the festival is Zadar Airport\, around 50km away\, and is served by destinations across much of Europe. Split airport is the largest in the south of Croatia\, just a few hours further down the coast. \nBook FlightsAirport TransfersCar RentalsTrain/Bus Tickets\nGallery\nRelated Festivals\nHideout Festival\n22 Jun – 26 Jun | Zrće Beach\, Novalja\, Croatia\nSonus Festival\n17 Aug – 21 Aug | Zrće Beach\, Novalja\, Croatia\n		\n			\n\n				\n				\n					Search for:
URL:https://europebookings.com/festival/summer-peak-festival/
LOCATION:Zrće Beach\, Zrće Beach\, Novalja\, 53291\, Croatia (Local Name: Hrvatska)
CATEGORIES:EDM,Electronic,House,Techno,Trance
ATTACH;FMTTYPE=image/jpeg:https://europebookings.com/wp-content/uploads/summer-peak-festival-main-papaya-club.jpg
END:VEVENT
END:VCALENDAR