BEGIN:VCALENDAR
VERSION:2.0
PRODID:-//Europebookings - ECPv6.15.20//NONSGML v1.0//EN
CALSCALE:GREGORIAN
METHOD:PUBLISH
X-WR-CALNAME:Europebookings
X-ORIGINAL-URL:https://europebookings.com
X-WR-CALDESC:Events for Europebookings
REFRESH-INTERVAL;VALUE=DURATION:PT1H
X-Robots-Tag:noindex
X-PUBLISHED-TTL:PT1H
BEGIN:VTIMEZONE
TZID:Asia/Nicosia
BEGIN:DAYLIGHT
TZOFFSETFROM:+0200
TZOFFSETTO:+0300
TZNAME:EEST
DTSTART:20240331T010000
END:DAYLIGHT
BEGIN:STANDARD
TZOFFSETFROM:+0300
TZOFFSETTO:+0200
TZNAME:EET
DTSTART:20241027T010000
END:STANDARD
BEGIN:DAYLIGHT
TZOFFSETFROM:+0200
TZOFFSETTO:+0300
TZNAME:EEST
DTSTART:20250330T010000
END:DAYLIGHT
BEGIN:STANDARD
TZOFFSETFROM:+0300
TZOFFSETTO:+0200
TZNAME:EET
DTSTART:20251026T010000
END:STANDARD
BEGIN:DAYLIGHT
TZOFFSETFROM:+0200
TZOFFSETTO:+0300
TZNAME:EEST
DTSTART:20260329T010000
END:DAYLIGHT
BEGIN:STANDARD
TZOFFSETFROM:+0300
TZOFFSETTO:+0200
TZNAME:EET
DTSTART:20261025T010000
END:STANDARD
END:VTIMEZONE
BEGIN:VEVENT
DTSTART;VALUE=DATE:20251003
DTEND;VALUE=DATE:20251006
DTSTAMP:20260424T054720
CREATED:20230117T174417Z
LAST-MODIFIED:20250219T123615Z
UID:67043-1759449600-1759708799@europebookings.com
SUMMARY:Defected Malta
DESCRIPTION:Get TicketsAccommodationTravel Info\nDefected Malta 2025: A Mediterranean House Music Extravaganza \nPrepare for an unforgettable weekend as Defected Malta returns for its fourth edition from 3rd to 5th October 2025. Set against the stunning backdrop of Malta’s sandy beaches and crystalline waters\, this festival promises a vibrant celebration of house music\, featuring an impressive blend of talent from across the genre. \nThe festival will feature events at several premier venues: \n\nCafé del Mar in St. Paul’s Bay\, renowned for its luxe beach club ambiance.\nUNO\, Malta’s largest multi-room venue\, offering an ultimate club experience with its impressive sound system\, indoor club\, and open-air rooms designed to host partygoers until the early hours.\nThe Ditch\, a historic UNESCO World Heritage site\, providing a unique setting for unforgettable performances.\n\nAdditionally\, intimate boat parties will offer unrivaled views of the island\, rounding off the weekend’s activities with house music excellence. \nPrevious editions have featured a diverse array of house music artists\, ensuring a dynamic and engaging experience for all attendees. \nJoin fellow music enthusiasts for a weekend of sun\, sea\, and sensational beats at Defected Malta 2025—a festival experience not to be missed. \n\nDefected Malta 2025 Lineup\nAll ArtistsA-Trak / Aline Rocha / Arielle Free / Cameron / Carl Craig / Cinthie / Danny Howard / Darius Syrossian / Dave Jarvis / DJ Spen / DJ Steaw / Dunmore Brothers / Eats Everything / Edd / Ella Knight / Fat Tony / Ferreck Dawn / Groove Armada (DJ Set) / Hannah Wants / Harry Romero / Henrik Schwarz (Live) / Honey Dijon / Horse Meat Disco / Jullian Gomes / L3NI / Low Steppa / Luke Solomon / Makèz / Melé / Melon Bomb / Melvo Baptiste / Minna / Monki / Mousse T. / Nic Fanciulli / Olive F / Purple Disco Machine / Rio Tashan / Riva Starr / Sam Divine / Seamus Haji / Stanley Hood / Stuart Patterson / Terry Farley / Thakzin / The Brothers Macklovitch / The Duke / The Reflex / The Shapeshifters / Tsha / Yasmin / Zach Witness / More Artists TBADefected Malta 2025 Tickets\nGeneral Admission Tickets to be announced soon – Sign up here\nTicketsDefected Malta\nvia Official SiteBookAccommodation\nSaint Paul’s Bay offers a wide range of accommodation options. Book your stay for Defected Malta using the map below or visit booking.com \nBook Hotels & Airbnbs at the lowest Price online!\n\nTravel Info\nBY CAR\nGet DirectionsBY SHUTTLE BUS\nThe shuttle bus is the easiest way to get between all venues. Shuttle passes will be available to purchase online at a later date. \nBY PLANE\nMalta International Airport is in the south of the main island\, and there are good transport links around all three of Malta’s islands from there. \nBook FlightsAirport TransfersCar RentalsTrain/Bus Tickets\nGallery\nRelated Festivals\nKappa Futur Festival\n4 Jul – 6 Jul | Turin\, Italy\nUltra Europe Festival\n11 Jul – 13 Jul | Split\, Croatia\n		\n			\n\n				\n				\n					Search for:
URL:https://europebookings.com/festival/defected-malta/
LOCATION:St Paul’s Bay\, St Paul's Bay\, Malta
CATEGORIES:Electronic,House
ATTACH;FMTTYPE=image/jpeg:https://europebookings.com/wp-content/uploads/defected-malta-cafe-del-mar-stage-view.jpg
END:VEVENT
BEGIN:VEVENT
DTSTART;VALUE=DATE:20251004
DTEND;VALUE=DATE:20251005
DTSTAMP:20260424T054721
CREATED:20201128T125942Z
LAST-MODIFIED:20250105T222343Z
UID:42167-1759536000-1759622399@europebookings.com
SUMMARY:Syndicate Festival
DESCRIPTION:Get TicketsAccommodationTravel Info\nSYNDICATE Festival 2025: A Night of Harder Styles in Dortmund \nPrepare for an electrifying experience as SYNDICATE Festival 2025 returns to the iconic Westfalenhallen in Dortmund\, Germany\, on 4th October 2025. Celebrated as Germany’s premier festival for the harder styles of electronic music\, SYNDICATE unites enthusiasts from around the globe for an unforgettable night of intense beats and immersive performances. \nFrom 8:00 PM to 6:00 AM\, the Westfalenhallen\, affectionately dubbed “Westfalen-HELL” during the event\, will pulsate with the sounds of hardcore\, hardstyle\, and related genres. While the 2025 lineup is yet to be announced\, previous editions have featured renowned artists\, ensuring a high-energy atmosphere that keeps attendees dancing through the night. \nJoin thousands of fellow “Ambassadors in Harder Styles” for a night that pushes the boundaries of sound and light at SYNDICATE Festival 2025—a must-attend event for any hardstyle aficionado. \n\nSyndicate Festival 2025 Lineup\nLineup to be announced soon: \n2024 LineupAkira / Angerfist LIVE / Bloodlust / Bulletproof / Cryogenic / D-Fence / Deadly Guns / Deluzion / Dr. Peacock / Drokz / DRS / E-Force / Elite Enemy / F.Nøize / Fraw / Hysta / Juliëx / Karun / Mad Dog / Major Conspiracy / Manifest Destiny / Miss K8 / Namara / Nosferatu / Omnya / Ophidian / Phuture Noize / Rejecta / Resolute / Revolve / Spitnoise / The Purge / THE TIMEMACHINE / Unfused / Unlocked / Unproven / MC Robs / Nolz / Tha WatcherSyndicate Festival 2025 Tickets\nTickets to be announced soon:\nTicketsSyndicate Festival\nvia Official SiteBookAccommodation\nThe city of Dortmund offers a wide range of accommodation options. Book your stay for Syndicate Festival using the map below or visit booking.com \nBook Hotels & Airbnbs near the Venue at the Lowest Price online!\n\nTravel Info\nBY CAR\nGet DirectionsBY TRAIN\nThe city of Dortmund is well connected by rain in Germany and all major European cities. From Dortmund Central Station take the subway to Dortmund Westfalenhallen station (10min journey). \nBY PLANE\nThe nearest airport is Dortmund Airport (DTM). From the airport the AirportExpress bus to Dortmund Central Station (22 min journey) and from there take the subway to Dortmund Westfalenhallen station (10 min journey). \nBook FlightsAirport TransfersCar RentalsTrain/Bus Tickets\nGallery\nRelated Festivals\nDecibel Outdoor\n15 Jun – 17 Aug | Hilvarenbeek\, Netherlands\nDreamfields Festival\n5 Jul | Lathum\, Netherlands\n		\n			\n\n				\n				\n					Search for:
URL:https://europebookings.com/festival/syndicate-festival/
LOCATION:Westfalenhallen\, Westfalenhallen\, Strobelallee 45\, Dortmund\, 44139\, Germany
CATEGORIES:Electronic,Hardcore,Hardstyle
ATTACH;FMTTYPE=image/jpeg:https://europebookings.com/wp-content/uploads/syndicate-festival-lights-show.jpg
END:VEVENT
END:VCALENDAR