BEGIN:VCALENDAR
VERSION:2.0
PRODID:-//Europebookings - ECPv6.15.20//NONSGML v1.0//EN
CALSCALE:GREGORIAN
METHOD:PUBLISH
X-WR-CALNAME:Europebookings
X-ORIGINAL-URL:https://europebookings.com
X-WR-CALDESC:Events for Europebookings
REFRESH-INTERVAL;VALUE=DURATION:PT1H
X-Robots-Tag:noindex
X-PUBLISHED-TTL:PT1H
BEGIN:VTIMEZONE
TZID:Asia/Nicosia
BEGIN:DAYLIGHT
TZOFFSETFROM:+0200
TZOFFSETTO:+0300
TZNAME:EEST
DTSTART:20250330T010000
END:DAYLIGHT
BEGIN:STANDARD
TZOFFSETFROM:+0300
TZOFFSETTO:+0200
TZNAME:EET
DTSTART:20251026T010000
END:STANDARD
BEGIN:DAYLIGHT
TZOFFSETFROM:+0200
TZOFFSETTO:+0300
TZNAME:EEST
DTSTART:20260329T010000
END:DAYLIGHT
BEGIN:STANDARD
TZOFFSETFROM:+0300
TZOFFSETTO:+0200
TZNAME:EET
DTSTART:20261025T010000
END:STANDARD
BEGIN:DAYLIGHT
TZOFFSETFROM:+0200
TZOFFSETTO:+0300
TZNAME:EEST
DTSTART:20270328T010000
END:DAYLIGHT
BEGIN:STANDARD
TZOFFSETFROM:+0300
TZOFFSETTO:+0200
TZNAME:EET
DTSTART:20271031T010000
END:STANDARD
END:VTIMEZONE
BEGIN:VEVENT
DTSTART;VALUE=DATE:20260522
DTEND;VALUE=DATE:20260608
DTSTAMP:20260423T202131
CREATED:20230911T141850Z
LAST-MODIFIED:20251124T131954Z
UID:73423-1779408000-1780876799@europebookings.com
SUMMARY:Zrce Spring Break Croatia
DESCRIPTION:Get TicketsAccommodationTravel Info\nZrce Spring Break Croatia will be extending to 2 weekends\, covering both the 22-24 May & 5-7 July 2026 \nZrce Spring Break Croatia 2026 returns to the celebrated shores of Zrće Beach on the island of Pag — a renowned hotspot where sun\, sea and music fuse into one electrifying experience. This year marks the 16th edition of this iconic event\, offering not just festival vibes but a full-on beach holiday for thousands of party-seekers from around the globe. \nSince its first wave in 2011\, Zrce Spring Break has built its reputation on non-stop energy\, world-class DJs\, open-air clubs and the stunning Adriatic setting. With its mix of high-octane after-beach parties\, boat excursions\, water-sports and sunrise-to-sunset sets\, it’s earned its place as Europe’s ultimate spring-festival destination. \nFor 2026\, the festival invites you to choose between two spectacular weekends: Weekend 1 and Weekend 2\, both packed with the hallmark madness and blue-flag coastline that define the event. Expect beach stage takeovers at legendary venues like Papaya Club\, Noa Beach Club and Kalypso Club\, with tens of thousands of festival-goers dancing beneath the stars\, immersed in both the Mediterranean warmth and the clubbing intensity that the beach is famed for. \nBeyond the music\, Zrce Spring Break 2026 is a full-on experience: think vibrant pool parties\, wake-boarding and jet-ski action\, VIP packages\, group deals\, and a seamless blend of daytime fun and nighttime madness. With accommodation near Novalja and easy shuttle access to the festival zone\, the logistics are built with party in mind as much as comfort. \nWhether you’re dancing on the sand\, riding a jet-ski at sunrise\, or cruising on a party boat under the moonlight\, Zrce Spring Break Croatia 2026 promises a weekend where memories are made with friends old and new. If you’re chasing that blend of beach life and music mania\, this is where it happens. \n\nZrce Spring Break Croatia 2026 Lineup\nLineup to be announced soon: \n2025 LineupDebrii / DJ’s From Mars / Lucas & Steve / Mandy / Mike & Me / Ncide / Quintino / Sandro Bani / Vandal Steve / Widemode / Yves VZrce Spring Break Croatia 2026 Tickets\nTicketsZrce Spring Break Croatia\nvia Official SiteBookAccommodation\nThe city of Novalja and nearby areas offer a wide range of accommodation options. Book your stay for Zrce Spring Break Festival using the map below or visit booking.com \nBook Hotels & Airbnbs near the Venue at the Lowest Price online!\n\nTravel Info\nBY CAR\nGet DirectionsBY BUS FROM ZADAR\nThere are a handful of buses running this route per day. It’s a shorter journey\, about 1hr 30 mins and BusCroatia will cost €10-15. \nFROM SPLIT\nThe best route from Split to Novalja is to take a taxi to nearby town of Trogir (approx. €25-30) and then take the bus to Zadar with BusCroatia (approx. €12-19). The journey lasts around 2 hrs 40 mins. From Zadar\, you will need take the bus to Novalja. \nBY PLANE\nThe nearest airport to the festival is Zadar Airport\, around 50km away\, and is served by destinations across much of Europe. Split airport is the largest in the south of Croatia\, just a few hours further down the coast. \nBook FlightsAirport TransfersCar RentalsTrain/Bus Tickets\nGallery\nRelated Festivals\nHideout Festival\n22 Jun – 26 Jun | Zrće Beach\, Novalja\, Croatia\nSonus Festival\n17 Aug – 21 Aug | Zrće Beach\, Novalja\, Croatia\n		\n			\n\n				\n				\n					Search for:
URL:https://europebookings.com/festival/zrce-spring-break-croatia/
LOCATION:Zrće Beach\, Zrće Beach\, Novalja\, 53291\, Croatia (Local Name: Hrvatska)
CATEGORIES:EDM,Electronic,Hardstyle,House,Techno
ATTACH;FMTTYPE=image/jpeg:https://europebookings.com/wp-content/uploads/zrce-spring-break-croatia-stage-fireworks.jpg
END:VEVENT
BEGIN:VEVENT
DTSTART;VALUE=DATE:20260528
DTEND;VALUE=DATE:20260601
DTSTAMP:20260423T202131
CREATED:20200213T155238Z
LAST-MODIFIED:20251209T162814Z
UID:32764-1779926400-1780271999@europebookings.com
SUMMARY:Sea Star Festival
DESCRIPTION:Get TicketsAccommodationTravel Info\nSea Star Festival 2026 lights up the Stella Maris Lagoon in Umag once again\, inviting festival-goers to step into a sun-kissed\, sea-cooled celebration that marks the unofficial start of summer in Croatia. With its idyllic beachfront setting\, glowing turquoise waters and warm late-May weather\, Sea Star has become one of the Adriatic’s most exciting festival openings\, blending world-class music\, coastal relaxation and electrifying night-time energy. \nLaunched in 2017 as part of the EXIT Festival family\, Sea Star was created to bring EXIT’s award-winning spirit to Croatia’s coast. From its debut edition — which drew tens of thousands of visitors from across Europe — the festival has earned a reputation for mixing premium electronic talent with pop\, trap\, rock and regional stars. Past lineups have featured artists such as The Prodigy\, Wu-Tang Clan\, Amelie Lens\, Nina Kraviz\, Paul Kalkbrenner\, Indira Paganotto and I Hate Models\, solidifying its status as a heavyweight event with a truly international feel. \nFor 2026\, the first wave of artists has already set the tone for an outstanding edition. The king of high-tech minimal Boris Brejcha returns to unleash one of the festival’s most anticipated sets\, promising thundering basslines\, intricate melodies and that unmistakable mask-adorned charisma. Joining him is the effortlessly cool New York selector Layla Benitez\, known for her deep\, melodic\, sun-drenched style that feels tailor-made for Croatian sunsets. Rising star Lanna adds fresh energy to the programme\, bringing her powerful\, progressive-leaning sound to the shores of Umag. These early confirmations suggest a lineup that will once again bridge the worlds of techno\, house\, pop and hybrid electronic sounds — with many more names still to come. \nThe festival unfolds across multiple stages nestled between pine forests\, sandy beaches and lively waterfront walkways\, creating an atmosphere that feels both intimate and energetic. Days are spent swimming\, exploring Umag’s charming coastline and recharging under the Adriatic sun\, while nights transform the lagoon into a glowing playground of lasers\, immersive visuals and booming sound systems. It’s this contrast — the tranquillity of the seaside and the explosiveness of late-night performances — that gives Sea Star its unmistakable magic. \nFood and drink options reflect Croatia’s diverse and Mediterranean-influenced cuisine\, with fresh seafood\, grilled specialities\, vegan bowls and sweet treats scattered around the site. Bars serve ice-cold cocktails\, local wines and refreshing beer\, perfect for warm evenings by the sea. Accommodation ranges from local hotels and apartments in Umag to nearby resorts and camping options\, all within easy reach of the festival grounds. \nTravelling to Sea Star is simple\, with Umag connected to major airports such as Pula\, Trieste and Ljubljana. Shuttle services and local buses operate throughout the festival\, making it easy for visitors to move between accommodation and the venue. Dates for 2026 fall at the end of May\, offering a perfect early-summer escape before the main European festival season kicks in. \nExpect a welcoming crowd\, a coastal paradise and a soundtrack that effortlessly blends underground power with mainstream favourites. Sea Star Festival 2026 promises another unforgettable chapter on the shores of Croatia — the perfect gateway into the summer festival season. \n\nSea Star Festival 2026 Lineup\nAll ArtistsBoris Brejcha / DJ Labud / Herya / INKA / Kim Ono / Lanna / Layla Benitez / Lottie / Marcel / Marin Biočić / Sunny Sun / and many moreSea Star Festival 2026 Tickets\nTicketsSea Star Festival\nvia Official SiteBookAccommodation\nCamping during the festival requires a Camping Ticket purchased here. All you need is basic camping gear\, like a tent\, a camping pad and a head torch (so useful in the night). \nAlternatively\, you can book nearby hotels and apartments using the map below or visit booking.com \nBook Hotels & Airbnbs near the Venue at the Lowest Price online!\n\nTravel Info\nBY CAR\nGet DirectionsBY TRAIN\nFrom Venice: Take the train from Venezia S. Lucia to Trieste Centrale (2h journey) and from there take the Bus to Umag Central Bus Station (1h 15min journey). Stella Maris Resort is a short taxi ride (2km) away. \nBY BUS\nFrom Trieste: Trieste Centrale take the Bus to Umag Central Bus Station (1h 15min journey). Stella Maris Resort is a short taxi ride (2km) away. \nBY FERRY\nYou can take the Ferry line form Venice to Umag (2h 30min journey – approx. €60.00 – €80.00) \nBY PLANE\nTrieste Airport (TRS) is the nearest to the festival. From the airport take the train to Trieste Centrale (29 min jouney) and from there take the Bus to Umag Central Bus Station (1h 15min journey). Stella Maris Resort is a short taxi ride (2km) away. \nBook FlightsAirport TransfersCar RentalsTrain/Bus Tickets\nGallery
URL:https://europebookings.com/festival/sea-star-festival/
LOCATION:Stella Maris Resort\, Stella Maris Resort\, Ul. Stella Maris 8a\, Umag\, 52470\, Croatia (Local Name: Hrvatska)
CATEGORIES:EDM,Electronic,House,Multi-Genre,Techno
ATTACH;FMTTYPE=image/jpeg:https://europebookings.com/wp-content/uploads/sea-star-festival-stage-lights-show-dancing.jpg
END:VEVENT
BEGIN:VEVENT
DTSTART;VALUE=DATE:20260529
DTEND;VALUE=DATE:20260531
DTSTAMP:20260423T202131
CREATED:20181027T133517Z
LAST-MODIFIED:20251128T131501Z
UID:15837-1780012800-1780185599@europebookings.com
SUMMARY:Lovebox Festival
DESCRIPTION:Get TicketsAccommodationTravel Info\nLovebox Festival 2026 marks the highly anticipated return of one of the UK’s most iconic music celebrations — this time reborn by the seaside at Dreamland Margate. After years away from London’s parks\, Lovebox reemerges with a sun-soaked new identity\, fusing nostalgic seaside charm with its signature mix of dance\, pop\, and underground culture. \nThis year’s edition features a powerful and eclectic lineup headlined by Rudimental\, Scissor Sisters\, Armand Van Helden\, Groove Armada (DJ Set)\, Soul II Soul (Live)\, and Friendly Fires — bringing together timeless icons\, crossover legends\, and dancefloor innovators. Joining them are DJ EZ\, David Rodigan\, Jayda G\, Dan Shake\, Horse Meat Disco\, Mike Skinner (DJ Set)\, Goldie b2b Special Request\, 4AM Kru\, Girls Don’t Sync\, and many more — ensuring a weekend packed with beats that span house\, soul\, jungle\, and everything in between. \nFounded in 2002 by Groove Armada\, Lovebox has always stood for creativity and diversity — blending club culture\, live performances\, and artistic expression into one immersive celebration. Over the decades\, it has hosted world-renowned acts like Grace Jones\, Snoop Dogg\, Childish Gambino\, Disclosure\, and Lana Del Rey\, building a reputation for boundary-pushing experiences and unforgettable moments. \nNow set against the vibrant backdrop of Margate’s retro amusements and coastal sunsets\, Lovebox 2026 promises to recapture that same electric energy in a fresh new setting. Expect roller-rink vibes\, beachfront stages\, vintage rides\, and an atmosphere brimming with freedom\, color\, and connection. \nLovebox is more than a festival — it’s a feeling. A celebration of love\, rhythm\, and the ever-evolving sound of the UK’s music scene\, reborn for a new generation by the sea. \n\nLovebox Festival 2026 Lineup\nAll Artists & Program\nFri 29 May\nRudimental / Armand Van Helden / Groove Armada (DJ Set) / Girls Don’t Sync / DJ EZ / David Rodigan / Mike Skinner (DJ Set) / 4AM Kru / Goldie b2b Special Request / Hot Blood / Emily Rawson (Supadupa Fly) / JAW-G / Abbie Neill \nSat 30 May\nScissor Sisters / Friendly Fires / Soul II Soul (Live) / Jayda G / Dan Shake / Horse Meat Disco / Storm Mollison / Dance Dance Dance / Hot Blood / Huns N’ Roses / Ni Gel / Bee OnyettLovebox Festival 2026 Tickets\nTicketsLovebox Festival\nvia TicketmasterBookAccommodation\nThe city of Margate offers a wide range of accommodation options. Book your stay using the map below or visit booking.com \nBook Hotels & Airbnbs near the Venue at the Lowest Price online!\n\nTravel Info\nBY CAR\nGet DirectionsBY TRAIN\nThe fastest way to reach Dreamland Margate from London is by train. High-speed Southeastern services run from London St Pancras International to Margate Station in around 1 hour 25 minutes\, while regular trains from London Victoria or Charing Cross take about 2 hours. Margate Station is just a 5-minute walk from Dreamland’s entrance on Marine Terrace\, making it the easiest and most direct option for festival-goers. \nBY BUS / COACH\nNational Express runs frequent coaches from London Victoria Coach Station to Margate\, with journeys taking roughly 2.5 to 3.5 hours depending on traffic. Coaches arrive at Cecil Square\, about a 10-minute walk from Dreamland. Local Stagecoach buses also connect Margate with nearby seaside towns like Broadstairs\, Ramsgate\, and Canterbury\, ideal for those staying along the Kent coast. \nGallery\nRelated Festivals\nParklife Festival\n20 Jun – 21 Jun | Manchester\, UK\nReading Festival\n27 Aug – 30 Aug | Reading\, UK\n		\n			\n\n				\n				\n					Search for:
URL:https://europebookings.com/festival/lovebox-festival/
LOCATION:Dreamland Margate\, Hall by the Sea Rd\, Marine Terrace\, Margate\, CT9 1XJ\, United Kingdom
CATEGORIES:Electronic,Hip Hop,House,Multi-Genre,Techno,Urban
ATTACH;FMTTYPE=image/jpeg:https://europebookings.com/wp-content/uploads/lovebox-festival-fire-show-main-stage.jpg
END:VEVENT
BEGIN:VEVENT
DTSTART;VALUE=DATE:20260529
DTEND;VALUE=DATE:20260531
DTSTAMP:20260423T202131
CREATED:20181206T185252Z
LAST-MODIFIED:20251129T151655Z
UID:18012-1780012800-1780185599@europebookings.com
SUMMARY:AVA Festival
DESCRIPTION:Get TicketsAccommodationTravel Info\nAVA Festival returns to Belfast in 2026\, bringing with it the cutting-edge spirit that has made it one of the UK and Europe’s most respected celebrations of electronic music and visual arts. Set once again at the iconic Titanic Slipways\, the festival transforms Belfast’s docklands into a vibrant playground of sound\, light\, and creativity — where music\, technology\, and community collide in an immersive urban experience. \nSince its debut in 2015\, AVA (Audio Visual Arts) has become a cultural institution for Ireland and Northern Ireland’s underground scene. What began as a one-day showcase for local DJs has evolved into a global platform that champions the intersection of music and innovation. Each edition combines world-class live performances and DJ sets with groundbreaking visual art\, light installations\, and AV showcases that highlight Belfast’s growing reputation as a creative capital. \nThe 2026 edition promises to elevate that legacy even further. With a multi-stage setup featuring both outdoor arenas and industrial warehouses\, AVA will once again merge club culture with festival energy. The event also includes the AVA Conference\, a daytime gathering of music industry professionals\, producers\, and artists\, hosting workshops\, panels\, and talks exploring the future of music\, production\, and digital art. \nAlthough the official lineup for 2026 is yet to be revealed\, AVA’s track record speaks for itself. Past editions have featured an incredible mix of talent — from headliners such as Bicep\, Peggy Gou\, Jon Hopkins\, Honey Dijon\, DJ Koze\, Mall Grab\, Helena Hauff\, and Overmono\, to homegrown heroes like Or:la\, Saoirse\, and Holly Lester. Attendees can expect a similarly dynamic blend of established icons and emerging artists pushing the boundaries of house\, techno\, and experimental electronic sounds. \nBeyond the music\, AVA Festival captures Belfast’s electric energy — a city that’s as much a part of the experience as the artists themselves. The industrial backdrop of the Titanic Quarter\, the visual artistry\, and the collaborative atmosphere make it a festival unlike any other. As AVA continues to evolve\, 2026 promises another unforgettable chapter — one that celebrates creativity\, connection\, and the powerful rhythm of Belfast’s underground culture. \n\nAVA Festival 2026 Lineup\nLineup to be announced soon: \n2025 Lineup999999999 / AK Sports / Arl4h / BASHKKA / Body Clinic / C. FRIM / Cáit / Caolan Patrick / CHALK Live / Cian / Crilli DnB / DART / DJ Fuckoff / DJ Python / DJ Time Of The Month / Ema / EMBY / Ewan McVicar / Fcukers Live / Hannah / Hi-Kru x Divergence / Holly Lester / Inside Moves / Job Jobse / Jordan Nocturne / JWY / Kessler / KI/KI / Minna-No-Kimochi / OK Williams / Overmono / Plus One / Plain Sailing / Ponyhawke / Reger / Sahana / Sally C / Sam Alfred / Sloucho Live / Spray Presents Spritizz Live / Swoose / TBA / Twitch / Underworld / VTSSAVA Festival 2026 Tickets\nTickets\nAVA Festival\nvia Official Site \nBookAccommodation\nThe city of Belfast offers a wide range of accommodation options. Book your stay for AVA Festival using the map below or visit booking.com \nBook Hotels & Airbnbs near the Venue at the Lowest Price online!\n\nTravel Info\nBY CAR\nGet DirectionsBY BUS\nBus numbers 600\, 38\, 103\, 103b and 530 all pass close to the venue and can be caught from the city centre. \nBY TAXI\nA taxi from the city centre will take you in just over 5 minutes to the venue. \nBY PLANE\nBelfast City Airport (BHD) is just 20 minutes from the city centre. \nBook FlightsAirport TransfersCar RentalsTrain/Bus Tickets\nGallery\nRelated Festivals\nDGTL Amsterdam\n3 Apr – 5 Apr | Amsterdam\, Netherlands\nFree Your Mind Festival\n6 Jun – 7 Jun | Utrecht\, Netherlands\n		\n			\n\n				\n				\n					Search for:
URL:https://europebookings.com/festival/ava-festival/
LOCATION:Boucher Road Playing Fields\, Boucher Road\, Belfast\, BT12 6EU\, United Kingdom
CATEGORIES:Electronic,House,Techno
ATTACH;FMTTYPE=image/jpeg:https://europebookings.com/wp-content/uploads/ava-festival-dancing.jpg
END:VEVENT
BEGIN:VEVENT
DTSTART;VALUE=DATE:20260530
DTEND;VALUE=DATE:20260531
DTSTAMP:20260423T202132
CREATED:20191206T184626Z
LAST-MODIFIED:20260129T113951Z
UID:29040-1780099200-1780185599@europebookings.com
SUMMARY:Soenda Festival
DESCRIPTION:Get TicketsAccommodationTravel Info\nSoenda Festival 2026 returns to the Ruigenhoekse Polder near Utrecht with its signature blend of raw techno\, hypnotic grooves and open-air freedom. Every May\, this lush green landscape transforms into a pulsing sanctuary for underground music lovers\, attracting dedicated ravers from across the Netherlands and beyond. With its uncompromising sound\, sharp artistic vision and fiercely loyal crowd\, Soenda has long been one of the crown jewels of the Dutch electronic music scene. \nLaunched in 2009 by Elevation Events\, Soenda began as a local club night before rapidly evolving into a respected outdoor festival known for its deep roots in underground techno\, house and experimental electronics. Over the years it has welcomed an impressive roster of global names while maintaining a strong focus on rising talent and boundary-pushing artistry. This combination of heritage and innovation has established Soenda as a must-experience festival for fans seeking purity\, intensity and connection on the dancefloor. \nFor 2026\, the festival delivers a razor-sharp lineup that reflects the modern pulse of the underground. Hard-hitting techno titan SNTS leads the charge with his relentless\, shadow-drenched sound\, while Dyen brings high-voltage industrial energy crafted for peak-time chaos. The ever-magnetic Mama Snake adds her trance-infused\, hypnotic signature style\, paired perfectly with the emotionally charged techno of Yanamaste\, a fast-rising favourite in the scene. DJ Heartstring injects euphoric\, rave-ready melodies\, while Odymel supplies bold\, percussive power shaped by deep\, forward-moving rhythms. The lineup continues with cutting-edge talents such as Benwal\, Differnt\, Morgan Seatree\, and the dynamic duo Milion & Saidah\, each contributing their own unique flavours to the festival’s sonic landscape. \nThe festival grounds come alive with multiple stages woven between forest paths\, open fields and intimate natural spaces. Expect heavy warehouse-style tents\, sunlit outdoor arenas and immersive late-night zones illuminated by lasers\, strobes and atmospheric design. Precision-engineered sound systems ensure every kick and bassline hits with absolute clarity\, maintaining Soenda’s reputation for flawless audio quality. \nFood and drink options are plentiful\, with gourmet street food\, vegan selections\, sweet treats and refreshing beverages available throughout the site. Most visitors stay in Utrecht\, a vibrant city renowned for its canals\, nightlife and wide range of accommodations\, all easily accessible from the festival via bike routes\, public transport and dedicated shuttle services. \nWith its loyal community\, cutting-edge programming and deep commitment to underground culture\, Soenda Festival 2026 promises an unforgettable day of pure energy and musical immersion — a celebration of electronic music in its most authentic and powerful form. \n\nSoenda Festival 2026 Lineup\nAll Artists22 Interns / Afem Syko & Cynthia Spiering / Autoflower / Bella Claxton & Dart / Benwal / DiffreNT / Diøn & DJ Hyperdrive / DJ Cringey / DJ Heartstring / Dyen / Eva Vrijdag / Fenrick / Inafekt / Jamie & Lucas Bergen / Jessie Dols / Kinetiks / Lammer / LB Aka Labat / Lena / Lisa Korver / Lobster / Mama Snake / Milion & Saidah / Morgan Seatree / Novah / Odymel / Olivia Lensen / Paige Tomlinson / Partiboi69 / Philippa Pacho / She/Her / SNTS / Tjade / Überkikz / YanamasteSoenda Festival 2026 Tickets\nTicketsSoenda Festival\nvia Official SiteBookAccommodation\nThe city of Utrecht offers a wide range of accommodation options. Book your stay using the interactive map below or visit booking.com \nBook Hotels & Airbnbs near the Venue at the Lowest Price online!\n\nTravel Info\nBY CAR\nParking is available and tickets at €16.00 can be purchased here \nGet DirectionsBY SHUTTLE BUS\nDuring Soenda festival the shuttle bus will drive from Station Overvecht to the venue and back and tickets can be purchased here \nBY TRAIN\nUtrecht Centraal Station is accessible from most European cities\, but may require a transfer in Amsterdam. Upon arrival take the train to Station Overvecht and from there take the festival’s Shuttle Bus to the venue. \nBY TAXI\nThere’s a special taxi stand where taxis can drop you off and pick you up later on. \nBY UBER\nDuring Soenda festival Uber taxis can drop you off and pick you up later on. Use “Bastionweg\, Utrecht” as a navigation address \nBY PLANE\nThe nearest airport is Amsterdam Airport Schiphol (AMS). Upon arrival take the train to Utrecht Centraal Station (30 minutes). From there take the bus to Groenekan\, Buitenlust (20 min journey)\, a short walk away from the venue. You can also take the train to Station Overvecht and from there take the festival’s Shuttle Bus to the venue. \nBook FlightsAirport TransfersCar RentalsTrain/Bus Tickets\nGallery\nRelated Festivals\nParklife Festival\n13 – 15 Jun | Manchester\, UK\nIsle of Wight Festival\n19 Jun – 22 Jun | Newport\, UK\n		\n			\n\n				\n				\n					Search for:
URL:https://europebookings.com/festival/soenda-festival/
LOCATION:Soenda Festival\, Sint Anthoniedijk 120\, Utrecht\, 3566 ME\, Netherlands
CATEGORIES:Electronic,House,Techno
ATTACH;FMTTYPE=image/jpeg:https://europebookings.com/wp-content/uploads/soenda-festival-stage-lights-show.jpg
END:VEVENT
END:VCALENDAR