BEGIN:VCALENDAR
VERSION:2.0
PRODID:-//Europebookings - ECPv6.15.20//NONSGML v1.0//EN
CALSCALE:GREGORIAN
METHOD:PUBLISH
X-WR-CALNAME:Europebookings
X-ORIGINAL-URL:https://europebookings.com
X-WR-CALDESC:Events for Europebookings
REFRESH-INTERVAL;VALUE=DURATION:PT1H
X-Robots-Tag:noindex
X-PUBLISHED-TTL:PT1H
BEGIN:VTIMEZONE
TZID:Asia/Nicosia
BEGIN:DAYLIGHT
TZOFFSETFROM:+0200
TZOFFSETTO:+0300
TZNAME:EEST
DTSTART:20250330T010000
END:DAYLIGHT
BEGIN:STANDARD
TZOFFSETFROM:+0300
TZOFFSETTO:+0200
TZNAME:EET
DTSTART:20251026T010000
END:STANDARD
BEGIN:DAYLIGHT
TZOFFSETFROM:+0200
TZOFFSETTO:+0300
TZNAME:EEST
DTSTART:20260329T010000
END:DAYLIGHT
BEGIN:STANDARD
TZOFFSETFROM:+0300
TZOFFSETTO:+0200
TZNAME:EET
DTSTART:20261025T010000
END:STANDARD
BEGIN:DAYLIGHT
TZOFFSETFROM:+0200
TZOFFSETTO:+0300
TZNAME:EEST
DTSTART:20270328T010000
END:DAYLIGHT
BEGIN:STANDARD
TZOFFSETFROM:+0300
TZOFFSETTO:+0200
TZNAME:EET
DTSTART:20271031T010000
END:STANDARD
END:VTIMEZONE
BEGIN:VEVENT
DTSTART;VALUE=DATE:20260603
DTEND;VALUE=DATE:20260609
DTSTAMP:20260423T215313
CREATED:20231106T113503Z
LAST-MODIFIED:20251124T133251Z
UID:75626-1780444800-1780963199@europebookings.com
SUMMARY:Spring Break Europe
DESCRIPTION:Get TicketsAccommodationTravel Info\nSpring Break Europe 2026 invites you to the legendary sun-drenched shores of Zrće Beach on the island of Pag in Croatia\, where beach\, sea and unforgettable parties collide. Celebrated as one of Europe’s ultimate spring-festival experiences\, the event blends pool parties\, boat cruises\, club nights and adrenaline-fuelled water sports into one epic long weekend. \nSince its early days\, Spring Break Europe has grown into the go-to destination for students and party-seekers across the continent — a four-to-five-night takeover of beach clubs like Papaya Club\, Noa Beach Club and Kalypso Club that stretch from noon-to-dawn under the Adriatic stars. Page after page of sun-kissed memories and weekend-long energy have made it synonymous with the start of summer. \nFor its 2026 edition\, Spring Break Europe promises two unforgettable periods: 3–8 June\, with optional 3- to 6-night stays to suit your rhythm and crew. ￼ Expect the full holiday-festival package: beach stages\, boat parties\, poolside sessions\, banana-boat rides\, jet-ski wake-boarding\, and DJs delivered across multiple legendary venues. \nWhether you’re dancing in the sand\, floating on a party boat\, or back finishing a beach-to-club combo until dawn\, Spring Break Europe 2026 is built for energy\, connection and freedom. It’s not just a festival — it’s your spring holiday rolled into one wild beat. \n\nSpring Break Europe 2026 Lineup\nLineup to be announced soon: \n2025 LineupTujamo / Nic Johnston / and many moreSpring Break Europe 2026 Tickets\nTicketsZrce Spring Break Croatia\nvia Official SiteBookAccommodation\nThe city of Novalja and nearby areas offer a wide range of accommodation options. Book your stay using the map below or visit booking.com \nBook Hotels & Airbnbs near the Venue at the Lowest Price online!\n\n\n  \n   \n  \n  Travel Info\nBY CAR\nGet DirectionsBY BUS FROM ZADAR\nThere are a handful of buses running this route per day. It’s a shorter journey\, about 1hr 30 mins and BusCroatia will cost €10-15. \nFROM SPLIT\nThe best route from Split to Novalja is to take a taxi to nearby town of Trogir (approx. €25-30) and then take the bus to Zadar with BusCroatia (approx. €12-19). The journey lasts around 2 hrs 40 mins. From Zadar\, you will need take the bus to Novalja. \nBY PLANE\nThe nearest airport to the festival is Zadar Airport\, around 50km away\, and is served by destinations across much of Europe. Split airport is the largest in the south of Croatia\, just a few hours further down the coast. \nBook FlightsAirport TransfersCar RentalsTrain/Bus Tickets\nGallery\nRelated Festivals\nHideout Festival\n22 Jun – 26 Jun | Zrće Beach\, Novalja\, Croatia\nSonus Festival\n17 Aug – 21 Aug | Zrće Beach\, Novalja\, Croatia\n		\n			\n\n				\n				\n					Search for:
URL:https://europebookings.com/festival/spring-break-europe/
LOCATION:Zrće Beach\, Zrće Beach\, Novalja\, 53291\, Croatia (Local Name: Hrvatska)
CATEGORIES:EDM,Electronic
ATTACH;FMTTYPE=image/jpeg:https://europebookings.com/wp-content/uploads/spring-break-europe-stage-fireworks.jpg
END:VEVENT
END:VCALENDAR