BEGIN:VCALENDAR
VERSION:2.0
PRODID:-//Europebookings - ECPv6.15.20//NONSGML v1.0//EN
CALSCALE:GREGORIAN
METHOD:PUBLISH
X-ORIGINAL-URL:https://europebookings.com
X-WR-CALDESC:Events for Europebookings
REFRESH-INTERVAL;VALUE=DURATION:PT1H
X-Robots-Tag:noindex
X-PUBLISHED-TTL:PT1H
BEGIN:VTIMEZONE
TZID:Asia/Nicosia
BEGIN:DAYLIGHT
TZOFFSETFROM:+0200
TZOFFSETTO:+0300
TZNAME:EEST
DTSTART:20250330T010000
END:DAYLIGHT
BEGIN:STANDARD
TZOFFSETFROM:+0300
TZOFFSETTO:+0200
TZNAME:EET
DTSTART:20251026T010000
END:STANDARD
BEGIN:DAYLIGHT
TZOFFSETFROM:+0200
TZOFFSETTO:+0300
TZNAME:EEST
DTSTART:20260329T010000
END:DAYLIGHT
BEGIN:STANDARD
TZOFFSETFROM:+0300
TZOFFSETTO:+0200
TZNAME:EET
DTSTART:20261025T010000
END:STANDARD
BEGIN:DAYLIGHT
TZOFFSETFROM:+0200
TZOFFSETTO:+0300
TZNAME:EEST
DTSTART:20270328T010000
END:DAYLIGHT
BEGIN:STANDARD
TZOFFSETFROM:+0300
TZOFFSETTO:+0200
TZNAME:EET
DTSTART:20271031T010000
END:STANDARD
END:VTIMEZONE
BEGIN:VEVENT
DTSTART;VALUE=DATE:20260614
DTEND;VALUE=DATE:20260724
DTSTAMP:20260423T234741
CREATED:20230210T164328Z
LAST-MODIFIED:20251113T214532Z
UID:68160-1781395200-1784851199@europebookings.com
SUMMARY:Festival de Nîmes
DESCRIPTION:Get TicketsAccommodationTravel Info\nFestival de Nîmes 2026 returns to the majestic Arènes de Nîmes\, one of France’s most breathtaking Roman amphitheatres\, for another season of unforgettable open-air concerts beneath the southern stars. Each summer\, this ancient arena — dating back nearly two thousand years — transforms into one of Europe’s most unique live music stages\, where world-renowned artists perform in front of thousands of passionate fans surrounded by history\, elegance\, and Mediterranean warmth. \nSince its creation in 1997\, Festival de Nîmes has become a cornerstone of France’s live music calendar\, blending timeless architecture with modern sound and spectacle. Its atmosphere is unlike any other: the stone arches echo with guitars\, pianos\, and voices that have defined generations. Every performance feels intimate yet monumental — a celebration of artistry in one of the most stunning venues in the world. \nThe 2026 edition promises a vibrant and eclectic line-up\, uniting rock icons\, pop legends\, and contemporary French favourites. Confirmed acts include Feu! Chatterton and Benjamin Biolay (14 June)\, Sabaton (17 June)\, Jamiroquai (2 July)\, Sting (6 July)\, Pixies (7 July)\, Marilyn Manson (8 July)\, Béjart Ballet Lausanne (10 July)\, Katy Perry (11 July)\, Lorde (13 July)\, Nick Cave & The Bad Seeds (14 July)\, Christophe Maé (17 July)\, Gims (21 July)\, and OrelSan\, who will perform two special nights on 22 and 23 July. This stellar mix of international stars and French luminaries showcases the festival’s dedication to diversity and excellence across genres. \nBeyond the music\, Nîmes offers visitors a truly immersive experience. The city’s sun-drenched streets\, Roman heritage sites\, and Provençal charm make it the perfect backdrop for summer nights filled with rhythm and emotion. With its blend of world-class performances\, historical grandeur\, and Mediterranean atmosphere\, Festival de Nîmes 2026 promises another season of timeless concerts — where ancient stones meet modern sound in a celebration of culture that only France can deliver. \n\nFestival de Nîmes 2026 Tickets & Program\n14 Jun - Feu! Chatterton / Benjamin BiolayBuy Tickets17 Jun - SabatonBuy Tickets02 Jul - JamiroquaiBuy Tickets06 Jul - StingBuy Tickets07 Jul - PixiesBuy Tickets08 Jul - Marilyn MansonBuy Tickets10 Jul - Béjart Ballet LausanneBuy Tickets13 Jul - LordeBuy Tickets14 Jul - Nick Cave & The Bad SeedsBuy Tickets17 Jul - Christophe MaéBuy Tickets21 Jul - GimsBuy Tickets22 Jul - OrelSanBuy Tickets23 Jul - OrelSanBuy TicketsAccommodation\nThe city of Nimes offers a wide range of accommodation options. Book your stay using the interactive map below or visit booking.com \nBook Hotels & Airbnbs near the Venue at the Lowest Price online!\n\nTravel Info\nBY CAR\nGet DirectionsBY TRAIN\nNimes is well connected by rail in France and major European cities. Nimes Station is a 7 min walk away from the venue. \nBY PLANE\nFrom Nimes Airport (FNI) take the Bus from Grand’ Terre to Parking Relais A54 (14 min journey) and from there take the Bus to Arenes (12 min journey)\, just a 4 min walk away from the venue. Alternatively you can take a short 10 min taxi ride to the venue. \nBook FlightsAirport TransfersCar RentalsTrain/Bus Tickets\nGallery\nRelated Festivals\nKappa Futur Festival\n4 Jul – 6 Jul | Turin\, Italy\nUltra Europe Festival\n11 Jul – 13 Jul | Split\, Croatia\n		\n			\n\n				\n				\n					Search for:
URL:https://europebookings.com/festival/festival-de-nimes/
LOCATION:Arena of Nîmes\, Arena of Nîmes\, Bd des Arènes\, 30000 Nîmes\, France\, Nîmes\, 30000\, France
CATEGORIES:Electronic,Multi-Genre,Pop,Rock
ATTACH;FMTTYPE=image/jpeg:https://europebookings.com/wp-content/uploads/festival-de-nimes-fireworks.jpg
END:VEVENT
BEGIN:VEVENT
DTSTART;VALUE=DATE:20260627
DTEND;VALUE=DATE:20260705
DTSTAMP:20260423T234741
CREATED:20191024T173234Z
LAST-MODIFIED:20251128T164746Z
UID:25545-1782518400-1783209599@europebookings.com
SUMMARY:Roskilde Festival
DESCRIPTION:Get TicketsAccommodationTravel Info\nRoskilde 2026 is already shaping up to be one of the biggest editions yet — the official first wave of acts was revealed in late 2025\, opening the floodgates for what promises to be a diverse\, explosive mix of music\, art and community.  ￼ \nExpect headline-level performances from Gorillaz\, The Cure and Ethel Cain — plus standout names like Bad Gyal\, Tobias Rahim\, Brutalismus 3000\, COBRAH and Pa Salieu — bridging genres from rock and pop to rap\, electronic and experimental soundscapes.  ￼ \nThe festival will once again blend global names with rising stars and local gems. The announced lineup also includes artists such as Sierra Ferrell\, ¥ØU$UK€ ¥UK1MAT$U\, Adrian Quesada\, DBN Gogo\, Iglooghost\, The New Eves\, Primitive Man\, Folk Bitch Trio and many more — offering something for nearly every musical taste.  ￼ \nBeyond the music\, Roskilde 2026 promises a full-on festival city experience: extended camping zones\, new stages\, fresh layouts and a vibrant sense of community that has always marked Roskilde as more than just a concert series — but a gathering of people from everywhere\, for music\, creativity\, and connection.  ￼ \n\nRoskilde Festival 2026 Lineup\nAll ArtistsAdrian Quesada / Bad Gyal / Brutalismus 3000 / COBRAH / DBN Gogo / Ethel Cain / Folk Bitch Trio / Gorillaz / Iglooghost / Pa Salieu / Primitive Man / Sierra Ferrell / The Cure / The New Eves / Tobias Rahim / ¥ØU$UK€ ¥UK1MAT$U / Baby Bites / BLONDSHELL / Bru-C / Julieta / Malvinas / Mechatok / Teezo Touchdown / Yaya Bey / and many moreRoskilde Festival 2026 Tickets\nTickets\nRoskilde Festivalvia Official Site \nBookAccommodation\nCamping during the festival is included in the festival ticket\, so all you need is basic camping gear\, like a tent\, a camping pad and a head torch (so useful in the night). If you don’t want to bring your own tent\, the festival offers Premium Camping options in the Special Camping section here \nAlternatively\, you can book nearby hotels and apartments using the map below or visit booking.com \nBook Hotels & Airbnbs near the Venue at the Lowest Price online!\n\nTravel Info\nBY CAR\nGet DirectionsBY TRAIN\nThe festival operates a shuttle bus service between Roskilde Station\, Østergade and the festival entrance. \nBY PLANE\nCologne Bonn Airport (CGN) and Frankfurt Airport (FRA) are the closest to the festival. \nBook FlightsAirport TransfersCar RentalsTrain/Bus Tickets\nGallery\nRelated Festivals\nDownload Festival\n12 Jun – 14 Jun | Derby\, UK\nLytham Festival\n1 Jul – 5 Jul | Lytham Green\, UK\n		\n			\n\n				\n				\n					Search for:
URL:https://europebookings.com/festival/roskilde-festival/
LOCATION:Animal Showgrounds\, Darupvej 19\, Roskilde\, 4000\, Denmark
CATEGORIES:Electronic,Indie,Multi-Genre,Rock
ATTACH;FMTTYPE=image/jpeg:https://europebookings.com/wp-content/uploads/roskilde-festival-main-stage-lights.jpg
END:VEVENT
BEGIN:VEVENT
DTSTART;VALUE=DATE:20260630
DTEND;VALUE=DATE:20260704
DTSTAMP:20260423T234741
CREATED:20251112T153651Z
LAST-MODIFIED:20251112T153828Z
UID:83609-1782777600-1783123199@europebookings.com
SUMMARY:Hideout Festival
DESCRIPTION:Get TicketsAccommodationTravel Info\nHideout Festival 2026: The Ultimate Beach Party Experience \nHideout Festival 2026 returns to the sun-drenched shores of Zrće Beach\, Pag Island\, Croatia\, promising another epic week of music\, sea and unforgettable summer hedonism. Known for its legendary beach venues\, boat parties\, and sunrise-to-sunset sessions\, Hideout has become Europe’s premier electronic beach festival — a rite of passage for dance lovers chasing beats under the Adriatic sun. \nSince launching in 2011\, Hideout has mastered the art of balancing chaos and chill: mornings spent swimming in turquoise water\, afternoons lounging at pool parties\, and nights that explode across open-air clubs like Papaya\, Aquarius\, Noa\, Kalypso\, and Euphoria. Every venue offers world-class sound systems\, dazzling light shows\, and that rare sense of freedom that only comes from dancing with sand underfoot and the sea beside you. \nThe festival’s reputation for stellar line-ups is well earned. Previous years have seen electrifying sets from heavyweights like Fisher\, Sonny Fodera\, Chase & Status\, Patrick Topping\, The Blessed Madonna\, Gorgon City\, Solardo\, CamelPhat\, Ben Hemsley\, Andy C\, Hannah Laing\, and Skream\, alongside next-gen names shaping the future of electronic music. Expect 2026 to continue that legacy with a cross-genre blend of house\, drum & bass\, techno and UK bass — a soundscape built for beachside euphoria. \nHideout isn’t just about the music — it’s about the adventure. By day\, festivalgoers dive into boat parties cruising the Adriatic\, pool takeovers\, and VIP beach brunches; by night\, the coastline transforms into an open-air clubbing paradise where lasers slice through sea mist and the crowd dances until dawn. Add in cliff-jumping spots\, island tours\, and unforgettable sunsets\, and you’ve got a festival that feels more like a summer dream than a weekend away. \n\nHideout Festival 2026 Lineup\nAll Artists4Am Kru / Alan Fitzpatrick / Alison Free / Bakey / Ben Hemsley / Daire / Daisy / Darius Syrossian / Diffrent / Dj Heartstring / East End Dubs / Eliza Rose / Ella Knight / Ellia Jaya / Elliot Schooling & Liam Palmer / Ewan Mcvicar / Faster Horses / Fish56Octagon / Gaskin / Gorgon City / Hamdi / Interplanetary Criminal / Jamback / Josh Baker / Kepler / Kettama / Kilimanjaro / Kyle Starkey / L.P. Rhythm / La La / Lf System / Locky / Luke Dean / Luuk Van Dijk / Malugi / Max Dean / Morgan Seatree / Obskür / Oden & Fatzo (Live) / Omar+ / Paige Tomlinson / Paul Woolford / Prospa / Rio Tashan / Rossi. / Sam Divine / Sarah Story / Silva Bumpa / Sim0ne / Skream / Sosa / Special Request / + More TBAHideout Festival 2026 Tickets\nTicketsHideout Festival\nvia Official SiteBookAccommodation\nThe city of Novalja offers a wide range of accommodation options. Book your stay using the interactive map below or visit booking.com \nBook Hotels & Airbnbs near the Venue at the Lowest Price online!\n\nTravel Info\nBY CAR\nGet DirectionsBY BUS\nThe festival offers Airport Transfers to Novalja and back from Zadar\, Split and Zagreb airports and tickets from £30.50 can be purchased here \nFROM ZADAR\nThere are a handful of buses running this route per day. It’s a shorter journey\, about 1hr 30 mins and BusCroatia will cost €10-15. \nFROM SPLIT\nThe best route from Split to Novalja is to take a taxi to nearby town of Trogir (approx. €25-30) and then take the bus to Zadar with BusCroatia (approx. €12-19). The journey lasts around 2 hrs 40 mins. From Zadar\, you will need take the bus to Novalja. \nBY PLANE\nThe nearest airport to the festival is Zadar Airport. Split airport is the largest in the south of Croatia\, just a few hours further down the coast. Zagreb airport is 200 km away. Airport Transfers to Novalja and back from the all airports can be booked here \nBook FlightsAirport TransfersCar RentalsTrain/Bus Tickets\nGallery
URL:https://europebookings.com/festival/hideout-festival/
LOCATION:Zrće Beach\, Zrće Beach\, Novalja\, 53291\, Croatia (Local Name: Hrvatska)
CATEGORIES:Electronic,House,Techno
ATTACH;FMTTYPE=image/jpeg:https://europebookings.com/wp-content/uploads/hideout-festival-papaya-club-stage-lights.jpg
END:VEVENT
END:VCALENDAR