BEGIN:VCALENDAR
VERSION:2.0
PRODID:-//Europebookings - ECPv6.15.20//NONSGML v1.0//EN
CALSCALE:GREGORIAN
METHOD:PUBLISH
X-ORIGINAL-URL:https://europebookings.com
X-WR-CALDESC:Events for Europebookings
REFRESH-INTERVAL;VALUE=DURATION:PT1H
X-Robots-Tag:noindex
X-PUBLISHED-TTL:PT1H
BEGIN:VTIMEZONE
TZID:Asia/Nicosia
BEGIN:DAYLIGHT
TZOFFSETFROM:+0200
TZOFFSETTO:+0300
TZNAME:EEST
DTSTART:20250330T010000
END:DAYLIGHT
BEGIN:STANDARD
TZOFFSETFROM:+0300
TZOFFSETTO:+0200
TZNAME:EET
DTSTART:20251026T010000
END:STANDARD
BEGIN:DAYLIGHT
TZOFFSETFROM:+0200
TZOFFSETTO:+0300
TZNAME:EEST
DTSTART:20260329T010000
END:DAYLIGHT
BEGIN:STANDARD
TZOFFSETFROM:+0300
TZOFFSETTO:+0200
TZNAME:EET
DTSTART:20261025T010000
END:STANDARD
BEGIN:DAYLIGHT
TZOFFSETFROM:+0200
TZOFFSETTO:+0300
TZNAME:EEST
DTSTART:20270328T010000
END:DAYLIGHT
BEGIN:STANDARD
TZOFFSETFROM:+0300
TZOFFSETTO:+0200
TZNAME:EET
DTSTART:20271031T010000
END:STANDARD
END:VTIMEZONE
BEGIN:VEVENT
DTSTART;VALUE=DATE:20260614
DTEND;VALUE=DATE:20260724
DTSTAMP:20260423T233732
CREATED:20230210T164328Z
LAST-MODIFIED:20251113T214532Z
UID:68160-1781395200-1784851199@europebookings.com
SUMMARY:Festival de Nîmes
DESCRIPTION:Get TicketsAccommodationTravel Info\nFestival de Nîmes 2026 returns to the majestic Arènes de Nîmes\, one of France’s most breathtaking Roman amphitheatres\, for another season of unforgettable open-air concerts beneath the southern stars. Each summer\, this ancient arena — dating back nearly two thousand years — transforms into one of Europe’s most unique live music stages\, where world-renowned artists perform in front of thousands of passionate fans surrounded by history\, elegance\, and Mediterranean warmth. \nSince its creation in 1997\, Festival de Nîmes has become a cornerstone of France’s live music calendar\, blending timeless architecture with modern sound and spectacle. Its atmosphere is unlike any other: the stone arches echo with guitars\, pianos\, and voices that have defined generations. Every performance feels intimate yet monumental — a celebration of artistry in one of the most stunning venues in the world. \nThe 2026 edition promises a vibrant and eclectic line-up\, uniting rock icons\, pop legends\, and contemporary French favourites. Confirmed acts include Feu! Chatterton and Benjamin Biolay (14 June)\, Sabaton (17 June)\, Jamiroquai (2 July)\, Sting (6 July)\, Pixies (7 July)\, Marilyn Manson (8 July)\, Béjart Ballet Lausanne (10 July)\, Katy Perry (11 July)\, Lorde (13 July)\, Nick Cave & The Bad Seeds (14 July)\, Christophe Maé (17 July)\, Gims (21 July)\, and OrelSan\, who will perform two special nights on 22 and 23 July. This stellar mix of international stars and French luminaries showcases the festival’s dedication to diversity and excellence across genres. \nBeyond the music\, Nîmes offers visitors a truly immersive experience. The city’s sun-drenched streets\, Roman heritage sites\, and Provençal charm make it the perfect backdrop for summer nights filled with rhythm and emotion. With its blend of world-class performances\, historical grandeur\, and Mediterranean atmosphere\, Festival de Nîmes 2026 promises another season of timeless concerts — where ancient stones meet modern sound in a celebration of culture that only France can deliver. \n\nFestival de Nîmes 2026 Tickets & Program\n14 Jun - Feu! Chatterton / Benjamin BiolayBuy Tickets17 Jun - SabatonBuy Tickets02 Jul - JamiroquaiBuy Tickets06 Jul - StingBuy Tickets07 Jul - PixiesBuy Tickets08 Jul - Marilyn MansonBuy Tickets10 Jul - Béjart Ballet LausanneBuy Tickets13 Jul - LordeBuy Tickets14 Jul - Nick Cave & The Bad SeedsBuy Tickets17 Jul - Christophe MaéBuy Tickets21 Jul - GimsBuy Tickets22 Jul - OrelSanBuy Tickets23 Jul - OrelSanBuy TicketsAccommodation\nThe city of Nimes offers a wide range of accommodation options. Book your stay using the interactive map below or visit booking.com \nBook Hotels & Airbnbs near the Venue at the Lowest Price online!\n\nTravel Info\nBY CAR\nGet DirectionsBY TRAIN\nNimes is well connected by rail in France and major European cities. Nimes Station is a 7 min walk away from the venue. \nBY PLANE\nFrom Nimes Airport (FNI) take the Bus from Grand’ Terre to Parking Relais A54 (14 min journey) and from there take the Bus to Arenes (12 min journey)\, just a 4 min walk away from the venue. Alternatively you can take a short 10 min taxi ride to the venue. \nBook FlightsAirport TransfersCar RentalsTrain/Bus Tickets\nGallery\nRelated Festivals\nKappa Futur Festival\n4 Jul – 6 Jul | Turin\, Italy\nUltra Europe Festival\n11 Jul – 13 Jul | Split\, Croatia\n		\n			\n\n				\n				\n					Search for:
URL:https://europebookings.com/festival/festival-de-nimes/
LOCATION:Arena of Nîmes\, Arena of Nîmes\, Bd des Arènes\, 30000 Nîmes\, France\, Nîmes\, 30000\, France
CATEGORIES:Electronic,Multi-Genre,Pop,Rock
ATTACH;FMTTYPE=image/jpeg:https://europebookings.com/wp-content/uploads/festival-de-nimes-fireworks.jpg
END:VEVENT
BEGIN:VEVENT
DTSTART;VALUE=DATE:20260708
DTEND;VALUE=DATE:20260713
DTSTAMP:20260423T233732
CREATED:20200612T174312Z
LAST-MODIFIED:20251117T140628Z
UID:37691-1783468800-1783900799@europebookings.com
SUMMARY:Airbeat One Festival
DESCRIPTION:Get TicketsAccommodationTravel Info\nAirbeat One Festival 2026 will once again transform the airfield of Neustadt-Glewe\, Germany\, into a monumental playground of sound\, light\, and emotion — a four-day electronic odyssey that stands as one of Europe’s biggest and most visually spectacular dance festivals. With its massive stages\, world-class production\, and truly international crowd\, Airbeat One is more than just a festival — it’s a global celebration of unity through music. \nSince its launch in 2002\, Airbeat One has evolved into a symbol of the European festival scene\, drawing over 200\,000 visitors each summer from across the world. Each edition revolves around a new creative theme — from “Italy” and “India” to “The Future” — blending stunning stage architecture\, laser shows\, fireworks\, and top-tier sound design into an unforgettable sensory experience. The festival spans multiple arenas\, including the iconic Mainstage\, Terminal Stage\, Arena Stage\, and Hardstyle Stage\, each dedicated to a distinct sonic journey — from euphoric EDM and house to underground techno\, trance\, and hardstyle. \nThe 2026 line-up already hints at another phenomenal edition\, featuring global heavyweights such as Amelie Lens\, Vini Vici\, Angerfist\, Scooter\, Holy Priest\, Cascada\, Charly Lownoise\, CARA Elizabeth\, and Novah — an exciting mix of mainstage titans and underground innovators. Expect explosive performances\, breathtaking visuals\, and a crowd united by one shared pulse — the rhythm of Airbeat. \nBeyond the stages\, Airbeat One offers a complete experience of music and connection: camping zones that turn into mini-cities\, late-night parties\, fairground rides\, art installations\, and even a VIP village for those seeking extra comfort. The festival’s signature energy is impossible to replicate — a combination of precision German organisation and pure emotional chaos that makes every drop feel monumental. \nWith its unparalleled production\, monumental line-ups\, and unmatched atmosphere\, Airbeat One Festival 2026 promises to once again take flight as one of Europe’s defining electronic music spectacles — a place where freedom\, creativity\, and the power of dance come alive under the vast German sky. \n\nAirbeat One 2026 Lineup\nAll ArtistsAmelie Lens / CARA Elizabeth / Cascada / Charly Lownoise / Novah / Scooter / Holy Priest / and many moreAirbeat One 2026 Tickets\nTicketsAirbeat One Festival\nvia Official SiteBookAccommodation\nCamping during the festival requires a Camping Ticket purchased here. All you need is basic camping gear\, like a tent\, a camping pad and a head torch (so useful in the night). If you don’t want to bring your own tent\, the festival offers pre-pitched tents with extra comfort purchased here \nAlternatively\, you can book nearby hotels and apartments using the map below or visit booking.com \nBook Hotels & Airbnbs near the Venue at the Lowest Price online!\n\nTravel Info\nBY CAR\nParking is available and tickets can be purchased here \nGet DirectionsBY BUS\nBus Tours from various cities in Germany will take you to the festival and back. Tickets can be purchased here \nBY TRAIN\nTake the train from Hamburg Hbf to Ludwigslust (50 min journey – approx. €25 – €40) and take the train from Ludwigslust to Neustadt-Glewe (10 min journey – approx. €2). \nBY PLANE\nHamburg Airport is the nearest international airport to Neustadt-Glewe. The journey by public transport is around 2 hours 30 minutes\, costing roughly €35. Alternatively\, the journey is around 1 hour 20 minutes by car. \nBook FlightsAirport TransfersCar RentalsTrain/Bus Tickets\nGallery\nRelated Festivals\nAirbeat One Festival\n9 Jul – 13 Jul | Neustadt-Glewe\, Germany\nNature One Festival\n31 Jul – 3 Aug | Kastellaun\, Germany\n		\n			\n\n				\n				\n					Search for:
URL:https://europebookings.com/festival/airbeat-one-festival/
LOCATION:Neustadt-Glewe Airport\, Flugplatz 1\, Neustadt-Glewe\, 19306\, Germany
CATEGORIES:EDM,Electronic,Hardcore,Hardstyle,House,Techno,Trance
ATTACH;FMTTYPE=image/jpeg:https://europebookings.com/wp-content/uploads/airbeat-one-festival-fireworks.jpg
END:VEVENT
END:VCALENDAR