BEGIN:VCALENDAR
VERSION:2.0
PRODID:-//Europebookings - ECPv6.15.20//NONSGML v1.0//EN
CALSCALE:GREGORIAN
METHOD:PUBLISH
X-ORIGINAL-URL:https://europebookings.com
X-WR-CALDESC:Events for Europebookings
REFRESH-INTERVAL;VALUE=DURATION:PT1H
X-Robots-Tag:noindex
X-PUBLISHED-TTL:PT1H
BEGIN:VTIMEZONE
TZID:Asia/Nicosia
BEGIN:DAYLIGHT
TZOFFSETFROM:+0200
TZOFFSETTO:+0300
TZNAME:EEST
DTSTART:20250330T010000
END:DAYLIGHT
BEGIN:STANDARD
TZOFFSETFROM:+0300
TZOFFSETTO:+0200
TZNAME:EET
DTSTART:20251026T010000
END:STANDARD
BEGIN:DAYLIGHT
TZOFFSETFROM:+0200
TZOFFSETTO:+0300
TZNAME:EEST
DTSTART:20260329T010000
END:DAYLIGHT
BEGIN:STANDARD
TZOFFSETFROM:+0300
TZOFFSETTO:+0200
TZNAME:EET
DTSTART:20261025T010000
END:STANDARD
BEGIN:DAYLIGHT
TZOFFSETFROM:+0200
TZOFFSETTO:+0300
TZNAME:EEST
DTSTART:20270328T010000
END:DAYLIGHT
BEGIN:STANDARD
TZOFFSETFROM:+0300
TZOFFSETTO:+0200
TZNAME:EET
DTSTART:20271031T010000
END:STANDARD
END:VTIMEZONE
BEGIN:VEVENT
DTSTART;VALUE=DATE:20260805
DTEND;VALUE=DATE:20260810
DTSTAMP:20260424T024342
CREATED:20191213T201223Z
LAST-MODIFIED:20251117T185526Z
UID:29849-1785888000-1786319999@europebookings.com
SUMMARY:Boardmasters Festival
DESCRIPTION:Get TicketsAccommodationTravel Info\nBoardmasters Festival 2026 will once again bring its irresistible blend of music\, surf\, and coastal culture to the stunning shores of Newquay\, Cornwall\, uniting thousands of festival-goers for one of the UK’s most iconic summer experiences. Set between Watergate Bay and Fistral Beach\, the festival captures the true spirit of freedom and adventure — combining world-class live performances with the laid-back lifestyle of Britain’s surfing capital. \nWhat began in 1981 as a small surfing competition has evolved into a multi-sensory celebration of beach life and live music. Today\, Boardmasters stands as a unique hybrid of surf championships\, skate competitions\, and a major open-air music festival\, with breathtaking sea views and a distinctly Cornish soul. From early morning surf sessions to late-night headline sets\, every moment feels infused with sunshine\, salt air\, and pure energy. \nThe 2026 edition is expected to build on the success of previous years\, which have seen legendary performances from global stars such as Lorde\, Florence + The Machine\, Foals\, Liam Gallagher\, Kings of Leon\, Sam Fender\, George Ezra\, Disclosure\, The Chemical Brothers\, Bastille\, Dermot Kennedy\, Ben Howard\, and Catfish and the Bottlemen. Alongside these major names\, Boardmasters continues to champion rising UK talent\, with its BBC Introducing Stage and The View areas offering a platform for breakthrough acts and underground gems across genres like indie\, pop\, dance\, drum & bass\, and surf rock. \nBeyond the music\, Boardmasters is a full sensory escape. Visitors can watch the world’s best surfers compete at Fistral Beach\, explore the Surf Village\, or join yoga sessions overlooking the sea. As night falls\, the festival transforms into a glowing\, beachside wonderland\, with art installations\, campfires\, and spontaneous parties stretching into the early hours. \nWith its unbeatable combination of breathtaking scenery\, surf culture\, and top-tier music\, Boardmasters Festival 2026 promises another unforgettable summer of rhythm\, waves\, and togetherness — a perfect reflection of Cornwall’s coastal spirit and the pure joy of seaside living. \n\nBoardmasters Festival 2026 Lineup\nLineup to be announced soon: \n2025 Lineup\nA Little Sound / Ahadadream / Arielle Free / Badger / Bakey / Basslayerz / Beth McCarthy / Biianco / Bob Vylan / Bou + B Live 247 / Bru-C / Charlie Boon / Crybaby / Dan Shake / Deadletter / Emily Makis / Fat Dog / Franz Ferdinand / Gardna / Hard Life / Interplanetary Criminal / Jam & Meme / Jazzy / Joshua James / Kaiser Chiefs / London Grammar / Lu.Re / Luvcat / Maribou State / Massaoke / Myles Smith / Natasha Bedingfield / Nelly Furtado / Newton Faulkner / Ocean Alley / Oppidan / Orla Gartland / Paige Tomlinson / Paris Paloma / Raye / Rizzle Kicks / Sally C / Salute / Sim0ne / Storm Mollison / Take A Chance On Us / The Prodigy / Waze / Wet Leg / more TBA \nBoardmasters Festival 2026 Tickets\nTicketsBoardmasters Festival\nvia Official SiteBookAccommodation\nCamping during the festival is included with the Wednesday\, Thursday & Weekend Camping Tickets. You will need basic camping gear\, like a tent\, a camping pad and a head torch (so useful in the night). If you don’t want to bring your own tent\, the festival offers Pre-pitched & Boutique Camping options purchased here \nAlternatively\, you can book nearby hotels and apartments using the map below or visit booking.com \nBook Hotels & Airbnbs near the Venue at the Lowest Price online!\n\nTravel Info\nBY CAR\nParking is available and tickets to be announced soon: \nGet DirectionsBY COACH\nCoach Travel is available from various cities and tickets to be announced soon: \nBY TRAIN\nIf you are traveling from or via London\, you can catch a First Great Western service from London Paddington down to Par\, before changing onto another First Great Western or Cross Country service onto Newquay\, where the festival will be running a shuttle service. Similarly\, there are good rail connections with the Midlands\, the North and Scotland\, however\, most will require at least one change. \nBook FlightsAirport TransfersCar RentalsTrain/Bus Tickets\nGallery\nRelated Festivals\nParklife Festival\n20 Jun – 21 Jun | Manchester\, UK\nReading Festival\n27 Aug – 30 Aug | Reading\, UK\n		\n			\n\n				\n				\n					Search for:
URL:https://europebookings.com/festival/boardmasters-festival/
LOCATION:Boardmasters Festival\, Boardmasters Festival Site\, Newquay\, TR8 4AN\,\, United Kingdom
CATEGORIES:Electronic,House,Indie,Multi-Genre,Pop,Rock,Urban
ATTACH;FMTTYPE=image/jpeg:https://europebookings.com/wp-content/uploads/boardmasters-festival-stage-lights-show.jpg
END:VEVENT
BEGIN:VEVENT
DTSTART;VALUE=DATE:20260806
DTEND;VALUE=DATE:20260809
DTSTAMP:20260424T024342
CREATED:20200107T153221Z
LAST-MODIFIED:20251117T153354Z
UID:31107-1785974400-1786233599@europebookings.com
SUMMARY:Neopop Festival
DESCRIPTION:Get TicketsAccommodationTravel Info\nNeopop Festival 2026 will once again electrify the Atlantic coast of Viana do Castelo\, Portugal\, uniting techno lovers from around the world for a transcendent four-day journey through rhythm\, sound\, and minimalist beauty. Known as Portugal’s premier electronic music festival\, Neopop stands as a temple for purists — where cutting-edge production\, impeccable curation\, and a breathtaking seaside setting converge into an atmosphere that’s both intimate and monumental. \nSince its launch in 2005\, Neopop has evolved into one of Europe’s most respected techno institutions\, blending Portugal’s coastal charm with the depth and sophistication of the global underground scene. Set against the backdrop of the historic Forte de Santiago da Barra\, the festival transforms the medieval fortress into a futuristic soundscape\, where industrial beats echo over the ocean and sunrise sets blur the line between night and day. \nThe 2026 edition is expected to deliver another expertly curated line-up of techno and electronic music heavyweights\, following the legacy of past editions that have hosted global icons such as Richie Hawtin\, Amelie Lens\, Charlotte de Witte\, Ben Klock\, Nina Kraviz\, Maceo Plex\, Reinier Zonneveld\, Dax J\, Rødhåd\, Tale of Us\, and Peggy Gou. With Neopop’s reputation for combining international legends with cutting-edge artists from Portugal’s thriving scene\, fans can expect an unforgettable sonic voyage through deep hypnotic grooves\, pounding industrial techno\, and cinematic live performances. \nBeyond the music\, Neopop is a celebration of culture\, creativity\, and connection. The festival’s design seamlessly merges modern visuals with historic surroundings\, while the sea breeze\, local food\, and warm Portuguese hospitality make it as welcoming as it is intense. Each stage becomes an audio-visual spectacle\, illuminated by lasers and projections that dance across the ancient fortress walls. \nWith its seamless blend of tradition and innovation\, intimacy and intensity\, Neopop Festival 2026 promises to be another masterpiece of minimalism and emotion — a place where the ocean meets the underground\, and every beat resonates with freedom\, precision\, and soul. \n\nNeopop Festival 2026 Lineup\nLineup to be announced soon: \n2025 Lineup\nThursday 7 Aug 2025\nAurora Halal / Bita / Cardia B2B Syper / Charlotte De Witte / Cruz / Da Ni B2B Vasco Valente / Diana Oliveira / Dresden / Francisca Urbano B2B Johan / Frank Maurel / Freddy K / Goldie / I Hate Models / Joseph Capriati / Lake Haze / Luisa / Peach / Serginho B2B Zé Salvador / Solar / Tiago Fragateiro / Ultrasition \nFriday 8 Aug 2025\nAndré Cascais / Ben Klock / Dax J / Funk Assault / Klangkuenstler / Kolo55 / Lega / Lewis Fautzi B2B The Advent / Meibi / Pan-Pot / Richie Hawtin / Rob Di Stefano B2B Rui Vargas / Sallbany / Sama’ Abdulhadi / Steffi / Taxsh / Vintage Culture / Whitenoise / Zadig / Zengxrl \nSaturday 9 Aug 2025\nBrusca B2B Laura / Colin Benders & Lady Starlight & Sterac / Daria Kolosova B2B Imogen / Freshkitos / Glaskin / Hadone / Héctor Oaks / James Grouper B2B Peter Mør / Jeff Mills / Marrøn / Nina Kraviz / Rødhåd / Ruuar / Space Riders / Sven VäthNEOPOP Festival 2026 Tickets\nTicketsNEOPOP Festival\nvia Official SiteBookAccommodation\nThe city of Viana do Castelo offers a wide range of accommodation options. Book your stay for NEOPOP Festival using the map below or visit booking.com \nBook Hotels & Airbnbs near the Venue at the Lowest Price online!\n\nTravel Info\nBY CAR\nGet DirectionsBY TRAIN\nIf you are coming from Algarve\, Lisbon\, Porto or even Spain\, one of the best choices is the train. Viana do Costelo Train Station is 5 minutes walk away from the Venue. \nBY PLANE\nThe nearest airport is Porto Airport (OPO). Upon arrival take a bus to Póvoa de Varzim and then the bus to Viana do Castelo\, where you can follow signs to the festival. \nBook FlightsAirport TransfersCar RentalsTrain/Bus Tickets\nGallery\nRelated Festivals\nKappa Futur Festival\n4 Jul – 6 Jul | Turin\, Italy\nUltra Europe Festival\n11 Jul – 13 Jul | Split\, Croatia\n		\n			\n\n				\n				\n					Search for:
URL:https://europebookings.com/festival/neopop-festival/
LOCATION:Forte Santiago da Barra\, Forte Santiago da Barra\, Viana do Castelo\, Portugal
CATEGORIES:Electronic,Techno
ATTACH;FMTTYPE=image/jpeg:https://europebookings.com/wp-content/uploads/neopop-festival-stage-lights-show.jpg
END:VEVENT
BEGIN:VEVENT
DTSTART;VALUE=DATE:20260806
DTEND;VALUE=DATE:20260810
DTSTAMP:20260424T024342
CREATED:20181204T164940Z
LAST-MODIFIED:20251114T145522Z
UID:17916-1785974400-1786319999@europebookings.com
SUMMARY:Untold Festival
DESCRIPTION:Get TicketsAccommodationTravel Info\nUntold Festival 2026 will once again transform the city of Cluj-Napoca\, Romania\, into a realm of pure magic\, uniting hundreds of thousands of music lovers from across the globe in one of Europe’s most spectacular festival experiences. Known for its breathtaking production\, mythical storytelling\, and star-studded line-ups\, Untold has become a symbol of unity\, euphoria\, and limitless energy — a place where fantasy and reality merge beneath the glow of the Transylvanian night. \nSince its inception in 2015\, Untold has grown into one of the continent’s biggest and most celebrated music festivals\, consistently ranking among Europe’s elite alongside Tomorrowland and Creamfields. Set within the grand Cluj Arena\, the festival weaves immersive visuals\, pyrotechnics\, and narrative-driven stage design into a seamless four-day journey of sound and spectacle. Every edition introduces a new theme — a chapter in the festival’s evolving mythology — inviting fans to step into a world of wonder where music becomes the heartbeat of an enchanted kingdom. \nThe 2026 line-up is expected to uphold Untold’s tradition of excellence\, following in the footsteps of past editions that have hosted an extraordinary roster of global superstars. Previous line-ups have featured icons such as Martin Garrix\, Armin van Buuren\, David Guetta\, Dimitri Vegas & Like Mike\, Hardwell\, Alesso\, Charlotte de Witte\, Carl Cox\, Tiesto\, Marshmello\, Don Diablo\, Black Coffee\, and Afrojack\, alongside live performances from Imagine Dragons\, The Chainsmokers\, Bebe Rexha\, and Jason Derulo. Expect a seamless fusion of EDM\, techno\, trance\, house\, and pop — each stage offering its own immersive universe. \nBeyond the music\, Untold is an experience of pure escapism. The festival’s attention to detail extends to every corner of its design — from glowing art installations and costumed performers to sprawling food villages and chillout zones that radiate creativity and connection. The people of Cluj-Napoca embrace the event with open arms\, turning the entire city into a celebration of joy\, music\, and unity. \nWith its unmatched production\, mythic atmosphere\, and sense of community that transcends borders\, Untold Festival 2026 promises to be another unforgettable chapter in Europe’s modern festival legend — a place where dreams are set to music\, and every night feels eternal. \n\nUntold Festival 2026 Lineup\nLineup to be announced soon: \n2025 LineupAdriatique / Alok / Arapu / Armin van Buuren / Becky Hill / Black Coffee / Cezar / Dom Dolla / Don Diablo / Fisher / Hugel / Marco Carola / Martin Garrix / Post Malone / Priku / Rag’n’Bone Man / SIT / Steve Angello / Tiësto / and many moreUntold Festival 2026 Tickets\nTickets\nUntold Festival\nvia Official Site \nBookAccommodation\nThe city of Cluj-Napoca offers a wide range of accommodation options. Book your stay using the interactive map below or visit booking.com \nBook Hotels & Airbnbs near the Venue at the Lowest Price online!\n\nTravel Info\nBY CAR\nGet DirectionsBY TRAIN\nTake the train from Bucuresti Nord Gara A Station to Cluj Napoca Station (9h 50min journey – approx. €16 – €24 ticket). The venue is a 3min journey with a taxi from there \nBY BUS\nTake the bus from Otopeni Airport to Turda station (8h journey – approx. €16 – €24 ticket) and from there take the Bus to Cluj-Napoca Station (1h 10min journey – approx. €6 – €10 ticket) \nBY PLANE\nYou can fly to Bucharest Otopeni Airport (OTP) in Bucharest and then take the flight to Cluj-Napoca Airport(CLJ) 10 km away from the venue (tickets cost up to €75). A taxi will take you there in 10min and costs approx. €10. \nBook FlightsAirport TransfersCar RentalsTrain/Bus Tickets\nGallery\nRelated Festivals\nAirbeat One Festival\n9 Jul – 13 Jul | Neustadt-Glewe\, Germany\nNature One Festival\n31 Jul – 3 Aug | Kastellaun\, Germany\n		\n			\n\n				\n				\n					Search for:
URL:https://europebookings.com/festival/untold-festival/
LOCATION:Untold Festival Arena\, Untold Festival Arena\, Cluj-Napoca\, Romania
CATEGORIES:Drum & Bass,EDM,Electronic,Hip Hop,House,Techno,Trance
ATTACH;FMTTYPE=image/jpeg:https://europebookings.com/wp-content/uploads/untold-festival-stadium-fireworks-1.jpg
END:VEVENT
END:VCALENDAR