BEGIN:VCALENDAR
VERSION:2.0
PRODID:-//Europebookings - ECPv6.15.20//NONSGML v1.0//EN
CALSCALE:GREGORIAN
METHOD:PUBLISH
X-WR-CALNAME:Europebookings
X-ORIGINAL-URL:https://europebookings.com
X-WR-CALDESC:Events for Europebookings
REFRESH-INTERVAL;VALUE=DURATION:PT1H
X-Robots-Tag:noindex
X-PUBLISHED-TTL:PT1H
BEGIN:VTIMEZONE
TZID:Asia/Nicosia
BEGIN:DAYLIGHT
TZOFFSETFROM:+0200
TZOFFSETTO:+0300
TZNAME:EEST
DTSTART:20250330T010000
END:DAYLIGHT
BEGIN:STANDARD
TZOFFSETFROM:+0300
TZOFFSETTO:+0200
TZNAME:EET
DTSTART:20251026T010000
END:STANDARD
BEGIN:DAYLIGHT
TZOFFSETFROM:+0200
TZOFFSETTO:+0300
TZNAME:EEST
DTSTART:20260329T010000
END:DAYLIGHT
BEGIN:STANDARD
TZOFFSETFROM:+0300
TZOFFSETTO:+0200
TZNAME:EET
DTSTART:20261025T010000
END:STANDARD
BEGIN:DAYLIGHT
TZOFFSETFROM:+0200
TZOFFSETTO:+0300
TZNAME:EEST
DTSTART:20270328T010000
END:DAYLIGHT
BEGIN:STANDARD
TZOFFSETFROM:+0300
TZOFFSETTO:+0200
TZNAME:EET
DTSTART:20271031T010000
END:STANDARD
BEGIN:DAYLIGHT
TZOFFSETFROM:+0200
TZOFFSETTO:+0300
TZNAME:EEST
DTSTART:20280326T010000
END:DAYLIGHT
BEGIN:STANDARD
TZOFFSETFROM:+0300
TZOFFSETTO:+0200
TZNAME:EET
DTSTART:20281029T010000
END:STANDARD
END:VTIMEZONE
BEGIN:VEVENT
DTSTART;VALUE=DATE:20260827
DTEND;VALUE=DATE:20260831
DTSTAMP:20260421T154904
CREATED:20181031T154139Z
LAST-MODIFIED:20251112T214533Z
UID:16055-1787788800-1788134399@europebookings.com
SUMMARY:Reading Festival
DESCRIPTION:Get TicketsAccommodationTravel Info\nReading Festival 2026 roars back to Richfield Avenue\, Reading\, for another monumental weekend of music\, energy and pure festival chaos. One of the UK’s most iconic and longest-running events\, Reading has become synonymous with the end of summer — a rite of passage for music lovers and first-time festivalgoers alike. With multiple stages spanning rock\, hip-hop\, pop\, dance and everything in between\, it’s a non-stop celebration of live sound and youthful spirit on the banks of the Thames. \nSince its inception in 1971\, Reading Festival has evolved from a rock institution into a genre-defying powerhouse\, consistently setting trends and capturing the pulse of modern music. Over the years\, it has hosted unforgettable headline performances from Nirvana\, Arctic Monkeys\, Eminem\, Foo Fighters\, Billie Eilish\, Muse\, The 1975\, and Rage Against The Machine\, cementing its legacy as a stage where legends are made and new stars break through. With twin-site sister event Leeds Festival running simultaneously up north\, the two festivals share one colossal line-up and a fiercely loyal community that unites under one anthem — live loud\, live now. \nThe 2026 line-up promises another genre-spanning masterclass\, led by boundary-pushing headliners (to be announced soon) and a wave of acts bridging the worlds of rock\, rap and electronica. Expect seismic sets from global icons\, thrilling newcomers\, and unforgettable mosh-pit moments that define a generation. Past editions have seen explosive performances from Sam Fender\, Travis Scott\, Lana Del Rey\, Loyle Carner\, Bring Me The Horizon\, Aitch\, Imagine Dragons\, and Knocked Loose\, so anticipation for 2026 is sky-high. \nFestivalgoers can look forward to an atmosphere unlike any other: towering stages\, late-night DJ tents\, wild campsite parties and a sea of flags\, glitter and guitar feedback. With flexible weekend and day tickets\, dedicated shuttle services from Reading Station\, and a range of camping options — from classic tents to boutique glamping — it’s easy to dive into the full experience. \nWhether you’re there for the mosh pit\, the crowd singalongs\, or the thrill of discovering your next favourite band\, Reading Festival 2026 remains the beating heart of the UK festival season — loud\, legendary\, and utterly unforgettable. \n\nReading Festival 2026 Lineup\nLineup to be announced soon: \n2025 LineupAJ Tracey / Alessi Rose / Amyl And The Sniffers / Antony Smierek / Balming Tiger / Becky Hill / Bilmuri / Blanco / Bloc Party / Chappell Roan / Conan Gray / Del Water Gap / DJ EZ / Enter Shikari / Girl’s Don’t Sync / Good Kid / High Vis / Hozier / Issey Cross / Lambrini Girls / Lancey Foux / Lola Young / Luvcat / Mannequin Pussy / Nieve Ella / Pale Waves / Royel Otis / Rudim3ntal / Sammy Virji / Sea Girls / Snow Strippers / Sofia Isella / Soft Play / Songer / South Arcade / Suki Waterhouse / The Chats / The Dare / The Kooks / The Linda Linda’s / Travis Scott / Trippie Redd / Wallows / Wunderhorse / and many moreReading Festival 2026 Tickets\nTickets\nReading Festival\nvia Ticketmaster \nBookLeeds Festival27 Aug – 30 Aug | Leeds\, UKTICKETS ON SALE \nAccommodation\nCamping during the festival is included with the weekend ticket\, so all you need is basic camping gear\, like a tent\, a camping pad and a head torch (so useful in the night). If you don’t want to bring your own tent\, the festival offers Premium Camping options purchased here. \nAlternatively\, you can book nearby hotels and apartments using the map below or visit booking.com \nBook Hotels & Airbnbs near the Venue at the Lowest Price online!\n\nTravel Info\nBY CAR\nParking is available. 1-Day & Weekend Car Parking tickets to be announced soon: \nIt is strongly recommend not to drive to Reading Festival\, but take public transport. The train station is very close to the festival site and shuttle buses run back and forth for £1.00. \nGet DirectionsBY COACH\nBig Green Coach return trips from Birmingham\, Brighton\, Bristol\, Cardiff\, Crawley\, London Victoria\, Plymouth\, Northampton\, Southampton\, Swindon and more. \nBY TRAIN\nReading train station is a 15-20 minute walk from the festival site. There are many routes from throughout the country to the station\, including from London Paddington. \nBY SHUTTLE BUS\nShuttle buses will be available between both Reading train station and the town centre to the festival site. \nBY TAXI\nTaxis will be available from Reading train station. The main festival taxi pick up/drop off point will be on Tessa Road\, near Red Gate and will cost approx. £5-6. \nBY PLANE\nHeathrow International Airport (LHR) is the closest\, with direct buses running every 20 minutes. Railair operate a direct Reading to London Heathrow bus service which uses Reading Train Station as a drop-off and pick-up point. \nBook FlightsAirport TransfersCar RentalsTrain/Bus Tickets\nGallery\nRelated Festivals\nParklife Festival\n13 – 15 Jun | Manchester\, UK\nIsle of Wight Festival\n19 Jun – 22 Jun | Newport\, UK\n		\n			\n\n				\n				\n					Search for:
URL:https://europebookings.com/festival/reading-festival/
LOCATION:Reading Festival\, Reading Festival\, Reading\, RG1 8PA\, United Kingdom
CATEGORIES:Electronic,Hip Hop,House,Indie,Multi-Genre,Pop,Punk,Rock,Urban
ATTACH;FMTTYPE=image/jpeg:https://europebookings.com/wp-content/uploads/reading-festival-fireworks-main-stage.jpg
END:VEVENT
BEGIN:VEVENT
DTSTART;VALUE=DATE:20260828
DTEND;VALUE=DATE:20260831
DTSTAMP:20260421T154904
CREATED:20191201T095529Z
LAST-MODIFIED:20251123T161109Z
UID:28567-1787875200-1788134399@europebookings.com
SUMMARY:The Big Feastival
DESCRIPTION:Get TicketsAccommodationTravel Info\nThe Big Feastival 2026 returns to the picturesque Cotswolds for another sun-soaked weekend of live music\, delicious food\, and family-friendly fun. Hosted on Blur bassist Alex James’ farm\, this beloved summer celebration blends the best of gourmet dining and festival vibes\, offering a truly unique experience where beats meet bites in the heart of the English countryside. \nSince its inception by Alex James and chef Jamie Oliver\, The Big Feastival has grown into one of the UK’s most anticipated summer events\, known for its warm\, welcoming atmosphere and its perfect mix of entertainment and indulgence. Festivalgoers can expect culinary masterclasses\, pop-up restaurants\, food markets\, and kid-friendly activities set alongside world-class performances and open-air dancing beneath the stars. \nThis year’s lineup brings an exciting mix of music and energy\, with Basement Jaxx\, The Streets\, and Bastille headlining the main stage. They’ll be joined by a diverse supporting cast of artists\, DJs\, and rising talents across multiple stages\, ensuring an unforgettable soundtrack to a weekend of fun\, flavour\, and friendship. \nMore than just a festival\, The Big Feastival is a true summer escape — a place where food lovers\, music fans\, and families come together to celebrate the simple joys of life. With boutique camping\, local produce\, and that unmistakable countryside charm\, it’s the perfect mix of relaxation and revelry. \nWhether you’re feasting on gourmet street food\, dancing to chart-topping anthems\, or soaking up the sunshine with loved ones\, The Big Feastival 2026 promises a weekend to remember — a delicious blend of music\, flavour\, and magic in the heart of the Cotswolds. \n\nThe Big Feastival 2026 Lineup\nAll ArtistsBasement Jaxx / The Streets / Bastille / and many moreThe Big Feastival 2026 Tickets\nTicketsThe Big Feastival\nvia See TicketsBookAccommodation\nCamping during the festival requires the purchase of a Camping Ticket purchased here. All you need is basic camping gear\, like a tent\, a camping pad and a head torch (so useful in the night). If you don’t want to bring your own tent\, the festival offers Boutique Camping Options here \nAlternatively\, you can book nearby hotels and apartments using the map below or visit booking.com \nBook Hotels & Airbnbs near the Venue at the Lowest Price online!\n\nTravel Info\nBY CAR\nDay & Weekend Parking Tickets can be purchased here \nGet DirectionsBY TRAIN\nThe closest railway station is Kingham\, which is only a 3 minute walk to the festival site. From London Paddington it is approximately 90 mins to Kingham\, with regular trains also running to and from Oxford\, Reading\, Worcester and Hereford. \nBook FlightsAirport TransfersCar RentalsTrain/Bus Tickets\nGallery
URL:https://europebookings.com/festival/the-big-feastival/
LOCATION:Alex James’ Farm\, Alex James’ Farm\, Kingham\, OX7 6UJ\, United Kingdom
CATEGORIES:Indie,Multi-Genre,Pop
ATTACH;FMTTYPE=image/jpeg:https://europebookings.com/wp-content/uploads/the-big-feastival-stage-view-fans-dancing.jpg
END:VEVENT
BEGIN:VEVENT
DTSTART;VALUE=DATE:20270623
DTEND;VALUE=DATE:20270628
DTSTAMP:20260421T154904
CREATED:20190914T185257Z
LAST-MODIFIED:20251113T210538Z
UID:23851-1813708800-1814140799@europebookings.com
SUMMARY:Glastonbury Festival
DESCRIPTION:Get TicketsAccommodationTravel Info\nGlastonbury Festival 2027 will once again transform Worth Farm\, Somerset\, into the beating heart of British music and culture — a sprawling\, kaleidoscopic city of art\, community\, and sound that defies comparison. More than just a festival\, Glastonbury is a pilgrimage — a world within a world where 200\,000 people gather to celebrate creativity\, freedom\, and connection across five unforgettable days. \nSince its debut in 1970\, Glastonbury has evolved into the world’s most influential music and performing arts festival. From its countercultural roots in the post-Woodstock era to its modern-day status as a global institution\, it has hosted history-defining performances from legends like David Bowie\, The Rolling Stones\, Beyoncé\, Paul McCartney\, Radiohead\, Coldplay\, Dolly Parton\, Kendrick Lamar\, and Elton John. The Pyramid Stage has become a symbol of unity and transcendence — a place where generations collide and music history is made beneath the Somerset sky. \nWhile the 2027 line-up remains unannounced\, Glastonbury’s reputation ensures another monumental roster that will span every imaginable genre — from rock\, pop\, hip-hop and dance to world music\, folk and experimental sound. Recent editions have seen artists like Arctic Monkeys\, Dua Lipa\, Billie Eilish\, Lizzo\, Fred again..\, The 1975\, SZA\, Little Simz\, and The Chemical Brothers\, alongside emerging talents from every corner of the globe. Whether it’s sunrise techno at Arcadia\, reggae rhythms at The Glade\, or acoustic intimacy in the Park\, the diversity of music remains Glastonbury’s soul. \nBeyond the music\, Glastonbury is a living\, breathing ecosystem of art\, activism\, and wonder. Visitors wander through fields of installations\, circus tents\, political debates\, healing gardens\, and secret stages — each one a universe of its own. The festival’s strong environmental commitment\, including renewable energy use\, waste-reduction initiatives\, and long-term partnerships with Oxfam\, WaterAid\, and Greenpeace\, continues to set the global standard for sustainable large-scale events. \nAccommodation options range from traditional camping and glamping fields to pre-pitched tents and local farm stays\, with the nearby towns of Shepton Mallet and Glastonbury welcoming travellers from across the world. The festival’s coach and green travel options make the journey as sustainable as the destination itself. \nWith its unrivalled atmosphere\, rich history\, and devotion to art and humanity\, Glastonbury Festival 2027 promises another timeless chapter in music’s most enduring story — where legends are born\, memories are made\, and the world feels beautifully united\, if only for a few days. \n\nGlastonbury Festival 2027 Lineup\nLineup to be announced soon: \n2025 LineupAlanis Morissette / Amyl And The Sniffers / Anohni And The Johnsons / Ay Tracey / Beabadoobee / Beth Gibbons / Biffy Clyro / Black Country\, New Road / Blossom s / Bob Vylan / Busta Rhymes / Caribou / Celeste / Charli XCX / CMAT / Cymande / Doechii / Djo / Ezra Collective / Faye Webster / Father John Misty / Four Tet / Future Islands / Girl In Red / Glass Beams / Go West / Gorillas (Note: “Gurriers”) / Haim / Horsegirl / Inhaler / Jane Bird (Jade Bird) / Jorja Smith / Kneecap / Kae Tempest / Lady Sim (Little Simz) / Lewis Capaldi / Lorde / Loyle Carner / Myles Smith / Nile Rodgers & Chic / Noah Kahan / Nova Twins / Olivia Rodrigo / Overmono / Pulp / RAYE / Rizzle Kicks / Rod Stewart / Scissor Sisters / Self Esteem / Shaboozey / Skepta / Snow Patrol / St Vincent / The 1975 / The Libertines / The Pro digy / The Script / Turnstile / Weezer / Wet Leg / Wolf Alice / and many moreGlastonbury Festival 2027 Tickets\nTicketsGlastonbury Festival\nvia See TicketsBookAccommodation\nCamping during the festival is included in the festival ticket\, so all you need is basic camping gear\, like a tent\, a camping pad and a head torch (so useful in the night). \nAlternatively\, you can book nearby hotels and apartments using the map below or visit booking.com \nBook Hotels & Airbnbs near the Venue at the Lowest Price online!\n\nTravel Info\nBY CAR\nParking is available on site and requires a fee. \nGet DirectionsBY COACH\nNational Express run coaches to and from the festival site from cities across the UK\, while the festival also lays on a shuttle service to and from Castle Cary station\, which has direct trains to London. \nYou can also purchase ticket + coach packages\, which give you either a single or return journey to the festival from destinations across the UK. These go on sale a few days before the general ticket sale. \nBook FlightsAirport TransfersCar RentalsTrain/Bus Tickets\nGallery
URL:https://europebookings.com/festival/glastonbury-festival/
LOCATION:Glastonbury Festival\, Worthy Farm\, Pilton\, United Kingdom
CATEGORIES:Alternative,Indie,Multi-Genre,Rock
ATTACH;FMTTYPE=image/jpeg:https://europebookings.com/wp-content/uploads/glastonbury-festival-fireworks-1.jpg
END:VEVENT
END:VCALENDAR