BEGIN:VCALENDAR
VERSION:2.0
PRODID:-//Europebookings - ECPv6.15.20//NONSGML v1.0//EN
CALSCALE:GREGORIAN
METHOD:PUBLISH
X-ORIGINAL-URL:https://europebookings.com
X-WR-CALDESC:Events for Europebookings
REFRESH-INTERVAL;VALUE=DURATION:PT1H
X-Robots-Tag:noindex
X-PUBLISHED-TTL:PT1H
BEGIN:VTIMEZONE
TZID:Asia/Nicosia
BEGIN:DAYLIGHT
TZOFFSETFROM:+0200
TZOFFSETTO:+0300
TZNAME:EEST
DTSTART:20250330T010000
END:DAYLIGHT
BEGIN:STANDARD
TZOFFSETFROM:+0300
TZOFFSETTO:+0200
TZNAME:EET
DTSTART:20251026T010000
END:STANDARD
BEGIN:DAYLIGHT
TZOFFSETFROM:+0200
TZOFFSETTO:+0300
TZNAME:EEST
DTSTART:20260329T010000
END:DAYLIGHT
BEGIN:STANDARD
TZOFFSETFROM:+0300
TZOFFSETTO:+0200
TZNAME:EET
DTSTART:20261025T010000
END:STANDARD
BEGIN:DAYLIGHT
TZOFFSETFROM:+0200
TZOFFSETTO:+0300
TZNAME:EEST
DTSTART:20270328T010000
END:DAYLIGHT
BEGIN:STANDARD
TZOFFSETFROM:+0300
TZOFFSETTO:+0200
TZNAME:EET
DTSTART:20271031T010000
END:STANDARD
END:VTIMEZONE
BEGIN:VEVENT
DTSTART;VALUE=DATE:20260502
DTEND;VALUE=DATE:20260504
DTSTAMP:20260423T155540
CREATED:20250101T173132Z
LAST-MODIFIED:20251117T184208Z
UID:82130-1777680000-1777852799@europebookings.com
SUMMARY:Liverpool Sound City
DESCRIPTION:Get TicketsAccommodationTravel Info\nLiverpool Sound City 2026 will once again transform the city’s vibrant Baltic Triangle into a pulsating playground of live music\, creativity\, and discovery. This multi-venue festival captures the essence of Liverpool’s world-famous musical spirit — intimate\, raw\, and bursting with energy. Across three unforgettable days\, bars\, warehouses\, and clubs come alive with emerging artists\, breakthrough acts\, and headline performers\, creating an immersive experience that celebrates both the city’s legacy and its ever-evolving sound. \nSince its debut in 2008\, Sound City has earned its reputation as one of Europe’s leading festivals for new music\, spotlighting fresh talent long before they hit the big time. Acts like Ed Sheeran\, The 1975\, Jorja Smith\, and Catfish and the Bottlemen have all graced its stages early in their careers\, cementing the festival’s role as a launchpad for the next generation of stars. \nThe 2026 edition promises another bold and diverse line-up. Early announcements include Jalen Ngonda\, returning home for a headline performance\, and Keo\, who will take over Saturday’s main stage with their genre-blending sound. Alongside them\, hundreds of rising acts and established performers will fill Liverpool’s iconic venues — from intimate backrooms to open-air stages — with an eclectic mix of indie\, alternative\, pop\, electronic\, and experimental sounds. \nBeyond the music\, Sound City embraces the full creative culture of Liverpool. Expect live art installations\, street food\, afterparties\, and the festival’s acclaimed music industry conference\, where artists and professionals meet to shape the future of the scene. \nWith its city-wide energy\, forward-thinking spirit\, and unbeatable atmosphere\, Liverpool Sound City 2026 promises another unforgettable weekend — a true celebration of live music\, innovation\, and the creative pulse that makes Liverpool one of the world’s most exciting musical cities. \n\nLiverpool Sound City 2026 Lineup\nAll ArtistsKEO / Jalen Ngonda / and many moreLiverpool Sound City 2026 Tickets\nTicketsLiverpool Sound City\nvia See TicketsBookAccommodation\nThe city of Liverpool offers a wide range of accommodation options. Book your stay for Liverpool Sound City using the map below or visit booking.com \nBook Hotels & Airbnbs near the Venue at the Lowest Price online!\n\nTravel Info\nBY CAR\nGet DirectionsBY TRAIN\nLiverpool is easily accessible by rail and coach from the rest of the UK. \nBY PLANE\nLiverpool John Lennon Airport has good connections with the rest of Europe\, and is just a 15 minute taxi from the city centre. \nBook FlightsAirport TransfersCar RentalsTrain/Bus Tickets\nGallery
URL:https://europebookings.com/festival/liverpool-sound-city/
LOCATION:The Baltic Triangle\, The Baltic Triangle\, Liverpool\, United Kingdom
CATEGORIES:Electronic,Indie,Rock
ATTACH;FMTTYPE=image/jpeg:https://europebookings.com/wp-content/uploads/liverpool-sound-city-festival-performing-on-stage.jpg
END:VEVENT
BEGIN:VEVENT
DTSTART;VALUE=DATE:20260513
DTEND;VALUE=DATE:20260517
DTSTAMP:20260423T155540
CREATED:20191018T133111Z
LAST-MODIFIED:20251112T154658Z
UID:25282-1778630400-1778975999@europebookings.com
SUMMARY:The Great Escape
DESCRIPTION:Get TicketsAccommodationTravel Info\nThe Great Escape Festival 2026 lights up Brighton\, England from 13 – 16 May 2026\, transforming the seaside city into the UK’s biggest new-music takeover. Across three sun-splashed days and late nights\, more than 450 artists from around the world will perform in 30+ venues — from seafront clubs and historic theatres to hidden basement bars and beach pop-ups — creating a buzzing showcase of discovery right by the sea. \nSince its debut in 2006\, The Great Escape has become the industry’s essential tastemaker festival\, where future headliners cut their teeth and crowds roam between gigs with a pint and a plan. It’s part city-crawl\, part summer party — you might watch a breakout indie band in a tiny pub at noon\, catch an avant-pop act on the pier at sunset\, then close out the night with a surprise DJ set on the beach. The atmosphere is electric: Brighton’s lanes hum with live music\, food stalls\, and the kind of optimism that only comes from hearing something brand new for the first time. \nThe festival’s legacy of alumni is legendary. Past editions have hosted early performances from artists who went on to dominate global stages — think Adele\, Stormzy\, Foals\, Arctic Monkeys\, Lewis Capaldi\, MØ\, Sam Fender\, Wolf Alice\, Fontaines D.C.\, Little Simz\, and Celeste. In recent years\, crowds were treated to 2025 standouts like Rachel Chinouriri\, English Teacher\, Tom Rasmussen\, Venbee\, The Last Dinner Party\, NewDad\, and Deadletter\, proving that The Great Escape continues to be where tomorrow’s headliners are found first. \nBeyond the gigs\, the TGE Conference brings together music-industry insiders for panels\, workshops and networking sessions that shape the next wave of talent and innovation. Add pop-up record stores\, film screenings\, and beach-front hangouts\, and it’s easy to see why The Great Escape remains the UK’s most influential showcase festival. Affordable accommodation and direct trains from London make it effortless to join the pilgrimage — just pack comfortable shoes\, an open mind\, and get ready to discover your next favourite artist by the sea. \n\nThe Great Escape 2025 Lineup\nLineup to be announced soon: \n2025 LineupAaron Rowe / Abdomen / Acopia / Aggrasoppar / Ahmed\, With Love. / Alix Fernz / Allie Sherlock / Angry Blackmen / Annie DiRusso / Aqyila / Armlock / Ashaine White / Astral Bakers / Basht. / Becky And The Birds / Beddy Rays / Betty / Billianne / Bishopskin / Black Fondu / Blood Wizard / Bold Love / Bottle Rockets / Bradley Marshall / Bria Salmena / Brògeal / Callinsick / Canblaster / Catty / Chameleon Lime Whoopiepie / Chloe Qisha / Chloe Slater / Citizen Papes / CJ Wiley / Clara Kimera / Clara Mann / Cliffords / Common Goldfish / Corto.Alto / Curtisy / Daffo / Declan O’Donovan / Dice / Disgusting Sisters / Donny Benét / Drax Project / Dug / Dump Babes / Eggy / Eivør / Elinborg / Ellie O’Neill / Enji / Evan Williams / Field Guide / Flawless Issues / Folk Bitch Trio / Fuzz Lightyear / Gans / Gauci / GeminiCrab (Malika Tirolien & Caulder Nash) / George Bloomfield / Gloin / Goodbye / Goodbye Karelle / Green Star / Grimelda / Gus Tiramani / Hachiku / Harry Strange / Heavy Lungs / HotWax / Hungry / Indoor Foxes / James Emmanuel / Jazzygold / JD Cliffe / Jessy Blakemore / Jo Hill / Jools / Jordan Adetunji / Jordi Alkema / Junior Brother / Kaicrewsade / Keo / Kita Alexander / Knives / Konyikeh / L E M F R E C K / Ladylike / Laundromat Chicks / Lola Moxom / Loshh / Luvcat / Lynks / Maïcee / Makeshift Art Bar / Man/Woman/Chainsaw / Marysia Osu / Max Baby / Mên An Tol / Miss Kaninna / Mitch Sanders / Moio / Mount Palomar / Mudi Sama / Muroki / Nadia Kadek / Naduh / Namesbliss / Nancy Williams / Nap Eyes / Nectar Woode / No Cigar / Odhran Murphy / Oreglo / Pageant Mum / Pamela / Park National / Patche / Pem / Peter Xan / Punchbag / Queen Cult / Rabbitfoot / Raelle / Ragnar Finsson / Ray Bull / Real Farmer / Redd. / Route 500 / Rubii / Saïna / Sam Tudor / Sebastian Gaskin / Sex Mask / Shortstraw. / Silver Gore / Silvurdrongur / Sirens Of Lesbos / Sly Withers / South Summit / Stella Bridie / Sunday (1994) / Talk Show / Tamara Mneney / Tara Nome Doyle / The Jins / The K’s / The Klittens / The Moonlandingz / The New Eves / The Orchestra (For Now) / The Pill / The Slow Country / The Stingrays / Tia Gostelow / Tjaka / Total Tommy / Traams / Trampolene / TTSSFU / Twenty One Children / Van Zon / Vona Vella / Warmduscher / Wayside / Westside Cowboy / Witch Post / Yasmin Coe / Yes And Maybe / Yoko Gold / Yoshika Colwell / Zimmer90The Great Escape 2025 Tickets\nTickets\nThe Great Escapevia Ticketmaster \nBookAccommodation\nThe city of Brighton offers a wide range of accommodation options. Book your stay for The Great Escape Festival using the map below or visit booking.com \nBook Hotels & Airbnbs near the Venue at the Lowest Price online!\n\nTravel Info\nBY CAR\nGet DirectionsBY BUS\nBrighton is easily accessible by train from across the UK. Most routes will take you via either London or Southampton. \nBY PLANE\nLondon Gatwick is the closest airport\, trains regularly run from Gatwick to Brighton\, taking around half an hour. \nBook FlightsAirport TransfersCar RentalsTrain/Bus Tickets\nGallery
URL:https://europebookings.com/festival/the-great-escape/
LOCATION:The Great Escape\, Various Venues\, Brighton\, United Kingdom
CATEGORIES:Alternative,Indie,Rock
ATTACH;FMTTYPE=image/jpeg:https://europebookings.com/wp-content/uploads/the-great-escape-festival-performing.jpg
END:VEVENT
BEGIN:VEVENT
DTSTART;VALUE=DATE:20260523
DTEND;VALUE=DATE:20260524
DTSTAMP:20260423T155540
CREATED:20191028T144736Z
LAST-MODIFIED:20251112T162107Z
UID:25867-1779494400-1779580799@europebookings.com
SUMMARY:Slam Dunk Festival South
DESCRIPTION:Get TicketsAccommodationTravel Info\nSlam Dunk Festival South 2026: A Pop-Punk and Rock Extravaganza \nSlam Dunk Festival South 2026 ignites Hatfield Park\, Hertfordshire\, on Saturday 23 May 2026\, uniting thousands of pop-punk\, emo\, metalcore and alternative fans for one of the UK’s most beloved one-day rock festivals. A sister event to its northern counterpart in Leeds\, Slam Dunk South packs stadium-sized energy into a perfectly walkable site\, with multiple stages\, rapid-fire set changes\, and a loyal community that lives for riffs\, singalongs and mosh pits under the spring sun. \nSince its first outing in 2006\, Slam Dunk has evolved from a club night into a full-blown institution — the UK’s answer to Warped Tour — championing both nostalgic favourites and the next wave of alt talent. The 2026 line-up is still to be announced\, but if the past few years are any indication\, expect a powerhouse mix of pop-punk icons and genre-bending newcomers. The 2025 edition featured explosive performances from You Me At Six (in their farewell appearance)\, The All-American Rejects\, Boys Like Girls\, Funeral for a Friend\, State Champs\, Waterparks\, I Prevail\, Asking Alexandria\, Neck Deep\, and The Ghost Inside — an epic send-off to the festival’s 19th year. \nAcross its stages\, Slam Dunk South delivers something for every alt fan: heart-on-sleeve emo ballads\, high-octane hardcore breakdowns\, catchy pop-punk hooks and fiery metal riffs. Between sets\, fans can explore merch villages\, food stalls\, craft beer bars\, and shaded rest spots — though most are too busy crowd-surfing or screaming lyrics to notice the downtime. The site’s layout keeps transitions smooth\, so you can catch back-to-back acts without missing a chorus. \nTravel is a breeze\, too. Hatfield Park sits just a 25-minute train ride from London King’s Cross\, with Hatfield Station a short walk from the gates. Parking and dedicated festival shuttles cater for those driving from further afield\, while nearby hotels and Airbnbs fill up quickly with fans turning the day into a weekend escape. \nWith its unbeatable atmosphere\, devoted fanbase and history of killer line-ups\, Slam Dunk Festival South 2026 promises another adrenaline-charged celebration of alternative music — where nostalgia meets now\, and every chorus feels like an anthem. \n\nSlam Dunk Festival South 2026 Lineup\nAll ArtistsGood Charlotte / Knocked Loose / Sublime / Taking Back Sunday / A / Allister / A Loss For Words / Angel Dust / Bayside / Beauty School / Boston Manor / Broadside / Bury Tomorrow / Call Me Amour / Cancer Bats / Cartel / Comeback Kid / Currents / Dashboard Confessional / Dead Pony / Deaf Havana / Driveways / Dying Wish / Goldfinger / Guilt Trip / Hands Like Houses / Hawthorne Heights / Heriot / Madina Lake / Malevolence / Motion City Soundtrack / Origami Angel / Pest Control / President / Punk Rock Factory / Saosin / Set Your Goals / SiM / Stand Atlantic / State Champs / Static Dress / The Home Team / The Menzingers / The Suicide Machines / Tonight Alive / Trash Boat / Unpeople / VUKOVI / Youth Fountain / ZebraheadSlam Dunk Festival South 2026 Tickets\nTickets\nSlam Dunk Southvia Ticketmaster \nBookSlam Dunk Festival North24 May | Leeds\, UKTICKETS ON SALE \nAccommodation\nThe city of Hatfield offers a wide range of accommodation options. Book your stay using the interactive map below or visit booking.com \nBook Hotels & Airbnbs near the Venue at the Lowest Price online!\n\nTravel Info\nBY CAR\nGet DirectionsPARKING\nThe car park entrance is off the A414 Westbound only. The postcode for the carpark is AL9 5PG. Once you near the festival site follow the yellow festival signage. The car park will open at 9am and close shortly after the event has finished. \nBY TRAIN\nSlam Dunk South is a situated in Hatfield Park opposite Hatfield Train Station. This is a 24-minute train ride from London with trains going regularly from London and regionally. \nBY PUBLIC TRANSPORT\nSlam Dunk South is located near stops for regional bus services. \nBY SHUTTLE BUS\nThe Slam Dunk Festival (South) shuttle services will operate from the festival to central London. \nBY COACH\nBig Green Coach is the festival’s official and exclusive ticket and travel partner. All coaches are scheduled to arrive at the official event coach park for gates opening and will depart for home only after all the music has finished. Return coach fares to be announced soon \nBook FlightsAirport TransfersCar RentalsTrain/Bus Tickets\nGallery
URL:https://europebookings.com/festival/slam-dunk-festival-south/
LOCATION:Hatfield Park\, Hatfield Park\, Hatfield\, AL9 5PG\, United Kingdom
CATEGORIES:Indie,Punk,Rock
ATTACH;FMTTYPE=image/jpeg:https://europebookings.com/wp-content/uploads/slam-dunk-festival-south-stage-lights-show.jpg
END:VEVENT
BEGIN:VEVENT
DTSTART;VALUE=DATE:20260523
DTEND;VALUE=DATE:20260525
DTSTAMP:20260423T155540
CREATED:20191122T110610Z
LAST-MODIFIED:20251112T155902Z
UID:27560-1779494400-1779667199@europebookings.com
SUMMARY:Neighbourhood Weekender
DESCRIPTION:Get TicketsAccommodationTravel Info\nNeighbourhood Weekender Festival 2026 returns to Victoria Park\, Warrington\, on Saturday 23 and Sunday 24 May 2026\, kicking off the UK’s summer festival season with two days of indie anthems\, singalong classics\, and sun-drenched good vibes. Since its debut in 2018\, Neighbourhood Weekender has become the North West’s essential early-summer weekender — part homecoming gig\, part massive garden party — bringing together the best of British guitar music and the next wave of festival favourites. \nSet just a short hop between Liverpool and Manchester\, the festival’s atmosphere is famously friendly and electric\, with crowds spilling from stage to stage under bunting and blue skies. Expect lush parkland\, fairground rides\, craft bars\, street food stalls\, and a soundtrack that feels like every indie fan’s playlist come to life. \nThe 2026 line-up is yet to be announced\, but the festival’s track record is stellar. The 2025 edition featured headliners The Stone Roses’ Ian Brown\, The Kooks\, and Courteeners\, joined by a stacked supporting bill including The Reytons\, Declan McKenna\, DMA’S\, Blossoms\, Jamie Webster\, Tom Grennan\, Everything Everything\, Pale Waves\, and Red Rum Club. Previous years have hosted indie heavyweights such as Noel Gallagher’s High Flying Birds\, Kasabian\, Sam Fender\, The Wombats\, The 1975\, and George Ezra\, cementing Neighbourhood Weekender’s reputation as the go-to stage for the UK’s most beloved bands and breakout stars. \nThe setup is compact and easy to navigate — two main stages side by side so you never miss a headliner — and the vibe stays vibrant from the first pint to the last chorus. Accommodation is plentiful\, with Warrington’s hotels\, guesthouses and train links making travel a breeze. Direct services from Manchester\, Liverpool\, and Chester drop fans just minutes from the park\, while nearby campsites and Airbnb options make weekend stays effortless. \nWith its mix of nostalgia\, new discoveries\, and northern charm\, Neighbourhood Weekender 2026 promises another unforgettable start to festival season — where thousands gather to sing\, dance\, and celebrate the enduring spirit of British live music. \n\nNeighbourhood Weekender 2026 Lineup\nAll ArtistsRichard Ashcroft / Kaiser Chiefs / The K’s / Example / Sophie Ellis-Bextor / Cast / Alessi Rose / Cassia / Brooke Combe / Freddie Halkon / ARKAYLA / Nxdia / The Cheap Thrills / Keyside / Esme Emerson / Ellur / Fiona-Lee / Blossoms / DMA’S / Jamie Webster / Shed Seven / more TBANeighbourhood Weekender 2026 Tickets\nTicketsNeighbourhood Weekender\nvia TicketmasterBookAccommodation\nThe city of Warrington offers a wide range of accommodation options. Book your stay for Neighbourhood Weekender Festival using the map below or visit booking.com \nBooking.comBook Hotels & Airbnbs near the Venue at the Lowest Price online!\n\nTravel Info\nBY CAR\nVictoria Park is easily accessible from Warrington town centre on the A50 Knutsford Road. Parking tickets can be purchased here \nGet DirectionsBY TRAIN\nWarrington has two train stations – Warrington Bank Quay and Warrington Central making it easily accessible from most locations. \nBY BUS\nNumber 11 and 11a bus services stop at Knutsford Road Victoria Park\, it takes 5 minutes from Warrington Bus Interchange located at Warrington Central train station. \nBY FOOT\nThe park is a short walk from the city centre. The park is around a 20 minute walk from Warrington Bank Quay station\, Warrington Central train station or Golden Square Shopping Centre. There will be a pick up and drop off facility at the festival. \nBook FlightsAirport TransfersCar RentalsTrain/Bus Tickets\nGallery
URL:https://europebookings.com/festival/neighbourhood-weekender/
LOCATION:Victoria Park Warrington\, Victoria Park\, Warrington\, United Kingdom
CATEGORIES:Indie,Rock
ATTACH;FMTTYPE=image/jpeg:https://europebookings.com/wp-content/uploads/neighbourhood-weekender-festival-colours-1.jpg
END:VEVENT
BEGIN:VEVENT
DTSTART;VALUE=DATE:20260524
DTEND;VALUE=DATE:20260525
DTSTAMP:20260423T155540
CREATED:20191028T135942Z
LAST-MODIFIED:20251112T162058Z
UID:25853-1779580800-1779667199@europebookings.com
SUMMARY:Slam Dunk Festival North
DESCRIPTION:Get TicketsAccommodationTravel Info\nSlam Dunk Festival North 2026: The Ultimate Pop-Punk and Rock Celebration \nSlam Dunk Festival North 2026 storms into Temple Newsam Park\, Leeds\, on Sunday 24 May 2026\, bringing a full day of anthems\, chaos\, and community to the heart of Yorkshire. The twin to Slam Dunk South\, this northern edition delivers the same explosive line-up\, colossal stages\, and genre-spanning celebration of pop-punk\, metalcore\, emo\, ska\, and alt-rock — all wrapped in that unmistakable Leeds energy. \nSince its beginnings in 2006\, Slam Dunk has grown from a scrappy club night into one of the UK’s most respected alternative festivals\, carrying the torch for a generation raised on Vans Warped Tour and Kerrang! compilations. Today\, it’s a pilgrimage for both long-time fans and new converts\, a space where nostalgia collides with fresh rebellion. Expect multiple open-air stages\, slick sound\, non-stop sets\, and a sea of band tees\, circle pits\, and pure joy. \nWhile the 2026 line-up is yet to be announced\, last year’s roster set a high bar with You Me At Six (farewell tour)\, The All-American Rejects\, Neck Deep\, Waterparks\, I Prevail\, Funeral for a Friend\, Asking Alexandria\, Boys Like Girls\, and State Champs leading the charge — a testament to Slam Dunk’s commitment to mixing modern heavyweights with pop-punk legends. Past editions have also seen Enter Shikari\, Sum 41\, NOFX\, The Offspring\, Simple Plan\, Mayday Parade\, and Good Charlotte\, confirming its reputation as the UK’s go-to alt-rock gathering. \nBeyond the music\, the festival offers everything from food trucks and craft beer gardens to merch villages\, signing tents\, and chillout zones. The compact site layout means minimal clashes and maximum music — you’re never far from your next favourite band. \nGetting there is straightforward: Temple Newsam Park sits just outside Leeds city centre\, accessible via frequent shuttle buses from Leeds Station\, as well as parking for those driving. Many fans turn it into a long weekend\, staying in Leeds to keep the party going with aftershows across the city’s buzzing nightlife scene. \nWith its perfect blend of nostalgia\, discovery\, and northern spirit\, Slam Dunk Festival North 2026 promises another full-throttle day where riffs rule\, friendships spark\, and every chorus feels like coming home. \n\nSlam Dunk Festival North 2026 Lineup\nAll ArtistsGood Charlotte / Knocked Loose / Sublime / Taking Back Sunday / A / Allister / A Loss For Words / Angel Dust / Bayside / Beauty School / Boston Manor / Broadside / Bury Tomorrow / Call Me Amour / Cancer Bats / Cartel / Comeback Kid / Currents / Dashboard Confessional / Dead Pony / Deaf Havana / Driveways / Dying Wish / Goldfinger / Guilt Trip / Hands Like Houses / Hawthorne Heights / Heriot / Madina Lake / Malevolence / Motion City Soundtrack / Origami Angel / Pest Control / President / Punk Rock Factory / Saosin / Set Your Goals / SiM / Stand Atlantic / State Champs / Static Dress / The Home Team / The Menzingers / The Suicide Machines / Tonight Alive / Trash Boat / Unpeople / VUKOVI / Youth Fountain / Zebrahead / and many moreSlam Dunk Festival North 2026 Tickets\nTicketsSlam Dunk North\nvia See TicketsBookSlam Dunk Festival South23 May | Hatfield\, UKTICKETS ON SALE \nAccommodation\nThe city of Leeds offers a wide range of accommodation options. Book your stay using the interactive map below or visit booking.com \nTravel Info\nBY CAR\nGet DirectionsPARKING\nParking is available at Slam Dunk North. Search for ‘Temple Newsam Park – Event Road’ as your destination and then follow yellow festival signage\, once near the festival site. Car park will open at 9:00 AM and close shortly after the festival has finished\, so cars will not be able to be left overnight. \nBY TRAIN\nSlam Dunk North is accessible from Leeds City train station via festival’s city shuttle or taxi. \nBY PUBLIC TRANSPORT\nBuses 19 and 19A run from Leeds City Centre to Temple Gate\, which is a short walk from the entrance to the site. \nBY SHUTTLE BUS\nThere will be a dedicated festival shuttle bus service operating on the day and will transfer you from Leeds city centre (Sovereign Street) direct to the festival site and back again. \nBY COACH\nBig Green Coach is the festival’s official and exclusive ticket and travel partner. All coaches are scheduled to arrive at the official event coach park for gates opening and will depart for home only after all the music has finished. Return coach fares to be announced soon: \nBook FlightsAirport TransfersCar RentalsTrain/Bus Tickets\nGallery
URL:https://europebookings.com/festival/slam-dunk-festival-north/
LOCATION:Temple Newsam Park\, Temple Newsam Road\, Leeds\, LS15 0AE\, United Kingdom
CATEGORIES:Indie,Punk,Rock
ATTACH;FMTTYPE=image/jpeg:https://europebookings.com/wp-content/uploads/slam-dunk-festival-north-fireworks-show.jpg
END:VEVENT
END:VCALENDAR