BEGIN:VCALENDAR
VERSION:2.0
PRODID:-//Europebookings - ECPv6.15.20//NONSGML v1.0//EN
CALSCALE:GREGORIAN
METHOD:PUBLISH
X-WR-CALNAME:Europebookings
X-ORIGINAL-URL:https://europebookings.com
X-WR-CALDESC:Events for Europebookings
REFRESH-INTERVAL;VALUE=DURATION:PT1H
X-Robots-Tag:noindex
X-PUBLISHED-TTL:PT1H
BEGIN:VTIMEZONE
TZID:Asia/Nicosia
BEGIN:DAYLIGHT
TZOFFSETFROM:+0200
TZOFFSETTO:+0300
TZNAME:EEST
DTSTART:20180325T010000
END:DAYLIGHT
BEGIN:STANDARD
TZOFFSETFROM:+0300
TZOFFSETTO:+0200
TZNAME:EET
DTSTART:20181028T010000
END:STANDARD
BEGIN:DAYLIGHT
TZOFFSETFROM:+0200
TZOFFSETTO:+0300
TZNAME:EEST
DTSTART:20190331T010000
END:DAYLIGHT
BEGIN:STANDARD
TZOFFSETFROM:+0300
TZOFFSETTO:+0200
TZNAME:EET
DTSTART:20191027T010000
END:STANDARD
BEGIN:DAYLIGHT
TZOFFSETFROM:+0200
TZOFFSETTO:+0300
TZNAME:EEST
DTSTART:20200329T010000
END:DAYLIGHT
BEGIN:STANDARD
TZOFFSETFROM:+0300
TZOFFSETTO:+0200
TZNAME:EET
DTSTART:20201025T010000
END:STANDARD
END:VTIMEZONE
BEGIN:VEVENT
DTSTART;VALUE=DATE:20190713
DTEND;VALUE=DATE:20190715
DTSTAMP:20260423T015805
CREATED:20181206T130148Z
LAST-MODIFIED:20221221T220317Z
UID:17996-1562976000-1563148799@europebookings.com
SUMMARY:Neverland Festival
DESCRIPTION:Neverland Festival is an electronic dance music festival in Landgraaf\, in the Netherlands. With elaborate stage design and costumed fairies roaming the grounds\, this is not your typical festival.  \nCurating a lineup of DJs and producers who know how to get the party started\, the Neverland Festival is about letting loose and having a good time.  \nTaking its name from Peter Pan\, the festival is an immersive experience aimed at pulling you out of your daily routine and into a land free of inhibitions. \nMegaland is a famed outdoor event site\, holding festivals of all kinds throughout the year. \nNeverland Festival 2019 Lineup\nAll ArtistsDr Lektroluv / Nothing But Funk / D-Sturb / Yves Deruyter / DEEP91 / Secret Cinema / Mr. Belt & Wezol / Delete / Benny Rodrigues / Brake / De Sluwe Vos / Dorine Fox / Dsquared / Joost van Bellen / Kaiserdisco / Killshot / La Fuente / Lucas & Steve / Luuk van Dijk / Michel de Hey / ROD / The Bald & The BeautifoolNeverland Festival 2019 Tickets\nTicketsNeverland Festival\nvia FesticketBookAccommodation\nThe city of Landgraaf and nearby areas offer a wide range of accommodation options. Book your stay for Neverland Festival using the map below or visit bookings.com \nBook Hotels & Airbnbs near the Venue at the Lowest Price online!\n\nTravel Info\nBY CAR\nGet DirectionsBY TRAIN\nLandgraaf railway station is accessible from all major cities in the Netherlands and from major European cities\, but require at least one transfer along the way. \nBY PLANE\nThe closest airport is Maastricht Aachen Airport (MST). Upon arrival take the train from Meerssen Station to Landgraaf (30 min journey). \nBook FlightsAirport TransfersCar RentalsTrain/Bus Tickets\nGallery\nRelated Festivals\nParklife Festival\n13 – 15 Jun | Manchester\, UK\nIsle of Wight Festival\n19 Jun – 22 Jun | Newport\, UK\n		\n			\n\n				\n				\n					Search for:
URL:https://europebookings.com/festival/neverland-festival/
LOCATION:Megaland\, Megaland\, Landgraaf\, 6372 XC\, Netherlands
CATEGORIES:EDM,Electronic,House,Techno
ATTACH;FMTTYPE=image/jpeg:https://europebookings.com/wp-content/uploads/neverland-festival-dream-stage-fireworks.jpg
END:VEVENT
END:VCALENDAR