BEGIN:VCALENDAR
VERSION:2.0
PRODID:-//Europebookings - ECPv6.15.20//NONSGML v1.0//EN
CALSCALE:GREGORIAN
METHOD:PUBLISH
X-ORIGINAL-URL:https://europebookings.com
X-WR-CALDESC:Events for Europebookings
REFRESH-INTERVAL;VALUE=DURATION:PT1H
X-Robots-Tag:noindex
X-PUBLISHED-TTL:PT1H
BEGIN:VTIMEZONE
TZID:Asia/Nicosia
BEGIN:DAYLIGHT
TZOFFSETFROM:+0200
TZOFFSETTO:+0300
TZNAME:EEST
DTSTART:20240331T010000
END:DAYLIGHT
BEGIN:STANDARD
TZOFFSETFROM:+0300
TZOFFSETTO:+0200
TZNAME:EET
DTSTART:20241027T010000
END:STANDARD
BEGIN:DAYLIGHT
TZOFFSETFROM:+0200
TZOFFSETTO:+0300
TZNAME:EEST
DTSTART:20250330T010000
END:DAYLIGHT
BEGIN:STANDARD
TZOFFSETFROM:+0300
TZOFFSETTO:+0200
TZNAME:EET
DTSTART:20251026T010000
END:STANDARD
BEGIN:DAYLIGHT
TZOFFSETFROM:+0200
TZOFFSETTO:+0300
TZNAME:EEST
DTSTART:20260329T010000
END:DAYLIGHT
BEGIN:STANDARD
TZOFFSETFROM:+0300
TZOFFSETTO:+0200
TZNAME:EET
DTSTART:20261025T010000
END:STANDARD
END:VTIMEZONE
BEGIN:VEVENT
DTSTART;VALUE=DATE:20250704
DTEND;VALUE=DATE:20250707
DTSTAMP:20260420T024343
CREATED:20200128T102738Z
LAST-MODIFIED:20250225T210115Z
UID:31920-1751587200-1751846399@europebookings.com
SUMMARY:Rampage Open Air
DESCRIPTION:Get TicketsAccommodationTravel Info\nRampage Open Air Festival 2025 is set to return to Lommel\, Belgium\, from July 4-6\, transforming the picturesque Kristalpark into the ultimate hub for drum and bass and dubstep enthusiasts. Renowned as the biggest drum and bass and dubstep festival in the world\, Rampage promises an unparalleled auditory and visual experience. \nOver three days\, attendees can immerse themselves in the high-energy performances of top-tier artists and emerging talents across multiple stages. While the lineup for 2025 is yet to be announced\, past editions have featured renowned acts such as Pendulum\, Noisia\, and Andy C\, ensuring a stellar musical journey. \nWhat sets Rampage Open Air apart is its dedication to creating an immersive festival atmosphere with cutting-edge light shows\, booming sound systems\, and a vibrant community spirit. The festival also offers a variety of activities\, including fair rides and food markets\, making it a comprehensive and exciting event for all music lovers. \n\nRampage Open Air 2025 Lineup\nAll ArtistsAC13 B2B Murdock / Akov B2B TR Tactics / Alycia Bezozo / A.M.C / Amplify B2B Premium / Andy C (3 Hours Set) / Annix / Arcando / Atmos / Atmos B2B Pablo / Audio / Bad Habitz Showcase (Para Rampage) / Badklaat B2B Subfiltronik / Basslayerz / Beastboi / Becky Hill / Bennie B2B Titan / Bianca Oblivion / Bizo / Black Sun Empire / Blankface / Blatemate / Blanko B2B Robitops / Bloodlust / BootyRave / Bossfight / Brendan Casey / Camo & Krooked / Captain Bass / Catz B2B Sync / Ceejay / Changing Faces / Chubby Analog / C-Kid / Codd Dubz B2B Pyke (Live At The Dome) / Darkzy / Daxta / Diagnostix / Dimension / Disrupta / Dirtyphonics / Dirtyphonics B2B Murdock / DLR / DJ Donk / Doctor P / Don Diablo Presents Ctrl Alt Delete / Donkey Rolla / D-Skid / Drumsound & Bassline Smith / Dubtendo / Duke & Bass / Eatbrain 10Y / Ekko & Sidetrack / Emperor / Enei / Eprom / Excision / Explorers Of The Internet / Fade Black / Flavour D / Flashzoe / Flux Pavilion / Gino / Gladde Paling / Georgia Riot / GFP / Glitchterrize / Gray / Hizzleguy / Hixxy / Hoax / HOL! / Hybrid Minds / Imanu B2B What So Not / Infekt / Ironfist B2B Gino / Itsy / [IVY] / J Booker / Jakes / Jeanie / Joker B2B Sir Spyro / Jon Casey / Jub B2B Rof / K Motionz / Kanine / Koven / Lattex / Latte / Levity / Liquid Stranger (Throwback Set) / Little Warrior / Lorna B2B Cyclane / Lowrance / Lucify / Lurka / Macky Gee / Mad Dubz / Mad Habitz Showcase / Madken / Madster / Madstorm / Malaa / Maze / Mc Buju / Mc Mitch / Mc Mota / Mc Mush / Mc Nice / Mc Skywalker / Mc Wolf Pax / Mefjus / Murdock / Mozey / Nativ Visstick / NCT / Neuroheads / Ninja / Nitptpunk / Nokota / Ntox / N-Skid / Original Sin / P0sic / Panka / P0sic / Poke / Primate / Primate Pythius / Prunk / Pythius / Ranja / Ray Volpe / Reaper / Rendah & Jakka / Rezz / Riva / Rivo / Rova / Ruth Royale / S-Dodge / Samplifire / S&D / Sefski / Skepsis / Skantia / Sl8r / Slogans / Solvth / Sound Rush / Sound Rush Presents Journey Through Sound / Stomp / Sub Zero / Subsonic / Sullivan King / Super Glitch / Tailor Jae / Tattond / The Cabal Project / The Reflex / The Saints / The Shapeshifters / The Viper / T & Sugah / T & Sugah B2B Hamro B2B Solvth / Teshnaa / Tins / TNC / T & Sugah / Toktok / Toxate / Trinist / Turno / Upgrade B2B Limited / Vastive / Vegas / Vibe Chemistry / Villain / Vtokk / Volunt Barbariat / Vortex / Wraith / XRTN / Zany / Zero / ZorzaRampage Open Air 2025 Tickets\n1-Day & Weekend Tickets from €38.00 are on sale:\nTickets\nRampage Open Air\nvia Official Site \nBookAccommodation\nCamping during the festival requires a Camping Ticket purchased here. You will need basic camping gear\, like a tent\, a camping pad and a head torch (so useful in the night). \nAlternatively\, you can book nearby hotels and apartments using the map below or visit booking.com \nBook Hotels & Airbnbs near the Venue at the Lowest Price online!\n\nTravel Info\nBY CAR\nGet DirectionsBY TRAIN\nMol Train station is accessible from most European countries. From here\, a shuttle bus will take you to the festival and campsite. \nBY SHUTTLE BUS\nShuttle Bus tickets from Mol Train Station to the Festival site will be available. More info soon: \nBY PLANE\nThe nearest airport is Brussels Airport (BRU). Upon arrival take the IC train to Hasselt (1 hour journey and from there take the 180 bus to Lommel Kerk (50 min journey). \nBook FlightsAirport TransfersCar RentalsTrain/Bus Tickets\nGallery\nRelated Festivals\nEl Dorado Festival\nDates TBA | Ledbury\, UK\nOutlook Origins Festival\nDates TBA | Tisno\, Croatia\n		\n			\n\n				\n				\n					Search for:
URL:https://europebookings.com/festival/rampage-open-air/
LOCATION:Kristalpark\, Balendijk\, Lommel\, 3920\, Belgium
CATEGORIES:Drum & Bass,Dubstep,Electronic
ATTACH;FMTTYPE=image/jpeg:https://europebookings.com/wp-content/uploads/rampage-open-air-festival-main-stage-view.jpg
END:VEVENT
BEGIN:VEVENT
DTSTART;VALUE=DATE:20250712
DTEND;VALUE=DATE:20250713
DTSTAMP:20260420T024344
CREATED:20221014T151930Z
LAST-MODIFIED:20241212T134010Z
UID:62875-1752278400-1752364799@europebookings.com
SUMMARY:Werchter Boutique
DESCRIPTION:Get TicketsAccommodationTravel Info\nWerchter Boutique Festival 2025 – A Day of Pop Brilliance in Belgium \nGet ready for an unforgettable day of music at Werchter Boutique 2025\, taking place on 12th July 2025 at Festivalpark in Werchter\, Belgium. This one-day festival is renowned for hosting top international artists\, and this year is no exception with headliners Imagine Dragons leading the charge. As part of their LOOM World Tour\, the GRAMMY®-winning band will captivate the crowd with hits like “Radioactive\,” “Believer\,” and tracks from their latest album Loom ￼ ￼. \nWerchter Boutique is perfect for those looking to experience world-class pop and rock music in a more intimate setting compared to the larger Rock Werchter. The festival promises incredible performances\, vibrant crowd energy\, and stellar production in a beautiful open-air venue. Additional acts like Declan McKenna will also grace the stage\, ensuring a diverse and engaging musical experience ￼ ￼. \nWith its relaxed yet exciting atmosphere\, Werchter Boutique offers music lovers the perfect summer day out. Whether you’re a dedicated fan of Imagine Dragons or eager to discover new sounds\, this festival is sure to deliver an incredible experience. Tickets are now on sale\, so don’t miss your chance to be part of this magical event!​ \n\nWerchter Boutique 2025 Lineup\nAll ArtistsAlex Warren / Bazart / Declan McKenna / Emma Bale / Imagine Dragons / Jorja Smith / more TBAWerchter Boutique 2025 Tickets\nGeneral Admission & Golden Circle Tickets from €131.00 are on sale:\nTicketsWerchter Boutique\nvia TicketmasterBookAccommodation\nThe city of Rotselaar and nearby areas offer a wide range of accommodation options. Book your stay for Werchter Boutique Festival using the map below or visit booking.com \nBook Hotels & Airbnbs near the Venue at the Lowest Price online!\n\nTravel Info\nBY CAR\nGet DirectionsBY TRAIN\nWerchter is serviced by Bus from nearby Leuven\, which is connected by rail from Brussels and Antwerp. \nBY PLANE\nBrussels Airport (BRU) is the closest to the Festival. From the airport take the train from Brussels Airport – Zaventem to Werchter De Brug (12 min journey) and then take the Bus from Leuven Station to Werchter De Brug (22 min journey)\, 500 meters from the venue. \nBook FlightsAirport TransfersCar RentalsTrain/Bus Tickets\nGallery\nRelated Festivals\nDownload Festival\n12 Jun – 14 Jun | Derby\, UK\nLytham Festival\n1 Jul – 5 Jul | Lytham Green\, UK\n		\n			\n\n				\n				\n					Search for:
URL:https://europebookings.com/festival/werchter-boutique/
LOCATION:Festivalpark Werchter\, Festivalpark Werchter\, Haachtsesteenweg 13/9\, Rotselaar\, 3118\, Belgium
CATEGORIES:Electronic,Pop
ATTACH;FMTTYPE=image/jpeg:https://europebookings.com/wp-content/uploads/werchter-boutique-festival-gorillas.jpg
END:VEVENT
BEGIN:VEVENT
DTSTART;VALUE=DATE:20250716
DTEND;VALUE=DATE:20250721
DTSTAMP:20260420T024344
CREATED:20200915T105925Z
LAST-MODIFIED:20250208T094602Z
UID:41121-1752624000-1753055999@europebookings.com
SUMMARY:Dour Festival
DESCRIPTION:Get TicketsAccommodationTravel Info\nDour Festival 2025 – Belgium’s Ultimate Multi-Genre Music Adventure \nFrom 16th to 20th July 2025\, Dour Festival invites you to experience five days of incredible music and good vibes in the heart of Belgium. Set in the scenic municipality of Dour\, this festival promises an unforgettable escape with over 230 artists performing across eight stages. From electronic beats and rock anthems to hip-hop and reggae rhythms\, Dour Festival’s line-up is as diverse as its audience\, attracting fans from all corners of Europe. \nNot just about music\, Dour Festival is a complete cultural experience. Attendees can enjoy eco-friendly camping\, fantastic food options\, and immersive art installations\, creating a unique atmosphere where creativity thrives. Whether you’re raving to the best techno DJs or relaxing at a laid-back indie performance\, there’s something for every music lover. \nAs one of Europe’s largest and most beloved festivals\, Dour is known for its friendly and inclusive atmosphere. With music playing from noon until the early morning hours\, this is your chance to lose yourself in a world of non-stop entertainment and celebration! \n\nDour Festival 2025 Lineup\nAll ArtistsAdriatique / Action Bronson / ascendant vierge / Azyr / Bru-C / Brutalismus 3000 / Carpenter Brut / Cash Cobain / Caspa b2b Rusko / Charlotte de Witte / Dina Ayada / Folamour / Freeze Corleone / Glints / Hamza / Judeline / La Femme / Last Train / Leto / Marc Rebillet / Marlon Hoffstadt / Maureen / Nemzzz / Nico Moreno / Oboy / Pabllo Vittar / Parcels / Pendulum / Saint Levant / Sara Landry / SDM / Skream & Benga / Stormzy / SVDDEN DEATH / Sylvie Kreusch / Theodora / Wallace Cleaver / Young Nudy / and many moreDour Festival 2025 Tickets\n1-Day & 5-Day Pass Tickets from €75.00 are on sale:\nTickets\nDour Festival\nvia Official Site \nBookAccommodation\nCamping during the festival requires a Camping Ticket purchased here. All you need is basic camping gear\, like a tent\, a camping pad and a head torch (so useful in the night). If you don’t want to bring your own tent\, the festival offers Premium Camping options purchased here \nAlternatively\, you can book nearby hotels and homes using the map below or visit or visit booking.com \nBook Hotels & Airbnbs near the Venue at the Lowest Price online!\n\nTravel Info\nBY CAR\nParking tickets can be purchased here \nGet DirectionsBY BUS\nSeveral bus travel choices will be available from France\, Belgium\, Luxembourg\, Holland\, Switzerland and England and tickets can be purchased here \nBY TRAIN\nYou can easily reach by rail Saint-Ghislain station\, near Dour city\, from major cities in Belgium and neighbouring European cities. From there\, a free shuttle bus will take you to the festival and campsite. \nBY PLANE\nThere are three airports close to Dour.\nFrom Brussels Airport (BRU) take the train to Saint-Ghislain (1h 39 min journey).\nFrom Charleroi Airport (CRL) take the bus to Charleroi-Sud train station – Line A (10 min journey). From there take the train to Saint-Ghislain (43 min journey).\nFrom Lille Airport (LIL) take the bus to Lille Flandres train station (15 min journey). From there take the train to Saint-Ghislain (49 min journey). \nBook FlightsAirport TransfersCar RentalsTrain/Bus Tickets\nGallery\nRelated Festivals\nDownload Festival\n12 Jun – 14 Jun | Derby\, UK\nLytham Festival\n1 Jul – 5 Jul | Lytham Green\, UK\n		\n			\n\n				\n				\n					Search for:
URL:https://europebookings.com/festival/dour-festival/
LOCATION:Dour Festival\, Dour Festival\, Rue d'Elouges\, Dour\, 7370\, Belgium
CATEGORIES:Electronic,Multi-Genre,Pop
ATTACH;FMTTYPE=image/jpeg:https://europebookings.com/wp-content/uploads/dour-festival-stage-lights-show.jpg
END:VEVENT
END:VCALENDAR