BEGIN:VCALENDAR
VERSION:2.0
PRODID:-//Europebookings - ECPv6.15.20//NONSGML v1.0//EN
CALSCALE:GREGORIAN
METHOD:PUBLISH
X-ORIGINAL-URL:https://europebookings.com
X-WR-CALDESC:Events for Europebookings
REFRESH-INTERVAL;VALUE=DURATION:PT1H
X-Robots-Tag:noindex
X-PUBLISHED-TTL:PT1H
BEGIN:VTIMEZONE
TZID:Asia/Nicosia
BEGIN:DAYLIGHT
TZOFFSETFROM:+0200
TZOFFSETTO:+0300
TZNAME:EEST
DTSTART:20250330T010000
END:DAYLIGHT
BEGIN:STANDARD
TZOFFSETFROM:+0300
TZOFFSETTO:+0200
TZNAME:EET
DTSTART:20251026T010000
END:STANDARD
BEGIN:DAYLIGHT
TZOFFSETFROM:+0200
TZOFFSETTO:+0300
TZNAME:EEST
DTSTART:20260329T010000
END:DAYLIGHT
BEGIN:STANDARD
TZOFFSETFROM:+0300
TZOFFSETTO:+0200
TZNAME:EET
DTSTART:20261025T010000
END:STANDARD
BEGIN:DAYLIGHT
TZOFFSETFROM:+0200
TZOFFSETTO:+0300
TZNAME:EEST
DTSTART:20270328T010000
END:DAYLIGHT
BEGIN:STANDARD
TZOFFSETFROM:+0300
TZOFFSETTO:+0200
TZNAME:EET
DTSTART:20271031T010000
END:STANDARD
END:VTIMEZONE
BEGIN:VEVENT
DTSTART;VALUE=DATE:20260702
DTEND;VALUE=DATE:20260706
DTSTAMP:20260419T161104
CREATED:20181104T120412Z
LAST-MODIFIED:20251121T181036Z
UID:16182-1782950400-1783295999@europebookings.com
SUMMARY:Les Ardentes Festival
DESCRIPTION:Get TicketsAccommodationTravel Info\nLes Ardentes Festival 2026 returns to Liège for its landmark 20th edition\, igniting the Rocourt festival grounds with a fusion of hip-hop\, R&B\, afrobeat and electronic energy. As one of Europe’s most iconic urban music events\, Les Ardentes continues to evolve — bringing together global stars\, new-school rappers\, and electrifying live acts for four unforgettable days of rhythm and culture in the heart of Belgium. \nSince its launch in 2006\, the festival has grown from a local event into a continental powerhouse\, drawing over 200\,000 fans each summer. Its reputation for bold\, forward-thinking programming has made it a must-visit destination for lovers of urban and contemporary sounds\, combining top-tier production with a raw\, celebratory atmosphere that defines youth culture across Europe. \nThe 2026 lineup already sets the tone for another historic year\, featuring Aya Nakamura\, Future\, Black Eyed Peas\, and PLK among its first confirmed headliners — with more global acts to follow. Expect a diverse mix of French\, American\, and African artists spanning rap\, pop\, trap\, and dancehall\, ensuring that every stage vibrates with energy from afternoon sets to late-night bangers. \nBeyond the music\, Les Ardentes offers a full festival experience — immersive stage designs\, street food zones\, fashion pop-ups\, and after-parties that keep the vibe alive long after sunset. Its riverside setting in Liège provides the perfect summer escape\, where community\, rhythm\, and culture collide in one massive open-air celebration. \nAs it celebrates two decades of sound and style\, Les Ardentes Festival 2026 stands tall as a symbol of modern youth expression — a place where beats connect generations\, borders fade away\, and every drop of bass becomes a collective roar for the future of music. \n\nLes Ardentes 2026 Lineup\nAll ArtistsFuture / Aya Nakamura / Black Eyed Peas / PLK / and many moreLes Ardentes 2026 Tickets\nTickets\nLes Ardentes Festivalvia Official Site \nBookAccommodation\nCamping during the festival requires a 4-Day Pass + Camping Ticket purchased here. You will need basic camping gear\, like a tent\, a camping pad and a head torch (so useful in the night). \nAlternatively\, you can book nearby hotels and apartments using the map below or visit booking.com \nBook Hotels & Airbnbs near the Venue at the Lowest Price online!\n\nTravel Info\nBY CAR\nGet DirectionsBY PLANE\nLiège International Airport is just a 15 minute taxi ride away from the festival site\, and will generally set you back around €35-40. \nBY TRAIN\nLiège-Guillemins TGV station is accessible from all major cities and towns across Belgium\, as well as Paris\, Cologne and Aachen via Thalys. Once in Liège\, bus line 1 connects the city centre with the festival site\, and festival ticket holders are entitled to one free return journey. \nBook FlightsAirport TransfersCar RentalsTrain/Bus Tickets\nGallery\nRelated Festivals\nAfro Nation Portugal\n9 – 11 Jul | Portimao\, Portugal\nWireless Festival\nDates TBA | London\, UK\n		\n			\n\n				\n				\n					Search for:
URL:https://europebookings.com/festival/les-ardentes/
LOCATION:Parc Astrid\, Quai de Wallonie\, Liège\, 4000\, Belgium
CATEGORIES:Hip Hop,Multi-Genre,Urban
ATTACH;FMTTYPE=image/jpeg:https://europebookings.com/wp-content/uploads/les-ardentes-festival-main-stage-view.jpg
END:VEVENT
BEGIN:VEVENT
DTSTART;VALUE=DATE:20260702
DTEND;VALUE=DATE:20260706
DTSTAMP:20260419T161105
CREATED:20221014T192235Z
LAST-MODIFIED:20251117T214118Z
UID:62916-1782950400-1783295999@europebookings.com
SUMMARY:Rock Werchter
DESCRIPTION:Get TicketsAccommodationTravel Info\nRock Werchter 2026 will once again thunder through the heart of Belgium\, transforming the quiet village of Werchter into a mecca of live music\, passion\, and unity. As one of Europe’s most legendary festivals\, Rock Werchter is more than just a concert weekend — it’s a rite of passage for music lovers\, where generations meet\, genres collide\, and every performance becomes part of rock history. \nSince its inception in 1974\, Rock Werchter has grown from a local one-day event into one of the world’s most respected multi-genre festivals\, renowned for its flawless organisation\, breathtaking production\, and consistently iconic line-ups. From the main stage’s colossal energy to the intimate Club Tent and The Barn\, each corner of the festival pulses with sound and emotion. Over the decades\, the festival has hosted a staggering array of music royalty — from David Bowie\, Metallica\, and Radiohead to Foo Fighters\, Coldplay\, Pearl Jam\, and The Rolling Stones — cementing its reputation as one of the greatest live experiences on earth. \nThe 2026 edition is expected to deliver another era-defining line-up that blends legends with rising stars. While the official roster is yet to be announced\, fans can anticipate an eclectic mix of rock\, indie\, pop\, hip-hop\, and electronic giants. Past editions have featured powerhouse performances by Arctic Monkeys\, Billie Eilish\, The Killers\, Muse\, Queens of the Stone Age\, Florence + The Machine\, Imagine Dragons\, Kendrick Lamar\, Red Hot Chili Peppers\, and Dua Lipa\, setting the bar sky-high for what’s to come. \nBut Rock Werchter’s magic extends far beyond its stages. The festival’s sprawling site in Haacht becomes a global village of over 80\,000 fans\, where Belgian charm meets world-class production. Expect gourmet food stalls\, buzzing campsite parties\, and a festival atmosphere that’s both electric and deeply welcoming. Every sunset over Werchter feels like a shared memory in the making — one soundtracked by anthems that define generations. \nWith its rich heritage\, flawless curation\, and unshakable spirit\, Rock Werchter 2026 promises to be another unforgettable chapter in European music history — a monumental celebration of sound\, soul\, and togetherness where legends are born and memories last a lifetime. \n\nRock Werchter 2026 Lineup\nAll ArtistsThe Cure / Gorillaz / Mumford & Sons / Twenty One Pilots / The XX / and many moreRock Werchter 2026 Tickets\nTicketsRock Werchter\nvia TicketmasterBookAccommodation\nCamping during the festival requires a Camping Ticket purchased here. All you need is basic camping gear\, like a tent\, a camping pad and a head torch (so useful in the night). \nAlternatively\, you can book nearby hotels and apartments using the map below or visit booking.com \nBook Hotels & Airbnbs near the Venue at the Lowest Price online!\n\nTravel Info\nBY CAR\nGet DirectionsBY TRAIN\nWerchter is serviced by Bus from nearby Leuven\, which is connected by rail from Brussels and Antwerp. \nBY PLANE\nBrussels Airport (BRU) is the closest to the Festival. From the airport take the train from Brussels Airport – Zaventem to Werchter De Brug (12 min journey) and then take the Bus from Leuven Station to Werchter De Brug (22 min journey)\, 500 meters from the venue. \nBook FlightsAirport TransfersCar RentalsTrain/Bus Tickets\nGallery\nRelated Festivals\nDownload Festival\n12 Jun – 14 Jun | Derby\, UK\nLytham Festival\n1 Jul – 5 Jul | Lytham Green\, UK\n		\n			\n\n				\n				\n					Search for:
URL:https://europebookings.com/festival/rock-werchter/
LOCATION:Festivalpark Werchter\, Festivalpark Werchter\, Haachtsesteenweg 13/9\, Rotselaar\, 3118\, Belgium
CATEGORIES:Alternative,Hip Hop,Pop,Rock
ATTACH;FMTTYPE=image/jpeg:https://europebookings.com/wp-content/uploads/rock-werchter-festival-stage-lights-show.jpg
END:VEVENT
END:VCALENDAR