BEGIN:VCALENDAR
VERSION:2.0
PRODID:-//Europebookings - ECPv6.15.20//NONSGML v1.0//EN
CALSCALE:GREGORIAN
METHOD:PUBLISH
X-ORIGINAL-URL:https://europebookings.com
X-WR-CALDESC:Events for Europebookings
REFRESH-INTERVAL;VALUE=DURATION:PT1H
X-Robots-Tag:noindex
X-PUBLISHED-TTL:PT1H
BEGIN:VTIMEZONE
TZID:Asia/Nicosia
BEGIN:DAYLIGHT
TZOFFSETFROM:+0200
TZOFFSETTO:+0300
TZNAME:EEST
DTSTART:20250330T010000
END:DAYLIGHT
BEGIN:STANDARD
TZOFFSETFROM:+0300
TZOFFSETTO:+0200
TZNAME:EET
DTSTART:20251026T010000
END:STANDARD
BEGIN:DAYLIGHT
TZOFFSETFROM:+0200
TZOFFSETTO:+0300
TZNAME:EEST
DTSTART:20260329T010000
END:DAYLIGHT
BEGIN:STANDARD
TZOFFSETFROM:+0300
TZOFFSETTO:+0200
TZNAME:EET
DTSTART:20261025T010000
END:STANDARD
BEGIN:DAYLIGHT
TZOFFSETFROM:+0200
TZOFFSETTO:+0300
TZNAME:EEST
DTSTART:20270328T010000
END:DAYLIGHT
BEGIN:STANDARD
TZOFFSETFROM:+0300
TZOFFSETTO:+0200
TZNAME:EET
DTSTART:20271031T010000
END:STANDARD
END:VTIMEZONE
BEGIN:VEVENT
DTSTART;VALUE=DATE:20260710
DTEND;VALUE=DATE:20260713
DTSTAMP:20260419T203234
CREATED:20250101T174307Z
LAST-MODIFIED:20251126T204510Z
UID:82136-1783641600-1783900799@europebookings.com
SUMMARY:Ostend Beach Festival
DESCRIPTION:Get TicketsAccommodationTravel Info\nOstend Beach Festival 2026 returns to the sun-kissed Belgian coast in Ostend — a sandy\, seaside escape where electronic music meets beach vibes for three days of pure summer euphoria. The festival transforms the city’s iconic coastline venues into a vibrant playground of sound\, sea\, and dance\, inviting fans to trade routine for rhythms and salty air under an open sky. \nSince its debut in 2010\, Ostend Beach has carved out a reputation as the go-to beach-festival in Belgium\, blending the energy of club culture with the laid-back charm of the coast. Over the years it has drawn a dedicated crowd of electronic-music lovers\, welcoming top DJs and underground talents alike\, and offering a unique fusion of summer holiday spirit and festival intensity. \nThe 2026 edition is themed “Edge of Paradise” and will take place from 10–12 July\, promising three days of non-stop beats\, beachside stages\, and club take-overs that stretch from sunset into the early hours. \nBeyond the music\, Ostend Beach Festival offers more than just dancefloors. Festival-goers can expect a full seaside experience: beach-side vibes\, coastal breeze\, food and beverage zones\, chill-out areas\, and optional VIP lounges for those wanting to elevate the experience. The atmosphere combines festival energy with Mediterranean-style relaxation\, giving attendees the freedom to party hard or simply soak in the summer mood by the sea. \nWith its coastal magic\, genre-spanning line-ups\, and a proven track record of delivering unforgettable summers\, Ostend Beach Festival 2026 is shaping up to be a must-visit event for fans of electronic music — where sand meets sound\, and every sunset becomes part of the soundtrack. \n\nOstend Beach Festival 2026 Lineup\nLineup to be announced soon: \n2025 Lineup6EJOU / Alignment / Alycia Bezgo / Altura / B2 / Back To Our House Live / Ben Hemsley / Benja / Benji & PFFFER / B-Kay / Brent New / Byørn / Cherry Moon Legends / Dave Lambert / Deco b2b Filston / Denis Sulta / Dimitri Cooman / DJ Ghost / DJ Mathor / Eats Everything / Filston / Flex & Flux / Franky Kloeck / Franky Rizardo / French & Toast / Groove Safari / Gueush / Hawkeys / HUGEL / Johaze / Johaze b2b Pamela Svärt / Jordan John / Jeroen Delodder / Kyle Starkey / Laura Hoogland / Les Soeurs / Luna & Lenthe / Maite Dedecker / Marhu / Marten Lou / Maver / Maxim Lany / Meaghan / Meduza / Michael Amani / Mosoo / Mr. Grammy / Naomi Cazier / Neon / Nickthewzrd b2b Filston / Nico Moreno / Nothing But Funk / Nukov & Yelmet / Nyco / Olympe / Pamela Svärt / Ralpheus / Reinier Zonneveld / Ruby Dee / Team Damp / Tripolism / Youri Parker / ZerbOstend Beach Festival 2026 Tickets\nTicketsOstend Beach Festival\nvia Official SiteBookAccommodation\nCamping during requires a Camping Ticket purchased here. Camping is included only with Combi Tickets. You will need basic camping gear\, like a tent\, a camping pad and a head torch (so useful in the night). \nAlternatively\, you can book nearby hotels and apartments using the map below or visit booking.com \nBook Hotels & Airbnbs near the Venue at the Lowest Price online!\n\nTravel Info\nBY CAR\nPrivate parking spot at €25.00 at Parking Zeedijk\, 100m from the festival area can be purchased here \nGet DirectionsBY TRAIN\nThe closest train station is Ostend\, just a 300m walk to the festival area. \nBY TRAM\nThe most easy way to navigate at the Belgian Coast is the KUSTTRAM. Just take the tram from any seaside town (De Panne – Knokke). Take halt “Oostende-Station”. \nBY BIKE\nThere is a parking for bicycle available near the festival entrance. \nBY PLANE\nFrom Brussels Airport (BRU) take the train to Ostend from the underground train station beneath the airport.\nFrom Oostende-Brugge (OST) take the bus or tram to Ostend Station.\nFrom Lille Airport (LIL) there is a shuttle bus that brings you to the train station Lille Flandres. From there you can take the train to Ostend. \nBook FlightsAirport TransfersCar RentalsTrain/Bus Tickets\nGallery\nRelated Festivals\nKappa Futur Festival\n4 Jul – 6 Jul | Turin\, Italy\nUltra Europe Festival\n11 Jul – 13 Jul | Split\, Croatia\n		\n			\n\n				\n				\n					Search for:
URL:https://europebookings.com/festival/ostend-beach-festival/
LOCATION:Klein Strand\, Klein Strand\, Ostend\, 8400\, Belgium
CATEGORIES:EDM,Electronic,House,Techno
ATTACH;FMTTYPE=image/jpeg:https://europebookings.com/wp-content/uploads/ostend-beach-festival-stage-lights-show.jpg
END:VEVENT
END:VCALENDAR