BEGIN:VCALENDAR
VERSION:2.0
PRODID:-//Europebookings - ECPv6.15.20//NONSGML v1.0//EN
CALSCALE:GREGORIAN
METHOD:PUBLISH
X-WR-CALNAME:Europebookings
X-ORIGINAL-URL:https://europebookings.com
X-WR-CALDESC:Events for Europebookings
REFRESH-INTERVAL;VALUE=DURATION:PT1H
X-Robots-Tag:noindex
X-PUBLISHED-TTL:PT1H
BEGIN:VTIMEZONE
TZID:Asia/Nicosia
BEGIN:DAYLIGHT
TZOFFSETFROM:+0200
TZOFFSETTO:+0300
TZNAME:EEST
DTSTART:20230326T010000
END:DAYLIGHT
BEGIN:STANDARD
TZOFFSETFROM:+0300
TZOFFSETTO:+0200
TZNAME:EET
DTSTART:20231029T010000
END:STANDARD
BEGIN:DAYLIGHT
TZOFFSETFROM:+0200
TZOFFSETTO:+0300
TZNAME:EEST
DTSTART:20240331T010000
END:DAYLIGHT
BEGIN:STANDARD
TZOFFSETFROM:+0300
TZOFFSETTO:+0200
TZNAME:EET
DTSTART:20241027T010000
END:STANDARD
BEGIN:DAYLIGHT
TZOFFSETFROM:+0200
TZOFFSETTO:+0300
TZNAME:EEST
DTSTART:20250330T010000
END:DAYLIGHT
BEGIN:STANDARD
TZOFFSETFROM:+0300
TZOFFSETTO:+0200
TZNAME:EET
DTSTART:20251026T010000
END:STANDARD
END:VTIMEZONE
BEGIN:VEVENT
DTSTART;VALUE=DATE:20241122
DTEND;VALUE=DATE:20241123
DTSTAMP:20260423T030739
CREATED:20210815T223317Z
LAST-MODIFIED:20241004T105618Z
UID:46633-1732233600-1732319999@europebookings.com
SUMMARY:Apokalypsa Festival
DESCRIPTION:Get TicketsAccommodationTravel Info\nApokalypsa Festival 2024 is cancelled. You can read the Festival’s announcement on instagram here \nApokalypsa Festival 2024\, marking the 51st episode of this prestigious techno brand\, is set to transform the Bobycentrum in Brno into a techno haven on 22 November. Known for its long-standing legacy in the techno realm\, Apokalypsa consistently elevates the electronic music experience. \nThis year’s festival promises a lineup brimming with talent\, featuring a diverse array of DJs who masterfully span the spectrum of techno\, from minimal to high-tempo and four-to-the-floor beats. Attendees can expect a sonic journey through the multifaceted world of techno music\, each set offering its own unique pulse and energy. \nBut Apokalypsa Festival is not just about the music. It brings with it high-spec visual production\, creating a fully immersive experience. This 12-hour rave is more than just a gathering; it’s an interstellar adventure\, blending pulsating beats with visually stunning displays. Apokalypsa Festival 2024 in Brno is not just an event; it’s a techno odyssey\, inviting ravers to dive deep into the heart of electronic music culture. \n\nApokalypsa Festival 2024 Lineup\nAll ArtistsAnna Reusch / Black Lotus / Buchecha / Cristian Varela / Dasstudach / Ida Engberg / Kristy Vansen / Loraw / Luke Slater Presents Planetary Assault Systems Live / Marco Bailey / Métaraph / Suburbass / WitheckerApokalypsa Festival 2024 Tickets\nRegular\, VIP & VIP Gold Tickets from €24.90 are on sale:\nTickets\nApokalypsa Festivalvia Official Site \nBookAccommodation\nThe city of Brno offers a wide range of accommodation options. Book your stay for Apokalypsa Festival using the map below or visit booking.com \nBook Hotels & Airbnbs near the Venue at the Lowest Price online!\n\nTravel Info\nBY CAR\nGet DirectionsBY BUS\nBetween 05:30 and 22:30\, bus Line 76 runs every 30 minutes and stopps at the main bus and train stations. Night bus 89 fills the time between 23:00 and 05:00 and there are one or two per hour. A single ticket costs 35 CZK (€1)\, and can be bought from the driver. \nBY TRAM\nOutside the train station\, take tram line 1\, 2 or 4 from Nádrazní (tram stop Hlavní nádrazí) to the Hrncírská stop\, then turn right and walk along Rybnícek. The Bobycentrum is over the road\, passable by the underpass. \nBY TRAIN\nFrom the main train stationin Brno\, the Bobycentrum is just a few minutes journey by tram. \nBook FlightsAirport TransfersCar RentalsTrain/Bus Tickets\nGallery\nRelated Festivals\nKappa Futur Festival\n4 Jul – 6 Jul | Turin\, Italy\nUltra Europe Festival\n11 Jul – 13 Jul | Split\, Croatia\n		\n			\n\n				\n				\n					Search for:
URL:https://europebookings.com/festival/apokalypsa/
LOCATION:Bobycentrum\, Bobycentrum\, Sportovní 559/2A\, Brno\, 60200\, Czech Republic
CATEGORIES:Electronic,Techno
ATTACH;FMTTYPE=image/jpeg:https://europebookings.com/wp-content/uploads/apokalypsa-festival-stage-lights-show.jpg
END:VEVENT
BEGIN:VEVENT
DTSTART;VALUE=DATE:20241129
DTEND;VALUE=DATE:20241130
DTSTAMP:20260423T030739
CREATED:20201128T115301Z
LAST-MODIFIED:20241023T220933Z
UID:42153-1732838400-1732924799@europebookings.com
SUMMARY:X-Massacre Festival
DESCRIPTION:Get TicketsAccommodationTravel Info\nX-Massacre Festival 2024: Enter the Inferno of Hard Music \nPrepare yourself for the wildest night of your life at X-Massacre 2024\, where hard music reigns supreme. Taking place on 29th November at the imposing Gabriel Loci in Prague\, this legendary festival will open the gates to hell with a lineup that pushes the limits of hardcore\, drum & bass\, and hard techno. Whether you’re a veteran raver or someone looking to experience an intense night of music\, X-Massacre delivers a non-stop adrenaline rush from dusk till dawn. \nThis year’s edition features over 38 artists across four distinct stages\, including international heavyweights like Radium\, Gehlektek\, and The Panacea. Each stage offers a unique vibe\, amplified by cutting-edge visual and light shows that make you feel immersed in a dystopian rave paradise. Known for its raw energy\, this festival attracts a dedicated crowd ready to lose themselves in some of the most intense beats the electronic music world has to offer. \nWhat sets X-Massacre apart is not just the lineup but the entire experience. The chilling atmosphere\, combined with top-tier sound systems and jaw-dropping performances\, makes it a must-attend for lovers of the extreme. Tickets sell fast\, so grab yours and join thousands of hardcore fans for an unforgettable night! \n\nX-Massacre Festival 2024 Lineup\nAll Artists\nMain Stage\nJacidorex / Protokseed / Xtech Okupe / Gehlektek / Suburbass / Binary Squad / Dave.LXR & Duff.LXR / Flyp Fermentor / Deilla b2b Raving Zebra \nHard Stage\nHysta / Radium / Spitnoise / Dj Thera / Hungry Beats / Kurwastyle Project / Scarner b2b Redzone / Miraculeux / Randall DNA \nDrums & Bass Stage\nZardonic / The Panacea / Counterstrike / Transforma / Pixie / PRDK / Leduysleduy / Thalassophobia Showcase / EJDM \nTechno / Hardtechno Stage\nClaire Noir / Z.L.O / T-Virus / Matt Ess / Pixie / Substance-D / Randall DNA / FLVPX-Massacre Festival 2024 Tickets\nTickets from CZK 1150.00 (€45.58) are on sale:\nTickets\nX-Massacre Festivalvia Official Site \nBookAccommodation\nThe city of Prague offers a wide range of accommodation options. Book your stay for X-Massacre Festival using the map below or visit booking.com \nBook Hotels & Airbnbs near the Venue at the Lowest Price online!\n\nTravel Info\nBY CAR\nGet DirectionsBY TRAIN\nThe city of Prague is well connected by rain in the Czech Republic and from nearby European cities. From Prague Main Train station take tram number 9 to Anděl station\, just a short taxi ride away from the venue. \nBY PLANE\nFrom Vaclav Havel Airport Prague (PRG) take bus number 119 towards Nádraží Veleslavín. Change at Nádraží Veleslavín to Metro Line A (green line) towards Depo Hostivař. Get off at “Anděl” station\, just a short taxi ride away from the venue. \nBook FlightsAirport TransfersCar RentalsTrain/Bus Tickets\nGallery\nRelated Festivals\nEmporium Festival\n24 May | Wijchen\, Netherlands\nIntents Festival\n30 May – 1 Jun | Oisterwijk\, Netherlands\n		\n			\n\n				\n				\n					Search for:
URL:https://europebookings.com/festival/x-massacre-festival/
LOCATION:Gabriel Loci\, Gabriel Loci\, Holečkova 106/10\, Prague\, 150 00\, Czech Republic
CATEGORIES:Drum & Bass,Electronic,Hardstyle
ATTACH;FMTTYPE=image/jpeg:https://europebookings.com/wp-content/uploads/x-massacre-festival-dream-stage-lights-show.jpg
END:VEVENT
END:VCALENDAR