BEGIN:VCALENDAR
VERSION:2.0
PRODID:-//Europebookings - ECPv6.15.20//NONSGML v1.0//EN
CALSCALE:GREGORIAN
METHOD:PUBLISH
X-WR-CALNAME:Europebookings
X-ORIGINAL-URL:https://europebookings.com
X-WR-CALDESC:Events for Europebookings
REFRESH-INTERVAL;VALUE=DURATION:PT1H
X-Robots-Tag:noindex
X-PUBLISHED-TTL:PT1H
BEGIN:VTIMEZONE
TZID:Asia/Nicosia
BEGIN:DAYLIGHT
TZOFFSETFROM:+0200
TZOFFSETTO:+0300
TZNAME:EEST
DTSTART:20240331T010000
END:DAYLIGHT
BEGIN:STANDARD
TZOFFSETFROM:+0300
TZOFFSETTO:+0200
TZNAME:EET
DTSTART:20241027T010000
END:STANDARD
BEGIN:DAYLIGHT
TZOFFSETFROM:+0200
TZOFFSETTO:+0300
TZNAME:EEST
DTSTART:20250330T010000
END:DAYLIGHT
BEGIN:STANDARD
TZOFFSETFROM:+0300
TZOFFSETTO:+0200
TZNAME:EET
DTSTART:20251026T010000
END:STANDARD
BEGIN:DAYLIGHT
TZOFFSETFROM:+0200
TZOFFSETTO:+0300
TZNAME:EEST
DTSTART:20260329T010000
END:DAYLIGHT
BEGIN:STANDARD
TZOFFSETFROM:+0300
TZOFFSETTO:+0200
TZNAME:EET
DTSTART:20261025T010000
END:STANDARD
END:VTIMEZONE
BEGIN:VEVENT
DTSTART;VALUE=DATE:20250619
DTEND;VALUE=DATE:20250622
DTSTAMP:20260420T011557
CREATED:20200107T233946Z
LAST-MODIFIED:20250207T162045Z
UID:31168-1750291200-1750550399@europebookings.com
SUMMARY:Metronome Festival Prague
DESCRIPTION:Get TicketsAccommodationTravel Info\nMetronome Festival Prague 2025: A Must-Attend Urban Music Experience \nGet ready for Metronome Festival Prague 2025\, happening from June 19-21 in the heart of Prague at Výstaviště Holešovice. Known for its blend of international stars and local Czech talent\, Metronome offers an eclectic lineup spanning rock\, pop\, and electronic genres\, making it one of the city’s most exciting cultural events. \nPast editions have seen unforgettable performances from acts like Iggy Pop\, Foals\, and Massive Attack\, and 2025 promises even more iconic artists and up-and-coming talents. With multiple stages\, interactive art installations\, and a dynamic programme of both music and arts\, there’s something for every festival-goer at Metronome. \nWhat sets Metronome apart is its urban setting\, allowing festival-goers to enjoy world-class music while being minutes away from Prague’s historical and cultural landmarks. Whether you’re a Prague local or visiting from afar\, this festival offers an unmatched opportunity to combine music with exploring one of Europe’s most beautiful cities. Secure your tickets now for an unforgettable weekend! \n\nMetronome Festival Prague 2025 Lineup\nAll ArtistsAlanis Morissette / Rag’n’Bone Man / Die Antwoord / Aneta Langerová / Barbora Poláková / Klára Vytisková / Rufus Miller / Sara James / Peach Tinted / Maella / and many moreMetronome Festival Prague 2025 Tickets\n1-Day & 3-Day Pass Tickets from €69.00 are on sale:\nTicketsMetronome Festival\nvia Official SiteBookAccommodation\nThe city of Prague offers a wide range of accommodation options. Book your stay for Metronome Festival using the map below or visit booking.com \nBook Hotels & Airbnbs near the Venue at the Lowest Price online!\n\nTravel Info\nBY CAR\nGet DirectionsBY TRAIN\nPrague is well connected via rail to the rest of the Czech Republic and neighbouring Europe. You can reach the venue via tram lines 12 or 17. \nBY PLANE\nThe nearest airport is Václav Havel Airport Prague (PRG). Upon arrival take the Airport Express shuttle bus service to the city centre (35 min journey). Tram lines 12 or 17 will take you near the Venue. \nBook FlightsAirport TransfersCar RentalsTrain/Bus Tickets\nGallery\nRelated Festivals\nDownload Festival\n12 Jun – 14 Jun | Derby\, UK\nLytham Festival\n1 Jul – 5 Jul | Lytham Green\, UK\n		\n			\n\n				\n				\n					Search for:
URL:https://europebookings.com/festival/metronome-festival-prague/
LOCATION:Výstaviště Praha Holešovice\, Výstaviště 67\, Prague\, 170 90\, Czech Republic
CATEGORIES:Electronic,Multi-Genre,Rock
ATTACH;FMTTYPE=image/jpeg:https://europebookings.com/wp-content/uploads/metronome-festival-prague-fans-dancing.jpg
END:VEVENT
END:VCALENDAR